Workbook

Sheet Úvodní list
B1: Po vybrání příslušného ORG (čtyřmístné číslo) ze seznamu budou údaje "Oblast poskytování služeb", "Název příspěvkové organizace", "Sídlo - adresa" a "IČ" automaticky vygenerovány. V případě, že došlo ke změně názvu PO, adresy a tato skutečnost nebyla promítnuta do databáze PO je možno tuto skutečnost uvést pod hlavičkou PO (viz Pozn.).Tyto údaje budou dále přeneseny do následujících tabulek v rámci poznámky.
C7: Příspěvkové organizace zřizované Olomouckým krajem
D10: Roční rozpočet -podrobný rozpis rozpočtu na rok 2024
D12: Náklady a výnosy příspěvkové organizace
D13: Tabulka č.1 - Hlavní činnost
D14: Tabulka č.2 - Doplňková činnost
D15: Tabulka č.3 - Rekapitulace
C16: Oblast poskytování služeb | F16: =IF(F20="", "BUDE VYGENEROVÁNO",VLOOKUP(F20,základ!A4:E148,5)) -> Oblast školství, Okres Olomouc
C17: Název příspěvkové organizace | F17: =IF(F20="","BUDE VYGENEROVÁNO",VLOOKUP(F20,základ!A4:E148,2)) -> Dům dětí a mládeže Vila Tereza, Uničov
C18: Sídlo -adresa | F18: =IF(F20="","BUDE VYGENEROVÁNO",VLOOKUP(F20,základ!A4:E148,3)) -> Nádražní 530, 783 91 Uničov
C19: IČ | F19: =IF(F20="","BUDE VYGENEROVÁNO",VLOOKUP(F20,základ!A4:E148,4)) -> 47654392
C20: ORG | F20: 1352
C21: Pozn. :
C24: Výkaz vyplnil: | D24: Jméno a příjmení | F24: Gabriela Konečná
D25: Telefon | F25: 585051156
D26: E-mail | F26: konecna@ddm-unicov.cz
D27: Datum | F27: 45338
C30: Schválil: | D30: Jméno a příjmení | F30: Mgr.Dagmar Smitalová

Sheet základ
A1: ORG | B1: Název příspěvkové organizace | C1: Údaje opraveny k 10.10.2022 (poslední změna Zastup. 27.6.2022), změna na základě upozornění PO 14.10.22, změna SPŠE a OA Mohelnice na Střední průmyslovou školu elektrotechniky a informatiky Mohelnice,od 1.9.2023, změna Ostrůvek od 1.1,2024 (oblast sociální)
C2: Adresa | D2: IČ | E2: Oblast
A4: 1001 | B4: Mateřská škola Olomouc, Blanická 16 | C4: Blanická 471/16, Hodolany, 779 00 Olomouc | D4: 66181500 | E4: Oblast školství, Okres Olomouc | F4: Změna v sídle PO, dle Rejstříku škol Zastupitelstvo 14.2.2022 -původní adresa Blanická 16, 772 00 Olomouc- nové sídlo: 779 00 Olomouc, Hodolany, Blanická 471/16
A5: 1012 | B5: Základní škola a Mateřská škola logopedická Olomouc | C5: tř. Svornosti 900/37, Nová Ulice, 779 00 Olomouc | D5: 00601683 | E5: Oblast školství, Okres Olomouc | F5: Změna v sídle PO, dle Rejstříku škol Zastupitelstvo 14.2.2022 -původní adresa třída Svornosti 37/900, 779 00 Olomouc- nové sídlo: 779 00 Olomouc, Nová Ulice, tř. Svornosti 900/37
A6: 1015 | B6: Střední škola, Základní škola a Mateřská škola prof. V. Vejdovského Olomouc - Hejčín | C6: Tomkova 411/42, Hejčín, 779 00 Olomouc | D6: 00601691 | E6: Oblast školství, Okres Olomouc | F6: Změna v sídle PO, dle Rejstříku škol Zastupitelstvo 14.2.2022 -původní adresa Tomkova 42, 779 00 Olomouc - nové sídlo: 779 00 Olomouc, Hejčín, Tomkova 411/42
A7: 1016 | B7: Střední škola, Základní škola a Mateřská škola Prostějov, Komenského 10 | C7: Komenského 80/10, 796 01 Prostějov | D7: 47921374 | E7: Oblast školství, Okres Prostějov | F7: Adresa - doplněna na základě kontroly na ZL.
A8: 1017 | B8: Dětský domov a Školní jídelna Prostějov | C8: Lidická 3313/86, 796 01 Prostějov | D8: 47922265 | E8: Oblast školství, Okres Prostějov | F8: Změna v sídle PO, dle Rejstříku škol Zastupitelstvo 14.2.2022 -původní adresa Lidická 86, 796 01 Prostějov - nové sídlo: 796 01 Prostějov, Lidická 3313/86
A9: 1022 | B9: Základní škola a Mateřská škola při lázních, Velké Losiny | C9: Lázeňská 240, 788 15 Velké Losiny | D9: 70626561 | E9: Oblast školství, Okres Šumperk
A10: 1024 | B10: Střední škola, Základní škola a Mateřská škola Mohelnice, Masarykova 4 | C10: Masarykova 434/4, 789 85 Mohelnice | D10: 60341777 | E10: Oblast školství, Okres Šumperk | F10: Změna v sídle PO, dle Rejstříku škol Zastupitelstvo 14.2.2022 -původní adresa Masarykova 4, 789 85 Mohelnice - nové sídlo: 789 85 Mohelnice, Masarykova 434/4
A11: 1025 | B11: Základní škola a Mateřská škola při Priessnitzových léčebných lázních a.s., Jeseník | C11: Kalvodova 360/66, 790 01 Jeseník | D11: 68911921 | E11: Oblast školství, Okres Jeseník | F11: Změna v sídle PO, dle Rejstříku škol Zastupitelstvo 14.2.2022 -původní adresa Kalvodova 360, 790 03 Jeseník - nové sídlo: 790 01 Jeseník, Kalvodova 360/66
A12: 1026 | B12: Základní škola a Mateřská škola při Sanatoriu Edel Zlaté Hory | C12: Lázeňská 491, 793 76 Zlaté Hory | D12: 68911947 | E12: Oblast školství, Okres Jeseník
A13: 1032 | B13: Základní škola Šternberk, Olomoucká 76 | C13: Olomoucká 2098/76, 785 01 Šternberk | D13: 61989789 | E13: Oblast školství, Okres Olomouc | F13: Změna v sídle PO, dle Rejstříku škol Zastupitelstvo 14.2.2022 -původní adresa Olomoucká 76/2098, 785 01 Šternberk - nové sídlo: 785 01 Šternberk, Olomoucká 2098/76
A14: 1033 | B14: Základní škola Uničov, Šternberská 456 | C14: Šternberská 456, 783 91 Uničov | D14: 61989762 | E14: Oblast školství, Okres Olomouc
A15: 1034 | B15: Základní škola, Dětský domov a Školní jídelna Litovel | C15: Palackého 938/30a, 784 01 Litovel | D15: 61989771 | E15: Oblast školství, Okres Olomouc | F15: Změna v sídle PO, dle Rejstříku škol Zastupitelstvo 14.2.2022 -původní adresa Palackého 938, 784 01 Litovel - nové sídlo:784 01 Litovel, Palackého 938/30a
A16: 1036 | B16: Základní škola a Mateřská škola Hranice, Studentská 1095 | C16: Studentská 1095, Hranice I-Město, 753 01 Hranice | D16: 61985988 | E16: Oblast školství, Okres Přerov | F16: Změna v sídle PO, dle Rejstříku škol Zastupitelstvo 14.2.2022 -původní adresa Studentská 1095, 753 01 Hranice - nové sídlo: 7753 01 Hranice, Hranice I-Město, Studentská 1095
A17: 1037 | B17: Střední škola, Základní škola a Mateřská škola Přerov, Malá Dlážka 4 | C17: Malá Dlážka 589/4, Přerov I-Město, 750 05 Přerov | D17: 49558978 | E17: Oblast školství, Okres Přerov | F17: Změna v sídle PO, dle Rejstříku škol Zastupitelstvo 14.2.2022 -původní adresa Malá Dlážka 4, 750 05 Přerov - nové sídlo: 750 02 Přerov, Přerov I-Město, Malá Dlážka 589/4
A18: 1038 | B18: Střední škola, Základní škola a Mateřská škola Lipník nad Bečvou, Osecká 301 | C18: Osecká 301/2, Lipník nad Bečvou I-Město, 751 31 Lipník nad Bečvou | D18: 61985953 | E18: Oblast školství, Okres Přerov | F18: Změna v sídle PO, dle Rejstříku škol Zastupitelstvo 14.2.2022 -původní adresa Osecká 301, 751 31 Lipník nad Bečvou - nové sídlo: 751 31 Lipník nad Bečvou, Lipník nad Bečvou I-Město, Osecká 301/2
A19: 1040 | B19: Střední škola, Základní škola a Mateřská škola Šumperk, Hanácká 3 | C19: Hanácká 145/3, 787 01 Šumperk | D19: 49589768 | E19: Oblast školství, Okres Šumperk | F19: Změna v sídle PO, dle Rejstříku škol Zastupitelstvo 14.2.2022 -původní adresa Hanácká 3, 787 01 Šumperk - nové sídlo: 787 01 Šumperk, Hanácká 145/3
A20: 1041 | B20: Střední škola, Základní škola, Mateřská škola a Dětský domov Zábřeh | C20: Sušilova 1912/40, 789 01 Zábřeh | D20: 49589725 | E20: Oblast školství, Okres Šumperk | F20: Změna v sídle PO, dle Rejstříku škol Zastupitelstvo 14.2.2022 -původní adresa Sušilova 40, 789 01 Zábřeh - nové sídlo: 789 01 Zábřeh, Sušilova 1912/40
A21: 1043 | B21: Základní škola a Mateřská škola Jeseník, Fučíkova 312 | C21: Fučíkova 312/10, 790 01 Jeseník | D21: 68911513 | E21: Oblast školství, Okres Jeseník | F21: Změna v sídle PO, dle Rejstříku škol Zastupitelstvo 14.2.2022 -původní adresa Fučíkova 312, 790 01 Jeseník- nové sídlo: 790 01 Jeseník, Fučíkova 312/10
A22: 1100 | B22: Gymnázium Jana Opletala, Litovel, Opletalova 189 | C22: Opletalova 189/4, 784 01 Litovel | D22: 00601772 | E22: Oblast školství, Okres Olomouc | F22: Změna v sídle PO, dle Rejstříku škol Zastupitelstvo 14.2.2022 -původní adresa Opletalova 189, 784 01 Litovel- nové sídlo: 784 01 Litovel, Opletalova 189/4
A23: 1101 | B23: Gymnázium, Olomouc, Čajkovského 9 | C23: Čajkovského 68/9, Nová Ulice, 779 00 Olomouc | D23: 00848956 | E23: Oblast školství, Okres Olomouc | F23: Změna v sídle PO, dle Rejstříku škol Zastupitelstvo 14.2.2022 -původní adresa Čajkovského 9, 779 00 Olomouc- nové sídlo: 7779 00 Olomouc, Nová Ulice, Čajkovského 68/9
A24: 1102 | B24: Slovanské gymnázium, Olomouc, tř. Jiřího z Poděbrad 13 | C24: Jiřího z Poděbrad 936/13, 779 00 Olomouc | D24: 00601781 | E24: Oblast školství, Okres Olomouc | F24: Změna v sídle PO, dle Rejstříku škol Zastupitelstvo 14.2.2022 -původní tř. Jiřího z Poděbrad 13,779 00 Olomouc- nové sídlo: 779 00 Olomouc, Jiřího z Poděbrad 936/13
A25: 1103 | B25: Gymnázium, Olomouc - Hejčín, Tomkova 45 | C25: Tomkova 314/45, Hejčín, 779 00 Olomouc | D25: 00601799 | E25: Oblast školství, Okres Olomouc | F25: Změna v sídle PO, dle Rejstříku škol Zastupitelstvo 14.2.2022 -původní adresa Tomkova 45, 779 00 Olomouc- nové sídlo: 779 00 Olomouc, Hejčín, Tomkova 314/45
A26: 1104 | B26: Gymnázium, Šternberk, Horní náměstí 5 | C26: Horní náměstí 167/5, 785 01 Šternberk | D26: 00601764 | E26: Oblast školství, Okres Olomouc | F26: Změna v sídle PO, dle Rejstříku škol Zastupitelstvo 14.2.2022 -původní adresa Horní náměstí 5, 785 01 Šternberk- nové sídlo: 785 01 Šternberk, Horní náměstí 167/5
A27: 1105 | B27: Gymnázium, Uničov, Gymnazijní 257 | C27: Gymnazijní 257, 783 91 Uničov | D27: 00601756 | E27: Oblast školství, Okres Olomouc
A28: 1106 | B28: Gymnázium Jiřího Wolkera, Prostějov, Kollárova 3 | C28: Kollárova 2602/3, 796 01 Prostějov | D28: 47922206 | E28: Oblast školství, Okres Prostějov | F28: Změna v sídle PO, dle Rejstříku škol Zastupitelstvo 14.2.2022 -původní adresa Kollárova 3, 796 01 Prostějov nové sídlo 796 01 Prostějov, Kollárova 2602/3
A29: 1108 | B29: Gymnázium Jakuba Škody, Přerov, Komenského 29 | C29: Komenského 800/29, Přerov I-Město, 750 02 Přerov | D29: 00842966 | E29: Oblast školství, Okres Přerov | F29: Změna v sídle PO, dle Rejstříku škol Zastupitelstvo 14.2.2022 -původní adresa Komenského 29, 750 11 Přerov- nový název 750 02 Přerov, Přerov I-Město, Komenského 800/29
A30: 1109 | B30: Gymnázium, Hranice, Zborovská 293 | C30: Zborovská 293, Hranice I-Město, 753 01 Hranice | D30: 70259909 | E30: Oblast školství, Okres Přerov | F30: Změna v sídle PO, dle Rejstříku škol Zastupitelstvo 14.2.2022 -původní adresa Zborovská 293, 753 11 Hranice- nové sídlo: 753 01 Hranice, Hranice I-Město, Zborovská 293
A31: 1110 | B31: Gymnázium, Kojetín, Svatopluka Čecha 683 | C31: Svatopluka Čecha 683, Kojetín I-Město, 752 01 Kojetín | D31: 70259861 | E31: Oblast školství, Okres Přerov | F31: Změna v sídle PO, dle Rejstříku škol Zastupitelstvo 14.2.2022 -původní adresa Svatopluka Čecha 683, 752 01 Kojetín- nové sídlo: 752 01 Kojetín, Kojetín I-Město, Svatopluka Čecha 683
A32: 1111 | B32: Gymnázium, Šumperk, Masarykovo náměstí 8 | C32: Masarykovo náměstí 1207/8, 787 01 Šumperk | D32: 49589792 | E32: Oblast školství, Okres Šumperk | F32: Změna v sídle PO, dle Rejstříku škol Zastupitelstvo 14.2.2022 -původní adresa Masarykovo náměstí 8, 787 58 Šumperk- nové sídlo: 787 01 Šumperk, Masarykovo náměstí 1207/8
A33: 1112 | B33: Gymnázium, Zábřeh, náměstí Osvobození 20 | C33: náměstí Osvobození 257/20, 789 01 Zábřeh | D33: 49589687 | E33: Oblast školství, Okres Šumperk | F33: Změna v sídle PO, dle Rejstříku škol Zastupitelstvo 14.2.2022 -původní adresa náměstí Osvobození 20, 789 01 Zábřeh- nové sídlo:789 01 Zábřeh, náměstí Osvobození 257/20
A34: 1113 | B34: Gymnázium, Jeseník, Komenského 281 | C34: Komenského 281/3, 790 01 Jeseník | D34: 60045141 | E34: Oblast školství, Okres Jeseník | F34: Změna v sídle PO, dle Rejstříku škol Zastupitelstvo 14.2.2022 -původní adresa Komenského 281, 790 01 Jeseník - nové sídlo:790 01 Jeseník, Komenského 281/3
A35: 1120 | B35: Vyšší odborná škola a Střední průmyslová škola elektrotechnická, Olomouc, Božetěchova 3 | C35: Božetěchova 755/3, Hodolany, 779 00 Olomouc | D35: 00844012 | E35: Oblast školství, Okres Olomouc | F35: Adresa - doplněna na základě kontroly na ZL.
A36: 1121 | B36: Střední průmyslová škola strojnická Olomouc | C36: 17. listopadu 995/49, 779 00 Olomouc | D36: 00601748 | E36: Oblast školství, Okres Olomouc
A37: 1122 | B37: Střední průmyslová škola a Střední odborné učiliště Uničov | C37: Školní 164, 783 91 Uničov | D37: 00601730 | E37: Oblast školství, Okres Olomouc
A38: 1123 | B38: Střední škola zemědělská a zahradnická, Olomouc, U Hradiska 4 | C38: U Hradiska 7/4, Klášterní Hradisko, 779 00 Olomouc | D38: 00602035 | E38: Oblast školství, Okres Olomouc | F38: Adresa - doplněna na základě kontroly na ZL.
A39: 1125 | B39: Střední škola designu a módy, Prostějov | C39: Vápenice 2986/1, 796 01 Prostějov | D39: 47922061 | E39: Oblast školství, Okres Prostějov | F39: Změna v sídle PO, dle Rejstříku škol Zastupitelstvo 14.2.2022 -původní adresa Vápenice 1, 796 62 Prostějov- nové sídlo: 796 01 Prostějov, Vápenice 2986/1
A40: 1126 | B40: Střední odborná škola průmyslová a Střední odborné učiliště strojírenské, Prostějov, Lidická 4 | C40: Lidická 1686/4, 796 01 Prostějov | D40: 69650721 | E40: Oblast školství, Okres Prostějov
A41: 1127 | B41: Švehlova střední škola polytechnická Prostějov | C41: nám. Spojenců 2555/17, 796 01 Prostějov | D41: 00566896 | E41: Oblast školství, Okres Prostějov | F41: Změna v sídle PO, dle Rejstříku škol Zastupitelstvo 14.2.2022 -původní adresa nám. Spojenců 17, 796 01 Prostějov- nové sídlo: 796 01 Prostějov, nám. Spojenců 2555/17
...

Sheet Hlavní činnost
B1: Tabulka č.1-Hlavní činnost
B2: ='Úvodní list'!D10 -> Roční rozpočet -podrobný rozpis rozpočtu na rok 2024 | P2: ORG: | Q2: =IF('Úvodní list'!F20=0,"Nevyplněn úvodní list",'Úvodní list'!F20) -> 1352
C3: Název příspěvkové organizace: | E3: =IF('Úvodní list'!F17=0,"Nevyplněn úvodní list",'Úvodní list'!F17) -> Dům dětí a mládeže Vila Tereza, Uničov
D4: ='Úvodní list'!C21 -> Pozn. :
B5: Náklady a výnosy PO | G5: Hlavní činnost / v Kč zaokrouhleno na tis. Kč- bez deset. místa /
H6: název hlav. činnosti / ORJ
H7: využití volného času - domy dětí a mládeže
B8: Název účetní položky | D8: ÚZ | E8: SÚ | F8: AÚ | G8: celkem | H8: 111
B9: A.Náklady celkem - účtová tř. 5 | G9: =G10+G146+G150+G152 -> 10456000 | H9: =H10+H146+H150+H152 -> 10456000 | I9: =I10+I146+I150+I152 -> 0 | J9: =J10+J146+J150+J152 -> 0 | K9: =K10+K146+K150+K152 -> 0 | L9: =L10+L146+L150+L152 -> 0 | M9: =M10+M146+M150+M152 -> 0 | N9: =N10+N146+N150+N152 -> 0 | ... Q9: =Q10+Q146+Q150+Q152 -> 0
B10: I. Náklady z činnosti | G10: =G11+G33+G39+G40+G41+G45+G46+G52+G60+G64+G65+G66+G98+G104+G108+G111+G118+G121+G122+G127+G128+G129+G132+G137+G138+G139+G140 -> 10456000 | H10: =H11+H33+H39+H40+H41+H45+H46+H52+H60+H64+H65+H66+H98+H104+H108+H111+H118+H121+H122+H127+H128+H129+H132+H137+H138+H139+H140 -> 10456000 | I10: =I11+I33+I39+I40+I41+I45+I46+I52+I60+I64+I65+I66+I98+I104+I108+I111+I118+I122+I127+I128+I129+I132+I137+I138+I139+I140 -> 0 | J10: =J11+J33+J39+J40+J41+J45+J46+J52+J60+J64+J65+J66+J98+J104+J108+J111+J118+J121+J122+J127+J128+J129+J132+J137+J138+J139+J140 -> 0 | K10: =K11+K33+K39+K40+K41+K45+K46+K52+K60+K64+K65+K66+K98+K104+K108+K111+K118+K121+K122+K127+K128+K129+K132+K137+K138+K139+K140 -> 0 | L10: =L11+L33+L39+L40+L41+L45+L46+L52+L60+L64+L65+L66+L98+L104+L108+L111+L118+L121+L122+L127+L128+L129+L132+L137+L138+L139+L140 -> 0 | M10: =M11+M33+M39+M40+M41+M45+M46+M52+M60+M64+M65+M66+M98+M104+M108+M111+M118+M121+M122+M127+M128+M129+M132+M137+M138+M139+M140 -> 0 | N10: =N11+N33+N39+N40+N41+N45+N46+N52+N60+N64+N65+N66+N98+N104+N108+N111+N118+N121+N122+N127+N128+N129+N132+N137+N138+N139+N140 -> 0 | O10: =O11+O33+O39+O40+O41+O45+O46+O52+O60+O64+O65+O66+O98+O104+O108+O111+O118+O121+O122+O127+O128+O129+O132+O137+O138+O139+O140 -> 0 | P10: =P11+P33+P39+P40+P41+P45+P46+P52+P60+P64+P65+P66+P98+P104+P108+P111+P118+P121+P122+P127+P128+P129+P132+P137+P138+P139+P140 -> 0 | Q10: =Q11+Q33+Q39+Q40+Q41+Q45+Q46+Q52+Q60+Q64+Q65+Q66+Q98+Q104+Q108+Q111+Q118+Q121+Q122+Q127+Q128+Q129+Q132+Q137+Q138+Q139+Q140 -> 0
B11: Spotřeba materiálu | E11: 501 | G11: =SUM(G12:G32) -> 523000 | H11: =SUM(H12:H32) -> 523000 | I11: =SUM(I12:I32) -> 0 | J11: =SUM(J12:J32) -> 0 | K11: =SUM(K12:K32) -> 0 | L11: =SUM(L12:L32) -> 0 | M11: =SUM(M12:M32) -> 0 | N11: =SUM(N12:N32) -> 0 | ... Q11: =SUM(Q12:Q32) -> 0
B12: z toho: | C12: potraviny pro klienty, žáky | E12: 501 | F12: 030X | G12: =SUM(H12:Q12) -> 120000 | H12: 120000
C13: potraviny pro zaměstnance | F13: 036X | G13: =SUM(H13:Q13) -> 0 | H13: 0
C14: potraviny pro ostatní | F14: 037X | G14: =SUM(H14:Q14) -> 0 | H14: 0
C15: ochranné pomůcky ( pro žáky a nad rámec zákona o dani z příjmů), prádlo, oděv, obuv pod hranicí (není zařazeno na účet 028) | F15: 031X | G15: =SUM(H15:Q15) -> 0 | H15: 0
C16: léky a zdravotnický materiál | F16: 040X | G16: =SUM(H16:Q16) -> 3000 | H16: 3000
C17: učebnice a bezplatně poskytované školní potřeby | F17: 032X | G17: =SUM(H17:Q17) -> 0 | H17: 0
C18: knihy, učební pomůcky, tisk (není zařazeno na účtu 028) - pořizované v souladu s právními předpisy) | F18: 033X | G18: =SUM(H18:Q18) -> 0 | H18: 0
C19: knihy, učební pomůcky, tisk (není zařazeno na účtu 028) - ostatní | F19: 034X | G19: =SUM(H19:Q19) -> 30000 | H19: 30000
C20: DDHM pod hranicí (není zařazeno na účet 028) | F20: 035X | G20: =SUM(H20:Q20) -> 50000 | H20: 50000
C21: materiál pro pracovní terapii | F21: 050X | G21: =SUM(H21:Q21) -> 0 | H21: 0
C22: technické a mediciální plyny | F22: 051X | G22: =SUM(H22:Q22) -> 0 | H22: 0
C23: pevná paliva a kapalná paliva (agregáty…) | F23: 060X | G23: =SUM(H23:Q23) -> 0 | H23: 0
C24: pohonné hmoty a maziva (dopravní prostředky) | F24: 061X | G24: =SUM(H24:Q24) -> 15000 | H24: 15000
... C31: dopravní značení SSOK | F31: 047X | G31: =SUM(H31:Q31) -> 0 | H31: 0
C32: ostatní | G32: =SUM(H32:Q32) -> 0 | H32: 0
B33: Spotřeba energie | E33: 502 | G33: =SUM(G34:G38) -> 680000 | H33: =SUM(H34:H38) -> 680000 | I33: =SUM(I34:I38) -> 0 | J33: =SUM(J34:J38) -> 0 | K33: =SUM(K34:K38) -> 0 | L33: =SUM(L34:L38) -> 0 | M33: =SUM(M34:M38) -> 0 | N33: =SUM(N34:N38) -> 0 | ... Q33: =SUM(Q34:Q38) -> 0
B34: z toho: | C34: vodné a stočné, včetně srážkové vody | E34: 502 | F34: 030X | G34: =SUM(H34:Q34) -> 50000 | H34: 50000
C35: teplo a pára | F35: 031X | G35: =SUM(H35:Q35) -> 480000 | H35: 480000
C36: plyn (ne mediciální) | F36: 032X | G36: =SUM(H36:Q36) -> 0 | H36: 0
C37: elektrická energie | F37: 033X | G37: =SUM(H37:Q37) -> 150000 | H37: 150000
C38: ostatní | G38: =SUM(H38:Q38) -> 0 | H38: 0
B39: Spotřeba jiných neskladovaných dodávek | E39: 503 | G39: =SUM(H39:Q39) -> 0 | H39: 0
B40: Prodané zboží | E40: 504 | G40: =SUM(H40:Q40) -> 0 | H40: 0
B41: Aktivace dlouhodobého majetku | E41: 506 | G41: =SUM(G42:G44) -> 0 | H41: =SUM(H42:H44) -> 0 | I41: =SUM(I42:I44) -> 0 | J41: =SUM(J42:J44) -> 0 | K41: =SUM(K42:K44) -> 0 | L41: =SUM(L42:L44) -> 0 | M41: =SUM(M42:M44) -> 0 | N41: =SUM(N42:N44) -> 0 | ... Q41: =SUM(Q42:Q44) -> 0
B42: z toho: | C42: aktivace dlouhodobého hmotného majetku | E42: 506 | F42: 030X | G42: =SUM(H42:Q42) -> 0 | H42: 0
C43: aktivace dlouhodobého nehmotného majetku | F43: 031X | G43: =SUM(H43:Q43) -> 0 | H43: 0
C44: ostatní | G44: =SUM(H44:Q44) -> 0 | H44: 0
B45: Aktivace oběžného majetku | E45: 507 | G45: =SUM(H45:Q45) -> 0 | H45: 0
B46: Změna stavu zásob vlastní výroby | E46: 508 | G46: =SUM(G47:G51) -> 0 | H46: =SUM(H47:H51) -> 0 | I46: =SUM(I47:I51) -> 0 | J46: =SUM(J47:J51) -> 0 | K46: =SUM(K47:K51) -> 0 | L46: =SUM(L47:L51) -> 0 | M46: =SUM(M47:M51) -> 0 | N46: =SUM(N47:N51) -> 0 | ... Q46: =SUM(Q47:Q51) -> 0
...

Sheet Doplňková činnost
B1: Tabulka č.2-Doplňková činnost
B2: ='Úvodní list'!D10 -> Roční rozpočet -podrobný rozpis rozpočtu na rok 2024 | U2: ORG: | V2: =IF('Úvodní list'!F20=0,"Nevyplněn úvodní list",'Úvodní list'!F20) -> 1352
C3: Název příspěvkové organizace: | E3: =IF('Úvodní list'!F17=0,"Nevyplněn úvodní list",'Úvodní list'!F17) -> Dům dětí a mládeže Vila Tereza, Uničov
D4: ='Úvodní list'!C21 -> Pozn. :
B5: Náklady a výnosy PO | G5: Doplňková činnost / v Kč zaokrouhleno na tis. Kč- bez deset. místa /
H6: název činnosti (dle zřizovací listiny)
H7: pronájem nemovitého majetku
B8: Název účetní položky | D8: ÚZ | E8: SÚ | F8: AÚ | G8: celkem | H8: 131
B9: A.Náklady celkem - účtová tř. 5 | G9: =G10+G146+G150+G152 -> 48000 | H9: =H10+H146+H150+H152 -> 48000 | I9: =I10+I146+I150+I152 -> 0 | J9: =J10+J146+J150+J152 -> 0 | K9: =K10+K146+K150+K152 -> 0 | L9: =L10+L146+L150+L152 -> 0 | M9: =M10+M146+M150+M152 -> 0 | N9: =N10+N146+N150+N152 -> 0 | ... V9: =V10+V146+V150+V152 -> 0
B10: I. Náklady z činnosti | G10: =G11+G33+G39+G40+G41+G45+G46+G52+G60+G64+G65+G66+G98+G104+G108+G111+G118+G121+G122+G127+G128+G129+G132+G137+G138+G139+G140 -> 48000 | H10: =H11+H33+H39+H40+H41+H45+H46+H52+H60+H64+H65+H66+H98+H104+H108+H111+H118+H121+H122+H127+H128+H129+H132+H137+H138+H139+H140 -> 48000 | I10: =I11+I33+I39+I40+I41+I45+I46+I52+I60+I64+I65+I66+I98+I104+I108+I111+I118+I121+I122+I127+I128+I129+I132+I137+I138+I139+I140 -> 0 | J10: =J11+J33+J39+J40+J41+J45+J46+J52+J60+J64+J65+J66+J98+J104+J108+J111+J118+J121+J122+J127+J128+J129+J132+J137+J138+J139+J140 -> 0 | K10: =K11+K33+K39+K40+K41+K45+K46+K52+K60+K64+K65+K66+K98+K104+K108+K111+K118+K121+K122+K127+K128+K129+K132+K137+K138+K139+K140 -> 0 | L10: =L11+L33+L39+L40+L41+L45+L46+L52+L60+L64+L65+L66+L98+L104+L108+L111+L118+L121+L122+L127+L128+L129+L132+L137+L138+L139+L140 -> 0 | M10: =M11+M33+M39+M40+M41+M45+M46+M52+M60+M64+M65+M66+M98+M104+M108+M111+M118+M121+M122+M127+M128+M129+M132+M137+M138+M139+M140 -> 0 | N10: =N11+N33+N39+N40+N41+N45+N46+N52+N60+N64+N65+N66+N98+N104+N108+N111+N118+N121+N122+N127+N128+N129+N132+N137+N138+N139+N140 -> 0 | ... V10: =V11+V33+V39+V40+V41+V45+V46+V52+V60+V64+V65+V66+V98+V104+V108+V111+V118+V121+V122+V127+V128+V129+V132+V137+V138+V139+V140 -> 0
B11: Spotřeba materiálu | E11: 501 | G11: =SUM(G12:G32) -> 1000 | H11: =SUM(H12:H32) -> 1000 | I11: =SUM(I12:I32) -> 0 | J11: =SUM(J12:J32) -> 0 | K11: =SUM(K12:K32) -> 0 | L11: =SUM(L12:L32) -> 0 | M11: =SUM(M12:M32) -> 0 | N11: =SUM(N12:N32) -> 0 | ... V11: =SUM(V12:V32) -> 0
B12: z toho: | C12: potraviny pro klienty, žáky | E12: 501 | F12: 000X | G12: =SUM(H12:V12) -> 0 | H12: 0
C13: potraviny pro zaměstnance | F13: 009X | G13: =SUM(H13:V13) -> 0 | H13: 0
C14: potraviny pro ostatní | F14: 010X | G14: =SUM(H14:V14) -> 0 | H14: 0
C15: ochranné pomůcky ( pro žáky a nad rámec zákona o dani z příjmů), prádlo, oděv, obuv pod hranicí (není zařazeno na účet 028) | F15: 001X | G15: =SUM(H15:V15) -> 0 | H15: 0
C16: léky a zdravotnický materiál | F16: 002X | G16: =SUM(H16:V16) -> 0 | H16: 0
C17: učebnice a bezplatně poskytované školní potřeby | F17: 003X | G17: =SUM(H17:V17) -> 0 | H17: 0
C18: knihy, učební pomůcky, tisk (není zařazeno na účtu 028) - pořizované v souladu s právními předpisy) | F18: 004X | G18: =SUM(H18:V18) -> 0 | H18: 0
C19: knihy, učební pomůcky, tisk (není zařazeno na účtu 028) - ostatní | F19: 005X | G19: =SUM(H19:V19) -> 0 | H19: 0
C20: DDHM pod hranicí (není zařazeno na účet 028) | F20: 006X | G20: =SUM(H20:V20) -> 0 | H20: 0
C21: materiál pro pracovní terapii | F21: 007X | G21: =SUM(H21:V21) -> 0 | H21: 0
C22: technické a mediciální plyny | F22: 008X | G22: =SUM(H22:V22) -> 0 | H22: 0
C23: pevná paliva a kapalná paliva (agregáty…) | F23: 011X | G23: =SUM(H23:V23) -> 0 | H23: 0
C24: pohonné hmoty a maziva (dopravní prostředky) | F24: 012X | G24: =SUM(H24:V24) -> 0 | H24: 0
... C31: dopravní značení SSOK | F31: 019X | G31: =SUM(H31:V31) -> 0 | H31: 0
C32: ostatní | G32: =SUM(H32:V32) -> 0 | H32: 0
B33: Spotřeba energie | E33: 502 | G33: =SUM(G34:G38) -> 4000 | H33: =SUM(H34:H38) -> 4000 | I33: =SUM(I34:I38) -> 0 | J33: =SUM(J34:J38) -> 0 | K33: =SUM(K34:K38) -> 0 | L33: =SUM(L34:L38) -> 0 | M33: =SUM(M34:M38) -> 0 | N33: =SUM(N34:N38) -> 0 | ... V33: =SUM(V34:V38) -> 0
B34: z toho: | C34: vodné a stočné, včetně srážkové vody | E34: 502 | F34: 000X | G34: =SUM(H34:V34) -> 1000 | H34: 1000
C35: teplo a pára | F35: 001X | G35: =SUM(H35:V35) -> 2000 | H35: 2000
C36: plyn (ne mediciální) | F36: 002X | G36: =SUM(H36:V36) -> 0 | H36: 0
C37: elektrická energie | F37: 003X | G37: =SUM(H37:V37) -> 1000 | H37: 1000
C38: ostatní | G38: =SUM(H38:V38) -> 0 | H38: 0
B39: Spotřeba jiných neskladovaných dodávek | E39: 503 | G39: =SUM(H39:V39) -> 0 | H39: 0
B40: Prodané zboží | E40: 504 | G40: =SUM(H40:V40) -> 0 | H40: 0
B41: Aktivace dlouhodobého majetku | E41: 506 | G41: =SUM(G42:G44) -> 0 | H41: =SUM(H42:H44) -> 0 | I41: =SUM(I42:I44) -> 0 | J41: =SUM(J42:J44) -> 0 | K41: =SUM(K42:K44) -> 0 | L41: =SUM(L42:L44) -> 0 | M41: =SUM(M42:M44) -> 0 | N41: =SUM(N42:N44) -> 0 | ... V41: =SUM(V42:V44) -> 0
B42: z toho: | C42: aktivace dlouhodobého hmotného majetku | E42: 506 | F42: 000X | G42: =SUM(H42:V42) -> 0 | H42: 0
C43: aktivace dlouhodobého nehmotného majetku | F43: 001X | G43: =SUM(H43:V43) -> 0 | H43: 0
C44: ostatní | G44: =SUM(H44:V44) -> 0 | H44: 0
B45: Aktivace oběžného majetku | E45: 507 | G45: =SUM(H45:V45) -> 0 | H45: 0
B46: Změna stavu zásob vlastní výroby | E46: 508 | G46: =SUM(G47:G51) -> 0 | H46: =SUM(H47:H51) -> 0 | I46: =SUM(I47:I51) -> 0 | J46: =SUM(J47:J51) -> 0 | K46: =SUM(K47:K51) -> 0 | L46: =SUM(L47:L51) -> 0 | M46: =SUM(M47:M51) -> 0 | N46: =SUM(N47:N51) -> 0 | ... V46: =SUM(V47:V51) -> 0
...

Sheet Rekapitulace
B2: ='Úvodní list'!D10 -> Roční rozpočet -podrobný rozpis rozpočtu na rok 2024 | I2: ORG: | J2: =IF('Úvodní list'!F20=0,"Nevyplněn úvodní list",'Úvodní list'!F20) -> 1352
C3: Název příspěvkové organizace: | E3: =IF('Úvodní list'!F17=0,"Nevyplněn úvodní list",'Úvodní list'!F17) -> Dům dětí a mládeže Vila Tereza, Uničov
B4: ='Úvodní list'!C21 -> Pozn. :
B5: Náklady a výnosy PO | H5: / v Kč zaokrouhleno na tis. Kč - bez deset. místa /
J6: Celkem
H7: Hlavní činnost | I7: Doplňková činnost
B8: Název účetní položky | D8: ÚZ | E8: SÚ | F8: AÚ | G8: AÚ
B9: A.Náklady celkem - účtová tř. 5 | H9: ='Hlavní činnost'!G9 -> 10456000 | I9: ='Doplňková činnost'!G9 -> 48000 | J9: =I9+H9 -> 10504000
B10: I. Náklady z činnosti | H10: ='Hlavní činnost'!G10 -> 10456000 | I10: ='Doplňková činnost'!G10 -> 48000 | J10: =I10+H10 -> 10504000
B11: Spotřeba materiálu | E11: 501 | H11: ='Hlavní činnost'!G11 -> 523000 | I11: ='Doplňková činnost'!G11 -> 1000 | J11: =I11+H11 -> 524000
B12: z toho: | C12: potraviny pro klienty, žáky | E12: 501 | F12: 030X | G12: 000X | H12: ='Hlavní činnost'!G12 -> 120000 | I12: ='Doplňková činnost'!G12 -> 0 | J12: =I12+H12 -> 120000
C13: potraviny pro zaměstnance | F13: 036X | G13: 009X | H13: ='Hlavní činnost'!G13 -> 0 | I13: ='Doplňková činnost'!G13 -> 0 | J13: =I13+H13 -> 0
C14: potraviny pro ostatní | F14: 037X | G14: 010X | H14: ='Hlavní činnost'!G14 -> 0 | I14: ='Doplňková činnost'!G14 -> 0 | J14: =I14+H14 -> 0
C15: ochranné pomůcky ( pro žáky a nad rámec zákona o dani z příjmů), prádlo, oděv, obuv pod hranicí (není zařazeno na účet 028) | F15: 031X | G15: 001X | H15: ='Hlavní činnost'!G15 -> 0 | I15: ='Doplňková činnost'!G15 -> 0 | J15: =I15+H15 -> 0
C16: léky a zdravotnický materiál | F16: 040X | G16: 002X | H16: ='Hlavní činnost'!G16 -> 3000 | I16: ='Doplňková činnost'!G16 -> 0 | J16: =I16+H16 -> 3000
C17: učebnice a bezplatně poskytované školní potřeby | F17: 032X | G17: 003X | H17: ='Hlavní činnost'!G17 -> 0 | I17: ='Doplňková činnost'!G17 -> 0 | J17: =I17+H17 -> 0
C18: knihy, učební pomůcky, tisk (není zařazeno na účtu 028) - pořizované v souladu s právními předpisy) | F18: 033X | G18: 004X | H18: ='Hlavní činnost'!G18 -> 0 | I18: ='Doplňková činnost'!G18 -> 0 | J18: =I18+H18 -> 0
C19: knihy, učební pomůcky, tisk (není zařazeno na účtu 028) - ostatní | F19: 034X | G19: 005X | H19: ='Hlavní činnost'!G19 -> 30000 | I19: ='Doplňková činnost'!G19 -> 0 | J19: =I19+H19 -> 30000
C20: DDHM pod hranicí (není zařazeno na účet 028) | F20: 035X | G20: 006X | H20: ='Hlavní činnost'!G20 -> 50000 | I20: ='Doplňková činnost'!G20 -> 0 | J20: =I20+H20 -> 50000
C21: materiál pro pracovní terapii | F21: 050X | G21: 007X | H21: ='Hlavní činnost'!G21 -> 0 | I21: ='Doplňková činnost'!G21 -> 0 | J21: =I21+H21 -> 0
C22: technické a mediciální plyny | F22: 051X | G22: 008X | H22: ='Hlavní činnost'!G22 -> 0 | I22: ='Doplňková činnost'!G22 -> 0 | J22: =I22+H22 -> 0
C23: pevná paliva a kapalná paliva (agregáty…) | F23: 060X | G23: 011X | H23: ='Hlavní činnost'!G23 -> 0 | I23: ='Doplňková činnost'!G23 -> 0 | J23: =I23+H23 -> 0
C24: pohonné hmoty a maziva (dopravní prostředky) | F24: 061X | G24: 012X | H24: ='Hlavní činnost'!G24 -> 15000 | I24: ='Doplňková činnost'!G24 -> 0 | J24: =I24+H24 -> 15000
... C31: dopravní značení SSOK | F31: 047X | G31: 019X | H31: ='Hlavní činnost'!G31 -> 0 | I31: ='Doplňková činnost'!G31 -> 0 | J31: =I31+H31 -> 0
C32: ostatní | H32: ='Hlavní činnost'!G32 -> 0 | I32: ='Doplňková činnost'!G32 -> 0 | J32: =I32+H32 -> 0
B33: Spotřeba energie | E33: 502 | H33: ='Hlavní činnost'!G33 -> 680000 | I33: ='Doplňková činnost'!G33 -> 4000 | J33: =I33+H33 -> 684000
B34: z toho: | C34: vodné a stočné, včetně srážkové vody | E34: 502 | F34: 030X | G34: 000X | H34: ='Hlavní činnost'!G34 -> 50000 | I34: ='Doplňková činnost'!G34 -> 1000 | J34: =I34+H34 -> 51000
C35: teplo a pára | F35: 031X | G35: 001X | H35: ='Hlavní činnost'!G35 -> 480000 | I35: ='Doplňková činnost'!G35 -> 2000 | J35: =I35+H35 -> 482000
C36: plyn (ne mediciální) | F36: 032X | G36: 002X | H36: ='Hlavní činnost'!G36 -> 0 | I36: ='Doplňková činnost'!G36 -> 0 | J36: =I36+H36 -> 0
C37: elektrická energie | F37: 033X | G37: 003X | H37: ='Hlavní činnost'!G37 -> 150000 | I37: ='Doplňková činnost'!G37 -> 1000 | J37: =I37+H37 -> 151000
C38: ostatní | H38: ='Hlavní činnost'!G38 -> 0 | I38: ='Doplňková činnost'!G38 -> 0 | J38: =I38+H38 -> 0
B39: Spotřeba jiných neskladovaných dodávek | E39: 503 | H39: ='Hlavní činnost'!G39 -> 0 | I39: ='Doplňková činnost'!G39 -> 0 | J39: =I39+H39 -> 0
B40: Prodané zboží | E40: 504 | H40: ='Hlavní činnost'!G40 -> 0 | I40: ='Doplňková činnost'!G40 -> 0 | J40: =I40+H40 -> 0
B41: Aktivace dlouhodobého majetku | E41: 506 | H41: ='Hlavní činnost'!G41 -> 0 | I41: ='Doplňková činnost'!G41 -> 0 | J41: =I41+H41 -> 0
B42: z toho: | C42: aktivace dlouhodobého hmotného majetku | E42: 506 | F42: 030X | G42: 000X | H42: ='Hlavní činnost'!G42 -> 0 | I42: ='Doplňková činnost'!G42 -> 0 | J42: =I42+H42 -> 0
C43: aktivace dlouhodobého nehmotného majetku | F43: 031X | G43: 001X | H43: ='Hlavní činnost'!G43 -> 0 | I43: ='Doplňková činnost'!G43 -> 0 | J43: =I43+H43 -> 0
C44: ostatní | H44: ='Hlavní činnost'!G44 -> 0 | I44: ='Doplňková činnost'!G44 -> 0 | J44: =I44+H44 -> 0
B45: Aktivace oběžného majetku | E45: 507 | H45: ='Hlavní činnost'!G45 -> 0 | I45: ='Doplňková činnost'!G45 -> 0 | J45: =I45+H45 -> 0
B46: Změna stavu zásob vlastní výroby | E46: 508 | H46: ='Hlavní činnost'!G46 -> 0 | I46: ='Doplňková činnost'!G46 -> 0 | J46: =I46+H46 -> 0
B47: z toho: | C47: změna stavu nedokončené výroby | E47: 508 | F47: 030X | G47: 000X | H47: ='Hlavní činnost'!G47 -> 0 | I47: ='Doplňková činnost'!G47 -> 0 | J47: =I47+H47 -> 0
...

Sheet Pokyny 
A1: Pokyny pro vyplňování tabulek :
B2: 1. | C2: V jednotlivých listech formuláře vyplňujeme pouze bílá políčka !
B3: 2. | C3: Po vybrání příslušného ORG (čtyřmístné číslo) ze seznamu budou údaje "Oblast poskytování služeb", "Název příspěvkové organizace", "Sídlo - adresa" a "IČ" automaticky vygenerovány. Identifikačních údaje /název zařízení, adresa, IČ atd. / budou automaticky přeneseny do navazujících tabulek. ORG je možno vyplnit i ručně.
B12: V případě, že došlo ke změně názvu PO, adresy a tato skutečnost nebyla promítnuta do databáze PO je možno tuto skutečnost uvést pod hlavičkou PO (viz Pozn.). Tento údaj bude následně přenesen i do navazujících tabulek v rámci poznámky.
B29: 3. | C29: Rozpis rozpočtu je sestaven v Kč zaokrouhlených na tis. Kč (tj. 25,325 tis. Kč bude v rozpisu SR uvedeno jako 25 000 Kč). NEUVÁDÉT ÚDAJE NA DESET. MÍSTA. Výjimkou je údaj průměrný přepočtený počet pracovníků (na 2 deset. místa).
B30: 4. | C30: Příspěvkové organizace ze sociální oblasti sestavují svůj rozpočet dle jednotlivých poskytovaných služeb (např. domovy se zvláštním režimem, domovy pro seniory, atd..). Do políček Tabulky č. 1 - Hlavní činnost vyplňte do názvu hlavní činnosti (řádek č. 7) název poskytované služby a do řádku pod uvedením názvu služby vyplňte číslo ORJ označující službu (řádek č. 8).
C31: Příspěvkové organizace za oblast školství sestavují rozpis rozpočtu dle uvedených ORJ, včetně prostředků z MŠMT. Do políček Tabulky č. 1 - Hlavní činnost vyplňte nejprve do názvu hlavní činnosti (řádek č. 7) název příslušného ORJ a do řádku pod uvedením názvu vyplňte číslo ORJ (řádek č. 8). V případě příspěvkových organizací z oblasti školství proveďte rozpis rozpočtu pouze na jedno ORJ (bez ohledu, na to zda se jedná o prostředky z rozpočtu OK, MŠMT nebo vlastní zdroje).
C32: Příspěvkové organizace za oblast zdravotnictví sestavují rozpis rozpočtu dle jednotlivých poskytovaných služeb (např. Následná lůžková péče, Rehabilitační léčebna, atd..). Do políček Tabulky č. 1 - Hlavní činnost vyplňte nejprve do názvu hlavní činnosti (řádek č. 7) název poskytované služby a do řádku pod uvedením názvu vyplňte číslo ORJ označující danou službu (řádek č. 8).
C33: Příspěvkové organizace z kulturní oblasti sestavují svůj rozpočet dle jednotlivých objektů (např. pro Vlastivědné muzeum v Olomouci bude text k objektu - nám. Republiky, Olomouc, atd..). Do políček Tabulky č. 1 - Hlavní činnost vyplňte nejprve do názvu hlavní činnosti (řádek č. 7) název příslušného ORJ dle jednotlivých objektů a do řádku pod uvedením názvu vyplňte číslo ORJ (řádek č.8).
C35: Příspěvková organizace SSOK sestaví svůj rozpočet dle jednotlivých středisek. Do políček Tabulky č.1 - Hlavní činnost vyplňte nejprve do názvu hlavní činnosti (řádek č. 7) název příslušného ORJ dle jednotlivých středisek a do řádku pod uvedením názvu vyplňte číslo ORJ (řádek č. 8).
B37: 5. | C37: V případě doplňkové činnosti je třeba rozpočet rozepsat dle jednotlivých doplňkových činností, tak jak jsou uvedeny ve zřizovací listině příspěvkové organizace. PO uvádí pouze ty doplňkové činnosti, které budou v roce 2024 skutečně realizovány.
B38: 6. | C38: U příspěvkových organizací z oblasti sociální a dopravy bylo ORJ pro rok 2023 rozšířeno o další ORJ, a to o ostatní nespecifikované činnosti - hlavní činnost a ostatní činnosti - doplňková činnost.
B39: 7. | C39: Tabulka list "rekapitulace" je pouze součtová a z tohoto důvodu je uzamčená. Do uvedené tabulky se přenáší automaticky Vaše data z předchozích listů.
B40: 8. | C40: Zpracovaný rozpis rozpočtu na rok 2024 zašlete na věcně příslušný odbor, dle zaslaných pokynů.
C41: Při zpracování rozpisu schváleného rozpočtu je třeba dodržet závazné ukazatele schválené Zastupitelstvem Olomouckého kraje. Pouze z důvodů uvedených ve směrnici upravující vztahy OK a zřizovaných PO a vybrané povinnosti ředitelů PO je možno tyto závazné ukazatele překročit. Tuto skutečnost uvede příspěvková organizace v komentáři.
B44: 9. | C44: Příspěvková organizace zpracuje k rozpisu rozpočtu na rok 2024 komentář k účtu 501 - nákup materiálu; 518 - Ostatní služby; 558 - Náklady z drobného dlouhodobého majetku, a to v případě řádku "ostatní". Komentář je třeba zpracovat u rozpočtovaných částek nad 100 tis. Kč.
B45: 10. | C45: Ve směrnici č. 8/2021 upravující vztah Olomouckého kraje a zřizovaných PO a vybrané povinnosti ředitelů PO účinné od 1.3.2023 jsou vymezena pravidla pro investiční činnost př. opravy realizované příspěvkovou organizací (hranice 200 tis. Kč). Účinnost směrnice od 1.3.2022.
C46: Uvedená směrnice má dopad do kategorií v oblasti účtu 511:
C47: Původní kategorie účtu 511 - opravy a udržování nemovitého majetku do 100 tis. Kč; nemovitého majetku od 100 tis. do 500 tis. Kč; nemovitého majteku nad 500 tis.Kč nahrazeny ketogoriemi - opravy a udržování nemovitého majetku do 200 tis. Kč; nemovitého majetku nad 200 tis. Kč. Ostatní kategorie účtu 511 jsou ponechány beze změny.
C49: Účet 511 - opravy a udržování nemovitého majetku do 100 tis. Kč (AU 034X, 004X) nahrazen účtem 511 - opravy a udržování nemovitého majetku do 200 tis. Kč (AU 034X, 004X) (viz Tabulka Hlavní činnost, Tabulka Doplňková činnost, Tabulka Rekapitulace)
C51: Účet 511 - opravy a udržování nemovitého majetku od 100 tis. Kč do 500 tis. Kč (AU 030X, 000X) a nemovitého majetku nad 500 tis. Kč (AU 031X, 001X) nahrazen účtem 511 - opravy a udržování nemovitého majetku nad 200 tis. Kč (AU 030X, 031X, 000X, 001X) (viz Tabulka Hlavní činnost, Tabulka Doplňková činnost, Tabulka Rekapitulace).
B52: 11. | C52: Směrnicí č. 3/2022, kterou byla novelizovaná směrnice č.8/2022, došlo v návaznosti na rostoucí ceny energií příspěvkových organizací k vyčlenění účelového příspěvku na úhradu spotřeby plynu příspěvkových organizací (UZ 00 311) a spotřeby elektrické energie (UZ 00 312). Jedná se o účelově určené finanční prostředky. V návaznosti na účelově určený příspěvek PO je ze strany zřizovatele stanoven pro PO i závazný ukazatel, a to limit spotřeby plynu, limit spotřeby elektrické energie a limit spotřeby tepla.
A56: Technické údaje:
B57: - funkce skrýt přebytečné sloupce (Tabulka č. 1 Hlavní činnost, Tabulka č. 2 Doplňková činnost)
C58: v případě, že tabulka obsahuje větší počet sloupců, než příspěvková organizace potřebuje, je možno tyto skrýt (myší si ve sl. skrýt sloupce označím počet sloupců (změní barvu), pravým tlačítkem myši kliknu na "žlutě" zvýrazněnou lištu a použiji funkci skrýt (pravá strana myši). V případě že potřebuji tyto sloupce opět rozbalit postupuji stejně pouze použiji funkci zobrazit (viz. příklad)
A66: Příklad:
A67: 1. Označím počet sloupců (sl. H až sl. M)
A81: 2. Pravým tlačítkem myši kliknout na zvýrazněné sloupce a použít funkci skrýt (pravá strana myši)
A95: 3. Tabulka se skrytými sloupci
