Workbook

Sheet Úvodní list
B1: Po vybrání příslušného ORG (čtyřmístné číslo) ze seznamu budou údaje "Oblast poskytování služeb", "Název příspěvkové organizace", "Sídlo - adresa" a "IČ" automaticky vygenerovány. V případě, že došlo ke změně názvu PO, adresy a tato skutečnost nebyla promítnuta do databáze PO je možno tuto skutečnost uvést pod hlavičkou PO (viz Pozn.).Tyto údaje budou dále přeneseny do následujících tabulek v rámci poznámky.
C7: Příspěvkové organizace zřizované Olomouckým krajem
D10: Roční rozpočet -podrobný rozpis rozpočtu na rok 2024
D12: Náklady a výnosy příspěvkové organizace
D13: Tabulka č.1 - Hlavní činnost
D14: Tabulka č.2 - Doplňková činnost
D15: Tabulka č.3 - Rekapitulace
C16: Oblast poskytování služeb | F16: =IF(F20="", "BUDE VYGENEROVÁNO",VLOOKUP(F20,základ!A4:E148,5)) -> Oblast školství, Okres Olomouc
C17: Název příspěvkové organizace | F17: =IF(F20="","BUDE VYGENEROVÁNO",VLOOKUP(F20,základ!A4:E148,2)) -> Dům dětí a mládeže Vila Tereza, Uničov
C18: Sídlo -adresa | F18: =IF(F20="","BUDE VYGENEROVÁNO",VLOOKUP(F20,základ!A4:E148,3)) -> Nádražní 530, 783 91 Uničov
C19: IČ | F19: =IF(F20="","BUDE VYGENEROVÁNO",VLOOKUP(F20,základ!A4:E148,4)) -> 47654392
C20: ORG | F20: 1352
C21: Pozn. :
C24: Výkaz vyplnil: | D24: Jméno a příjmení | F24: Gabriela Konečná
D25: Telefon | F25: 585051156
D26: E-mail | F26: konecna@ddm-unicov.cz
D27: Datum | F27: 45338
C30: Schválil: | D30: Jméno a příjmení | F30: Mgr.Dagmar Smitalová

Sheet základ
A1: ORG | B1: Název příspěvkové organizace | C1: Údaje opraveny k 10.10.2022 (poslední změna Zastup. 27.6.2022), změna na základě upozornění PO 14.10.22, změna SPŠE a OA Mohelnice na Střední průmyslovou školu elektrotechniky a informatiky Mohelnice,od 1.9.2023, změna Ostrůvek od 1.1,2024 (oblast sociální)
C2: Adresa | D2: IČ | E2: Oblast
A4: 1001 | B4: Mateřská škola Olomouc, Blanická 16 | C4: Blanická 471/16, Hodolany, 779 00 Olomouc | D4: 66181500 | E4: Oblast školství, Okres Olomouc | F4: Změna v sídle PO, dle Rejstříku škol Zastupitelstvo 14.2.2022 -původní adresa Blanická 16, 772 00 Olomouc- nové sídlo: 779 00 Olomouc, Hodolany, Blanická 471/16
A5: 1012 | B5: Základní škola a Mateřská škola logopedická Olomouc | C5: tř. Svornosti 900/37, Nová Ulice, 779 00 Olomouc | D5: 00601683 | E5: Oblast školství, Okres Olomouc | F5: Změna v sídle PO, dle Rejstříku škol Zastupitelstvo 14.2.2022 -původní adresa třída Svornosti 37/900, 779 00 Olomouc- nové sídlo: 779 00 Olomouc, Nová Ulice, tř. Svornosti 900/37
A6: 1015 | B6: Střední škola, Základní škola a Mateřská škola prof. V. Vejdovského Olomouc - Hejčín | C6: Tomkova 411/42, Hejčín, 779 00 Olomouc | D6: 00601691 | E6: Oblast školství, Okres Olomouc | F6: Změna v sídle PO, dle Rejstříku škol Zastupitelstvo 14.2.2022 -původní adresa Tomkova 42, 779 00 Olomouc - nové sídlo: 779 00 Olomouc, Hejčín, Tomkova 411/42
A7: 1016 | B7: Střední škola, Základní škola a Mateřská škola Prostějov, Komenského 10 | C7: Komenského 80/10, 796 01 Prostějov | D7: 47921374 | E7: Oblast školství, Okres Prostějov | F7: Adresa - doplněna na základě kontroly na ZL.
A8: 1017 | B8: Dětský domov a Školní jídelna Prostějov | C8: Lidická 3313/86, 796 01 Prostějov | D8: 47922265 | E8: Oblast školství, Okres Prostějov | F8: Změna v sídle PO, dle Rejstříku škol Zastupitelstvo 14.2.2022 -původní adresa Lidická 86, 796 01 Prostějov - nové sídlo: 796 01 Prostějov, Lidická 3313/86
A9: 1022 | B9: Základní škola a Mateřská škola při lázních, Velké Losiny | C9: Lázeňská 240, 788 15 Velké Losiny | D9: 70626561 | E9: Oblast školství, Okres Šumperk
A10: 1024 | B10: Střední škola, Základní škola a Mateřská škola Mohelnice, Masarykova 4 | C10: Masarykova 434/4, 789 85 Mohelnice | D10: 60341777 | E10: Oblast školství, Okres Šumperk | F10: Změna v sídle PO, dle Rejstříku škol Zastupitelstvo 14.2.2022 -původní adresa Masarykova 4, 789 85 Mohelnice - nové sídlo: 789 85 Mohelnice, Masarykova 434/4
A11: 1025 | B11: Základní škola a Mateřská škola při Priessnitzových léčebných lázních a.s., Jeseník | C11: Kalvodova 360/66, 790 01 Jeseník | D11: 68911921 | E11: Oblast školství, Okres Jeseník | F11: Změna v sídle PO, dle Rejstříku škol Zastupitelstvo 14.2.2022 -původní adresa Kalvodova 360, 790 03 Jeseník - nové sídlo: 790 01 Jeseník, Kalvodova 360/66
A12: 1026 | B12: Základní škola a Mateřská škola při Sanatoriu Edel Zlaté Hory | C12: Lázeňská 491, 793 76 Zlaté Hory | D12: 68911947 | E12: Oblast školství, Okres Jeseník
A13: 1032 | B13: Základní škola Šternberk, Olomoucká 76 | C13: Olomoucká 2098/76, 785 01 Šternberk | D13: 61989789 | E13: Oblast školství, Okres Olomouc | F13: Změna v sídle PO, dle Rejstříku škol Zastupitelstvo 14.2.2022 -původní adresa Olomoucká 76/2098, 785 01 Šternberk - nové sídlo: 785 01 Šternberk, Olomoucká 2098/76
A14: 1033 | B14: Základní škola Uničov, Šternberská 456 | C14: Šternberská 456, 783 91 Uničov | D14: 61989762 | E14: Oblast školství, Okres Olomouc
A15: 1034 | B15: Základní škola, Dětský domov a Školní jídelna Litovel | C15: Palackého 938/30a, 784 01 Litovel | D15: 61989771 | E15: Oblast školství, Okres Olomouc | F15: Změna v sídle PO, dle Rejstříku škol Zastupitelstvo 14.2.2022 -původní adresa Palackého 938, 784 01 Litovel - nové sídlo:784 01 Litovel, Palackého 938/30a
A16: 1036 | B16: Základní škola a Mateřská škola Hranice, Studentská 1095 | C16: Studentská 1095, Hranice I-Město, 753 01 Hranice | D16: 61985988 | E16: Oblast školství, Okres Přerov | F16: Změna v sídle PO, dle Rejstříku škol Zastupitelstvo 14.2.2022 -původní adresa Studentská 1095, 753 01 Hranice - nové sídlo: 7753 01 Hranice, Hranice I-Město, Studentská 1095
A17: 1037 | B17: Střední škola, Základní škola a Mateřská škola Přerov, Malá Dlážka 4 | C17: Malá Dlážka 589/4, Přerov I-Město, 750 05 Přerov | D17: 49558978 | E17: Oblast školství, Okres Přerov | F17: Změna v sídle PO, dle Rejstříku škol Zastupitelstvo 14.2.2022 -původní adresa Malá Dlážka 4, 750 05 Přerov - nové sídlo: 750 02 Přerov, Přerov I-Město, Malá Dlážka 589/4
A18: 1038 | B18: Střední škola, Základní škola a Mateřská škola Lipník nad Bečvou, Osecká 301 | C18: Osecká 301/2, Lipník nad Bečvou I-Město, 751 31 Lipník nad Bečvou | D18: 61985953 | E18: Oblast školství, Okres Přerov | F18: Změna v sídle PO, dle Rejstříku škol Zastupitelstvo 14.2.2022 -původní adresa Osecká 301, 751 31 Lipník nad Bečvou - nové sídlo: 751 31 Lipník nad Bečvou, Lipník nad Bečvou I-Město, Osecká 301/2
A19: 1040 | B19: Střední škola, Základní škola a Mateřská škola Šumperk, Hanácká 3 | C19: Hanácká 145/3, 787 01 Šumperk | D19: 49589768 | E19: Oblast školství, Okres Šumperk | F19: Změna v sídle PO, dle Rejstříku škol Zastupitelstvo 14.2.2022 -původní adresa Hanácká 3, 787 01 Šumperk - nové sídlo: 787 01 Šumperk, Hanácká 145/3
A20: 1041 | B20: Střední škola, Základní škola, Mateřská škola a Dětský domov Zábřeh | C20: Sušilova 1912/40, 789 01 Zábřeh | D20: 49589725 | E20: Oblast školství, Okres Šumperk | F20: Změna v sídle PO, dle Rejstříku škol Zastupitelstvo 14.2.2022 -původní adresa Sušilova 40, 789 01 Zábřeh - nové sídlo: 789 01 Zábřeh, Sušilova 1912/40
A21: 1043 | B21: Základní škola a Mateřská škola Jeseník, Fučíkova 312 | C21: Fučíkova 312/10, 790 01 Jeseník | D21: 68911513 | E21: Oblast školství, Okres Jeseník | F21: Změna v sídle PO, dle Rejstříku škol Zastupitelstvo 14.2.2022 -původní adresa Fučíkova 312, 790 01 Jeseník- nové sídlo: 790 01 Jeseník, Fučíkova 312/10
A22: 1100 | B22: Gymnázium Jana Opletala, Litovel, Opletalova 189 | C22: Opletalova 189/4, 784 01 Litovel | D22: 00601772 | E22: Oblast školství, Okres Olomouc | F22: Změna v sídle PO, dle Rejstříku škol Zastupitelstvo 14.2.2022 -původní adresa Opletalova 189, 784 01 Litovel- nové sídlo: 784 01 Litovel, Opletalova 189/4
A23: 1101 | B23: Gymnázium, Olomouc, Čajkovského 9 | C23: Čajkovského 68/9, Nová Ulice, 779 00 Olomouc | D23: 00848956 | E23: Oblast školství, Okres Olomouc | F23: Změna v sídle PO, dle Rejstříku škol Zastupitelstvo 14.2.2022 -původní adresa Čajkovského 9, 779 00 Olomouc- nové sídlo: 7779 00 Olomouc, Nová Ulice, Čajkovského 68/9
A24: 1102 | B24: Slovanské gymnázium, Olomouc, tř. Jiřího z Poděbrad 13 | C24: Jiřího z Poděbrad 936/13, 779 00 Olomouc | D24: 00601781 | E24: Oblast školství, Okres Olomouc | F24: Změna v sídle PO, dle Rejstříku škol Zastupitelstvo 14.2.2022 -původní tř. Jiřího z Poděbrad 13,779 00 Olomouc- nové sídlo: 779 00 Olomouc, Jiřího z Poděbrad 936/13
A25: 1103 | B25: Gymnázium, Olomouc - Hejčín, Tomkova 45 | C25: Tomkova 314/45, Hejčín, 779 00 Olomouc | D25: 00601799 | E25: Oblast školství, Okres Olomouc | F25: Změna v sídle PO, dle Rejstříku škol Zastupitelstvo 14.2.2022 -původní adresa Tomkova 45, 779 00 Olomouc- nové sídlo: 779 00 Olomouc, Hejčín, Tomkova 314/45
A26: 1104 | B26: Gymnázium, Šternberk, Horní náměstí 5 | C26: Horní náměstí 167/5, 785 01 Šternberk | D26: 00601764 | E26: Oblast školství, Okres Olomouc | F26: Změna v sídle PO, dle Rejstříku škol Zastupitelstvo 14.2.2022 -původní adresa Horní náměstí 5, 785 01 Šternberk- nové sídlo: 785 01 Šternberk, Horní náměstí 167/5
A27: 1105 | B27: Gymnázium, Uničov, Gymnazijní 257 | C27: Gymnazijní 257, 783 91 Uničov | D27: 00601756 | E27: Oblast školství, Okres Olomouc
A28: 1106 | B28: Gymnázium Jiřího Wolkera, Prostějov, Kollárova 3 | C28: Kollárova 2602/3, 796 01 Prostějov | D28: 47922206 | E28: Oblast školství, Okres Prostějov | F28: Změna v sídle PO, dle Rejstříku škol Zastupitelstvo 14.2.2022 -původní adresa Kollárova 3, 796 01 Prostějov nové sídlo 796 01 Prostějov, Kollárova 2602/3
A29: 1108 | B29: Gymnázium Jakuba Škody, Přerov, Komenského 29 | C29: Komenského 800/29, Přerov I-Město, 750 02 Přerov | D29: 00842966 | E29: Oblast školství, Okres Přerov | F29: Změna v sídle PO, dle Rejstříku škol Zastupitelstvo 14.2.2022 -původní adresa Komenského 29, 750 11 Přerov- nový název 750 02 Přerov, Přerov I-Město, Komenského 800/29
A30: 1109 | B30: Gymnázium, Hranice, Zborovská 293 | C30: Zborovská 293, Hranice I-Město, 753 01 Hranice | D30: 70259909 | E30: Oblast školství, Okres Přerov | F30: Změna v sídle PO, dle Rejstříku škol Zastupitelstvo 14.2.2022 -původní adresa Zborovská 293, 753 11 Hranice- nové sídlo: 753 01 Hranice, Hranice I-Město, Zborovská 293
A31: 1110 | B31: Gymnázium, Kojetín, Svatopluka Čecha 683 | C31: Svatopluka Čecha 683, Kojetín I-Město, 752 01 Kojetín | D31: 70259861 | E31: Oblast školství, Okres Přerov | F31: Změna v sídle PO, dle Rejstříku škol Zastupitelstvo 14.2.2022 -původní adresa Svatopluka Čecha 683, 752 01 Kojetín- nové sídlo: 752 01 Kojetín, Kojetín I-Město, Svatopluka Čecha 683
A32: 1111 | B32: Gymnázium, Šumperk, Masarykovo náměstí 8 | C32: Masarykovo náměstí 1207/8, 787 01 Šumperk | D32: 49589792 | E32: Oblast školství, Okres Šumperk | F32: Změna v sídle PO, dle Rejstříku škol Zastupitelstvo 14.2.2022 -původní adresa Masarykovo náměstí 8, 787 58 Šumperk- nové sídlo: 787 01 Šumperk, Masarykovo náměstí 1207/8
A33: 1112 | B33: Gymnázium, Zábřeh, náměstí Osvobození 20 | C33: náměstí Osvobození 257/20, 789 01 Zábřeh | D33: 49589687 | E33: Oblast školství, Okres Šumperk | F33: Změna v sídle PO, dle Rejstříku škol Zastupitelstvo 14.2.2022 -původní adresa náměstí Osvobození 20, 789 01 Zábřeh- nové sídlo:789 01 Zábřeh, náměstí Osvobození 257/20
A34: 1113 | B34: Gymnázium, Jeseník, Komenského 281 | C34: Komenského 281/3, 790 01 Jeseník | D34: 60045141 | E34: Oblast školství, Okres Jeseník | F34: Změna v sídle PO, dle Rejstříku škol Zastupitelstvo 14.2.2022 -původní adresa Komenského 281, 790 01 Jeseník - nové sídlo:790 01 Jeseník, Komenského 281/3
A35: 1120 | B35: Vyšší odborná škola a Střední průmyslová škola elektrotechnická, Olomouc, Božetěchova 3 | C35: Božetěchova 755/3, Hodolany, 779 00 Olomouc | D35: 00844012 | E35: Oblast školství, Okres Olomouc | F35: Adresa - doplněna na základě kontroly na ZL.
A36: 1121 | B36: Střední průmyslová škola strojnická Olomouc | C36: 17. listopadu 995/49, 779 00 Olomouc | D36: 00601748 | E36: Oblast školství, Okres Olomouc
A37: 1122 | B37: Střední průmyslová škola a Střední odborné učiliště Uničov | C37: Školní 164, 783 91 Uničov | D37: 00601730 | E37: Oblast školství, Okres Olomouc
A38: 1123 | B38: Střední škola zemědělská a zahradnická, Olomouc, U Hradiska 4 | C38: U Hradiska 7/4, Klášterní Hradisko, 779 00 Olomouc | D38: 00602035 | E38: Oblast školství, Okres Olomouc | F38: Adresa - doplněna na základě kontroly na ZL.
A39: 1125 | B39: Střední škola designu a módy, Prostějov | C39: Vápenice 2986/1, 796 01 Prostějov | D39: 47922061 | E39: Oblast školství, Okres Prostějov | F39: Změna v sídle PO, dle Rejstříku škol Zastupitelstvo 14.2.2022 -původní adresa Vápenice 1, 796 62 Prostějov- nové sídlo: 796 01 Prostějov, Vápenice 2986/1
A40: 1126 | B40: Střední odborná škola průmyslová a Střední odborné učiliště strojírenské, Prostějov, Lidická 4 | C40: Lidická 1686/4, 796 01 Prostějov | D40: 69650721 | E40: Oblast školství, Okres Prostějov
A41: 1127 | B41: Švehlova střední škola polytechnická Prostějov | C41: nám. Spojenců 2555/17, 796 01 Prostějov | D41: 00566896 | E41: Oblast školství, Okres Prostějov | F41: Změna v sídle PO, dle Rejstříku škol Zastupitelstvo 14.2.2022 -původní adresa nám. Spojenců 17, 796 01 Prostějov- nové sídlo: 796 01 Prostějov, nám. Spojenců 2555/17
A42: 1128 | B42: Střední průmyslová škola Hranice | C42: Studentská 1384, Hranice I-Město, 753 01 Hranice | D42: 00842893 | E42: Oblast školství, Okres Přerov | F42: Adresa - doplněna na základě kontroly na ZL.
A43: 1129 | B43: Střední průmyslová škola stavební, Lipník nad Bečvou, Komenského sady 257 | C43: Komenského sady 257/26, Lipník nad Bečvou I-Město, 751 31 Lipník nad Bečvou | D43: 70259941 | E43: Oblast školství, Okres Přerov | F43: Adresa - doplněna na základě kontroly na ZL.
A44: 1130 | B44: Střední průmyslová škola, Přerov, Havlíčkova 2 | C44: Havlíčkova 377/2, 750 02 Přerov I - Město | D44: 70259925 | E44: Oblast školství, Okres Přerov
A45: 1131 | B45: Střední škola gastronomie a služeb, Přerov, Šířava 7 | C45: Šířava 670/7, 750 02 Přerov, Přerov I - Město | D45: 00577227 | E45: Oblast školství, Okres Přerov
A46: 1132 | B46: Střední lesnická škola, Hranice, Jurikova 588 | C46: Jurikova 588, Hranice I-Město, 753 01 Hranice | D46: 61986038 | E46: Oblast školství, Okres Přerov | F46: Adresa - doplněna na základě kontroly na ZL.
A47: 1133 | B47: Gymnázium Jana Blahoslava a Střední pedagogická škola, Přerov, Denisova 3 | C47: Denisova 2390/3, Přerov I-Město, 750 02 Přerov | D47: 61985759 | E47: Oblast školství, Okres Přerov | F47: Změna v sídle PO, dle Rejstříku škol Zastupitelstvo 14.2.2022 -původní název 750 02 Přerov, Denisova 3 - nový název 750 02 Přerov, Přerov I-Město, Denisova 2390/3
A48: 1134 | B48: Střední škola zemědělská, Přerov, Osmek 47 | C48: Osmek 367/47, Přerov I - Město,750 02 Přerov | D48: 63701171 | E48: Oblast školství, Okres Přerov
A49: 1135 | B49: Vyšší odborná škola a Střední průmyslová škola, Šumperk, Gen. Krátkého 1 | C49: Gen. Krátkého 950/1, 787 01 Šumperk | D49: 00843113 | E49: Oblast školství, Okres Šumperk | F49: Adresa - doplněna na základě kontroly na ZL.
A50: 1136 | B50: Vyšší odborná škola a Střední škola automobilní, Zábřeh, U Dráhy 6 | C50: U Dráhy 827/6, 789 01 Zábřeh | D50: 00577324 | E50: Oblast školství, Okres Šumperk
A51: 1137 | B51: Střední průmyslovou školu elektrotechniky a informatiky Mohelnice | C51: Gen. Svobody 183/2, 789 85 Mohelnice | D51: 00843105 | E51: Oblast školství, Okres Šumperk | F51: Změna "Střední průmyslová škola elektrotechnická a Obchodní akademie Mohelnice" na "Střední průmyslovou školu elektrotechniky a informatiky Mohelnice",od 1.9.2023 -schváleno Zastupitelstvem Olomouckého kraje dne 24. 4. 2023 usnesením č. UZ/14/43/2023.
A52: 1138 | B52: Střední odborná škola, Šumperk, Zemědělská 3 | C52: Zemědělská 2115/3, 787 01 Šumperk | D52: 00852384 | E52: Oblast školství, Okres Šumperk | F52: Adresa - doplněna na základě kontroly na ZL.
A53: 1140 | B53: Střední škola řemesel, Šumperk | C53: Gen. Krátkého 1799/30, 787 01 Šumperk | D53: 00851167 | E53: Oblast školství, Okres Šumperk | F53: Kontrola provedena na ZL k 23.11.2021 (původní název Střední škola železniční, technická a služeb, Šumperk).Změna nabyla platnosti a účinnosti dnem jeho schválení Zastupitelstvem Olomouckého kraje tj. 21.6.2021.Změna v sídle PO, dle Rejstříku škol Zastupitelstvo 14.2.2022 -původní adresa Gen. Krátkého 30, 787 01 Šumperk nové sídlo: 787 01 Šumperk, Gen. Krátkého 1799/30
A54: 1142 | B54: Střední průmyslová škola Jeseník | C54: Dukelská 1240/27, 790 01 Jeseník | D54: 00176401 | E54: Oblast školství, Okres Jeseník | F54: Změna v adrese (doplnění pop. č.)nabyla platnosti a účinnosti dnem jeho schválení Zastupitelstvem Olomouckého kraje tj. 21.6.2021. Změna v sídle PO, dle Rejstříku škol Zastupitelstvo 14.2.2022 -původní adresa Dukelská 1240/27, 790 01 Jeseník nové sídlo: 790 01 Jeseník, Dukelská 1240/27
A55: 1150 | B55: Obchodní akademie, Olomouc, tř. Spojenců 11 | C55: tř. Spojenců 745/11, 779 00 Olomouc | D55: 00601721 | E55: Oblast školství, Okres Olomouc | F55: Změna v sídle PO, dle Rejstříku škol Zastupitelstvo 14.2.2022 -původní adresa tř. Spojenců 11, 779 00 Olomouc nové sídlo:779 00 Olomouc, tř. Spojenců 745/11
A56: 1151 | B56: Obchodní akademie, Prostějov, Palackého 18 | C56: Palackého 159/18, 796 01 Prostějov | D56: 47922117 | E56: Oblast školství, Okres Prostějov | F56: Změna v sídle PO, dle Rejstříku škol Zastupitelstvo 14.2.2022 -původní adresa Palackého 18, 796 01 Prostějov nové sídlo: 796 01 Prostějov, Palackého 159/18
A57: 1152 | B57: Obchodní akademie a Jazyková škola s právem státní jazykové zkoušky, Přerov, Bartošova 24 | C57: Bartošova 1940/24, Přerov I-Město, 750 02 Přerov | D57: 61985996 | E57: Oblast školství, Okres Přerov | F57: Změna v sídle PO, dle Rejstříku škol Zastupitelstvo 14.2.2022 -původní adresa Bartošova 24, 750 02 Přerov 2- nové sídlo: 750 02 Přerov, Přerov I-Město, Bartošova 1940/24
A58: 1154 | B58: Obchodní akademie a Jazyková škola s právem státní jazykové zkoušky, Šumperk, Hlavní třída 31 | C58: Hlavní třída 652/31, 787 01 Šumperk | D58: 49589679 | E58: Oblast školství, Okres Šumperk | F58: Změna v sídle PO, dle Rejstříku škol Zastupitelstvo 14.2.2022 -původní adresa Hlavní třída 31, 787 01 Šumperk- nové sídlo: 787 01 Šumperk, Hlavní třída 652/31
A59: 1160 | B59: Střední zdravotnická škola a Vyšší odborná škola zdravotnická Emanuela Pöttinga a Jazyková škola s právem státní jazykové zkoušky Olomouc | C59: Pöttingova 624/2, 779 00 Olomouc | D59: 00600938 | E59: Oblast školství, Okres Olomouc | F59: Změna v sídle PO, dle Rejstříku škol Zastupitelstvo 14.2.2022 -původní adresa Pöttingova 2, 771 00 Olomouc - nové sídlo: 779 00 Olomouc, Pöttingova 624/2. Na základě upozornění PO ze dne 14.10.2022 - opravena adresa, nebylo upraveno PSČ.
A60: 1161 | B60: Střední zdravotnická škola, Prostějov, Vápenice 3 | C60: Vápenice 2985/3, 796 01 Prostějov | D60: 00599212 | E60: Oblast školství, Okres Prostějov | F60: Změna v sídle PO, dle Rejstříku škol Zastupitelstvo 14.2.2022 -původní adresa Vápenice 3, 796 01 Prostějov - nové sídlo: 796 01 Prostějov, Vápenice 2985/ 3
A61: 1162 | B61: Střední zdravotnická škola, Hranice, Nová 1820 | C61: Nová 1820, Hranice I-Město, 753 01 Hranice | D61: 00600903 | E61: Oblast školství, Okres Přerov | F61: Změna v sídle PO, dle Rejstříku škol Zastupitelstvo 14.2.2022 -původní adresa Nová 1820, 753 01 Hranice - nové sídlo: 753 01 Hranice, Hranice I-Město, Nová 1820
A62: 1163 | B62: Střední zdravotnická škola a Vyšší odborná škola zdravotnická, Šumperk, příspěvková organizace | C62: Kladská 234/ 2, 787 01 Šumperk | D62: 00851213 | E62: Oblast školství, Okres Šumperk | F62: Změna názvu ze Střední zdravotnická škola, Šumperk, Kladská 2 na Střední zdravotnická škola a Vyšší odborná škola zdravotnická, Šumperk, příspěvková organizace, a to od 1. 9. 2022. Změna v sídle PO, dle Rejstříku škol Zastupitelstvo 14.2.2022 -původní adresa Kladská 2, 787 01 Šumperk - nové sídlo: 7787 01 Šumperk, Kladská 234/2
A63: 1171 | B63: Střední škola elektrotechnická, Lipník nad Bečvou, Tyršova 781 | C63: Tyršova 781/11, Lipník nad Bečvou I-Město, 751 31 Lipník nad Bečvou | D63: 00845370 | E63: Oblast školství, Okres Přerov | F63: Adresa - doplněna na základě kontroly na ZL.
A64: 1173 | B64: Střední škola technická, Přerov, Kouřílkova 8 | C64: Kouřílkova 1028/8, 750 02 Přerov, Přerov I - Město | D64: 19013833 | E64: Oblast školství, Okres Přerov
A65: 1174 | B65: Střední škola technická Mohelnice, 1. máje 667/2, Mohelnice 78985 | C65: 1. máje 667/2, 789 85 Mohelnice | D65: 00851205 | E65: Oblast školství, Okres Šumperk | F65: Změna ZOK 27. 6. 2022 UZ/10/46/2022. (původní název Střední škola technická a zemědělská Mohelnice)
A66: 1175 | B66: Hotelová škola Vincenze Priessnitze a Obchodní akademie Jeseník | C66: Dukelská 680/7, 790 01 Jeseník | D66: 00577391 | E66: Oblast školství, Okres Jeseník | F66: Adresa - doplněna na základě kontroly na ZL.
A67: 1200 | B67: Střední odborná škola Litovel, Komenského 677 | C67: Komenského 677/1, 784 01 Litovel | D67: 00848875 | E67: Oblast školství, Okres Olomouc | F67: Změna v sídle PO, dle Rejstříku škol Zastupitelstvo 14.2.2022 -původní adresa Komenského 677, 784 01 Litovel - nové sídlo:784 01 Litovel, Komenského 677/1
A68: 1201 | B68: Sigmundova střední škola strojírenská, Lutín | C68: Jana Sigmunda 242, 783 49 Lutín | D68: 66935733 | E68: Oblast školství, Okres Olomouc
A69: 1202 | B69: Střední škola logistiky a chemie, Olomouc, U Hradiska 29 | C69: U Hradiska 157/29, Klášterní Hradisko, 779 00 Olomouc | D69: 00845337 | E69: Oblast školství, Okres Olomouc | F69: Změna v sídle PO, dle Rejstříku škol Zastupitelstvo 14.2.2022 -původní adresa ulice U Hradiska 29, 779 00 Olomouc - nové sídlo:779 00 Olomouc, Klášterní Hradisko, U Hradiska 157/29
A70: 1204 | B70: Střední škola polytechnická, Olomouc, Rooseveltova 79 | C70: Rooseveltova 472/79, 779 00 Olomouc | D70: 13643606 | E70: Oblast školství, Okres Olomouc | F70: Změna v sídle PO, dle Rejstříku škol Zastupitelstvo 14.2.2022 -původní adresa Rooseveltova 79, 779 00 Olomouc - nové sídlo:779 00 Olomouc, Nové Sady, Rooseveltova 472/79
A71: 1205 | B71: Střední škola polygrafická, Olomouc, Střední novosadská 87/53 | C71: Střední novosadská 87/53, Nové Sady, 779 00 Olomouc | D71: 00848778 | E71: Oblast školství, Okres Olomouc | F71: Změna v sídle PO, dle Rejstříku škol Zastupitelstvo 14.2.2022 -původní adresa Střední novosadská 87/53, 779 00 Olomouc - nové sídlo:779 00 Olomouc, Nové Sady, Střední novosadská 87/53
A72: 1206 | B72: Střední odborná škola obchodu a služeb, Olomouc, Štursova 14 | C72: Štursova 904/14, Hodolany, 779 00 Olomouc | D72: 00577448 | E72: Oblast školství, Okres Olomouc | F72: Změna v sídle PO, dle Rejstříku škol Zastupitelstvo 14.2.2022 -původní adresa Štursova 14, 779 00 Olomouc - nové sídlo: 779 00 Olomouc, Hodolany, Štursova 904/14
A73: 1207 | B73: Střední škola technická a obchodní, Olomouc, Kosinova 4 | C73: Kosinova 872/4, 779 00 Olomouc | D73: 14451085 | E73: Oblast školství, Okres Olomouc | F73: Změna v sídle PO, dle Rejstříku škol Zastupitelstvo 14.2.2022 -původní adresa Kosinova 4, 752 01 Olomouc- nové sídlo:779 00 Olomouc, Kosinova 872/4
A74: 1208 | B74: Střední odborná škola lesnická a strojírenská Šternberk | C74: Opavská 55/8, 785 01 Šternberk | D74: 00848794 | E74: Oblast školství, Okres Olomouc | F74: Změna v sídle PO, dle Rejstříku škol Zastupitelstvo 14.2.2022 -původní adresa Opavská 8, 785 01 Šternberk- nové sídlo:785 01 Šternberk, Opavská 55/8
A75: 1212 | B75: Střední odborná škola Prostějov | C75: nám. Edmunda Husserla 30/1, 796 01 Prostějov | D75: 00544612 | E75: Oblast školství, Okres Prostějov
A76: 1216 | B76: Střední škola řezbářská, Tovačov, Nádražní 146 | C76: Nádražní 146, Tovačov I-Město, 751 01 Tovačov | D76: 14616831 | E76: Oblast školství, Okres Přerov | F76: Změna v sídle PO, dle Rejstříku škol Zastupitelstvo 14.2.2022 -původní adresa Nádražní 146, 751 01 Tovačov - nové sídlo: 751 01 Tovačov, Tovačov I-Město, Nádražní 146
A77: 1218 | B77: Odborné učiliště a Základní škola, Křenovice | C77: 752 01 Křenovice, č. p. 8 | D77: 00842800 | E77: Oblast školství, Okres Přerov
A78: 1222 | B78: Odborné učiliště a Praktická škola, Mohelnice, Vodní 27 | C78: Vodní 248/27, 789 85 Mohelnice | D78: 62353179 | E78: Oblast školství, Okres Šumperk | F78: Změna v sídle PO, dle Rejstříku škol Zastupitelstvo 14.2.2022 -původní adresa nám. Vodní 27, 789 85 Mohelnice - nové sídlo: 789 85 Mohelnice, Vodní 248/27
A79: 1223 | B79: Střední škola sociální péče a služeb, Zábřeh, nám. 8. května 2 | C79: náměstí 8. května 253/2, 789 01 Zábřeh | D79: 00409014 | E79: Oblast školství, Okres Šumperk | F79: Změna v sídle PO, dle Rejstříku škol Zastupitelstvo 14.2.2022 -původní adresa nám. 8. května 2, 789 22 Zábřeh - nové sídlo: 789 01 Zábřeh, náměstí 8. května 253/2
A80: 1225 | B80: Střední škola řemesel a Odborné učiliště Lipová - lázně | C80: 790 61 Lipová - lázně č.p. 458 | D80: 00843032 | E80: Oblast školství, Okres Jeseník | F80: Kontrola provedena na ZL k 23.11.2021 (původní název Odborné učiliště a Praktická škola, Lipová - lázně 458).Změna v sídle PO, dle Rejstříku škol Zastupitelstvo 14.2.2022 -původní adresa nám. 790 61 Lipová - lázně 458 - nové sídlo: 790 61 Lipová – lázně, č. p. 458
A81: 1226 | B81: Střední škola gastronomie, farmářství a služeb Jeseník | C81: U Jatek 916/8, 790 01 Jeseník | D81: 00495433 | E81: Oblast školství, Okres Jeseník
A82: 1300 | B82: Základní umělecká škola Iši Krejčího Olomouc, Na Vozovce 32 | C82: Na Vozovce 246/32, Nová Ulice, 779 00 Olomouc | D82: 47654236 | E82: Oblast školství, Okres Olomouc | F82: Změna v sídle PO, dle Rejstříku škol Zastupitelstvo 14.2.2022 -původní adresa Na Vozovce 32/246, 779 00 Olomouc - nové sídlo: 779 00 Olomouc, Nová Ulice, Na Vozovce 246/32
A83: 1301 | B83: Základní umělecká škola „Žerotín“ Olomouc, Kavaleristů 6 | C83: Kavaleristů 880/6, Hodolany, 779 00 Olomouc | D83: 00096725 | E83: Oblast školství, Okres Olomouc | F83: Změna v sídle PO, dle Rejstříku škol Zastupitelstvo 14.2.2022 -původní adresa Kavaleristů 6, 779 00 Olomouc - nové sídlo: 779 00 Olomouc, Hodolany, Kavaleristů 880/6
A84: 1302 | B84: Základní umělecká škola Miloslava Stibora - výtvarný obor, Olomouc, Pionýrská 4 | C84: Pionýrská 508/4, Nová Ulice, 779 00 Olomouc | D84: 47654279 | E84: Oblast školství, Okres Olomouc | F84: Změna v sídle PO, dle Rejstříku škol Zastupitelstvo 14.2.2022 -původní adresa Pionýrská 4, 779 00 Olomouc - nové sídlo:779 00 Olomouc, Nová Ulice, Pionýrská 508/4
A85: 1303 | B85: Základní umělecká škola Litovel, Jungmannova 740 | C85: Jungmannova 740/11, 784 01 Litovel | D85: 47654325 | E85: Oblast školství, Okres Olomouc | F85: Změna v sídle PO, dle Rejstříku škol Zastupitelstvo 14.2.2022 -původní adresa Jungmannova 740, 784 01 Litovel - nové sídlo:784 01 Litovel, Jungmannova 740/11
A86: 1304 | B86: Základní umělecká škola, Uničov, Litovelská 190 | C86: Litovelská 190, 783 91 Uničov | D86: 47654244 | E86: Oblast školství, Okres Olomouc
A87: 1305 | B87: Základní umělecká škola Konice, Na Příhonech 425 | C87: Na Příhonech 425, 798 52 Konice | D87: 00402320 | E87: Oblast školství, Okres Prostějov
A88: 1306 | B88: Základní umělecká škola, Potštát 36 | C88: Zámecké 36, 753 62 Potštát | D88: 47184434 | E88: Oblast školství, Okres Přerov | F88: Změna v sídle PO, dle Rejstříku škol Zastupitelstvo 14.2.2022 -původní adresa 753 62 Potštát 36 - nové sídlo: 753 62 Potštát, Zámecká 36
A89: 1307 | B89: Základní umělecká škola, Hranice, Školní náměstí 35 | C89: Školní náměstí 35, Hranice I-Město, 753 01 Hranice | D89: 47184477 | E89: Oblast školství, Okres Přerov | F89: Změna v sídle PO, dle Rejstříku škol Zastupitelstvo 14.2.2022 -původní adresa Školní náměstí 35, 753 01 Hranice - nové sídlo: 753 01 Hranice, Hranice I-Město, Školní náměstí 35
A90: 1308 | B90: Základní umělecká škola, Kojetín, Hanusíkova 197 | C90: Hanusíkova 197, Kojetín I-Město, 752 01 Kojetín | D90: 60782170 | E90: Oblast školství, Okres Přerov | F90: Změna v sídle PO, dle Rejstříku škol Zastupitelstvo 14.2.2022 -původní adresa Hanusíkova 197, 752 01 Kojetín - nové sídlo: 752 01 Kojetín, Kojetín I-Město, Hanusíkova 197
A91: 1309 | B91: Základní umělecká škola Bedřicha Kozánka, Přerov | C91: tř. 17. listopadu 3443/2, Přerov I-Město, 750 02 Přerov | D91: 47184442 | E91: Oblast školství, Okres Přerov | F91: Změna v sídle PO, dle Rejstříku škol Zastupitelstvo 14.2.2022 -původní adresa tř. 17. listopadu 2, 750 00 Přerov - nové sídlo: 750 02 Přerov, Přerov I-Město, tř. 17. listopadu 3443/2
A92: 1310 | B92: Základní umělecká škola Antonína Dvořáka, Lipník nad Bečvou, Havlíčkova 643 | C92: Havlíčkova 643/10, Lipník nad Bečvou I-Město, 751 31 Lipník nad Bečvou | D92: 61985228 | E92: Oblast školství, Okres Přerov | F92: Změna v sídle PO, dle Rejstříku škol Zastupitelstvo 14.2.2022 -původní adresa Havlíčkova 643, 751 31 Lipník nad Bečvou - nové sídlo: 751 31 Lipník nad Bečvou, Lipník nad Bečvou I-Město, Havlíčkova 643/10
A93: 1311 | B93: Základní umělecká škola, Mohelnice, Náměstí Svobody 15 | C93: nám. Svobody 971/15, 789 85 Mohelnice | D93: 00851451 | E93: Oblast školství, Okres Šumperk | F93: Změna v sídle PO, dle Rejstříku škol Zastupitelstvo 14.2.2022 -původní adresa Náměstí Svobody 15, 789 85 Mohelnice- nové sídlo: 789 85 Mohelnice, nám. Svobody 971/15
A94: 1312 | B94: Základní umělecká škola, Šumperk, Žerotínova 11 | C94: Žerotínova 267/11, 787 01 Šumperk | D94: 00852333 | E94: Oblast školství, Okres Šumperk | F94: Změna v sídle PO, dle Rejstříku škol Zastupitelstvo 14.2.2022 -původní adresa Žerotínova 11, 787 01 Šumperk- nové sídlo: 787 01 Šumperk, Žerotínova 267/11
A95: 1313 | B95: Základní umělecká škola Zábřeh | C95: Školská 349/9, 789 01 Zábřeh | D95: 64095151 | E95: Oblast školství, Okres Šumperk
A96: 1314 | B96: Základní umělecká škola Karla Ditterse Vidnava | C96: Kostelní 1, 790 55 Vidnava | D96: 00852058 | E96: Oblast školství, Okres Jeseník
A97: 1315 | B97: Základní umělecká škola Franze Schuberta Zlaté Hory | C97: Nádražní 280, 793 76 Zlaté Hory | D97: 60780495 | E97: Oblast školství, Okres Jeseník
A98: 1350 | B98: Dům dětí a mládeže Olomouc | C98: tř. 17. listopadu 1034/47, 779 00 Olomouc | D98: 00096792 | E98: Oblast školství, Okres Olomouc
A99: 1351 | B99: Dům dětí a mládeže Litovel | C99: Komenského 719/6, 784 01 Litovel | D99: 61989738 | E99: Oblast školství, Okres Olomouc
A100: 1352 | B100: Dům dětí a mládeže Vila Tereza, Uničov | C100: Nádražní 530, 783 91 Uničov | D100: 47654392 | E100: Oblast školství, Okres Olomouc
A101: 1353 | B101: Středisko volného času ATLAS a BIOS, Přerov | C101: Žižkova 2621/12, Přerov I-Město, 750 02 Přerov | D101: 47184469 | E101: Oblast školství, Okres Přerov | F101: Změna v sídle PO, dle Rejstříku škol Zastupitelstvo 14.2.2022 -původní adresa Žižkova 12, 750 02 Přerov- nové sídlo: 750 02 Přerov, Přerov I-Město, Žižkova 2621/12
...

Sheet Hlavní činnost
B1: Tabulka č.1-Hlavní činnost
B2: ='Úvodní list'!D10 -> Roční rozpočet -podrobný rozpis rozpočtu na rok 2024 | P2: ORG: | Q2: =IF('Úvodní list'!F20=0,"Nevyplněn úvodní list",'Úvodní list'!F20) -> 1352
C3: Název příspěvkové organizace: | E3: =IF('Úvodní list'!F17=0,"Nevyplněn úvodní list",'Úvodní list'!F17) -> Dům dětí a mládeže Vila Tereza, Uničov
D4: ='Úvodní list'!C21 -> Pozn. :
B5: Náklady a výnosy PO | G5: Hlavní činnost / v Kč zaokrouhleno na tis. Kč- bez deset. místa /
H6: název hlav. činnosti / ORJ
H7: využití volného času - domy dětí a mládeže
B8: Název účetní položky | D8: ÚZ | E8: SÚ | F8: AÚ | G8: celkem | H8: 111
B9: A.Náklady celkem - účtová tř. 5 | G9: =G10+G146+G150+G152 -> 10456000 | H9: =H10+H146+H150+H152 -> 10456000 | I9: =I10+I146+I150+I152 -> 0 | J9: =J10+J146+J150+J152 -> 0 | K9: =K10+K146+K150+K152 -> 0 | L9: =L10+L146+L150+L152 -> 0 | M9: =M10+M146+M150+M152 -> 0 | N9: =N10+N146+N150+N152 -> 0 | ... Q9: =Q10+Q146+Q150+Q152 -> 0
B10: I. Náklady z činnosti | G10: =G11+G33+G39+G40+G41+G45+G46+G52+G60+G64+G65+G66+G98+G104+G108+G111+G118+G121+G122+G127+G128+G129+G132+G137+G138+G139+G140 -> 10456000 | H10: =H11+H33+H39+H40+H41+H45+H46+H52+H60+H64+H65+H66+H98+H104+H108+H111+H118+H121+H122+H127+H128+H129+H132+H137+H138+H139+H140 -> 10456000 | I10: =I11+I33+I39+I40+I41+I45+I46+I52+I60+I64+I65+I66+I98+I104+I108+I111+I118+I122+I127+I128+I129+I132+I137+I138+I139+I140 -> 0 | J10: =J11+J33+J39+J40+J41+J45+J46+J52+J60+J64+J65+J66+J98+J104+J108+J111+J118+J121+J122+J127+J128+J129+J132+J137+J138+J139+J140 -> 0 | K10: =K11+K33+K39+K40+K41+K45+K46+K52+K60+K64+K65+K66+K98+K104+K108+K111+K118+K121+K122+K127+K128+K129+K132+K137+K138+K139+K140 -> 0 | L10: =L11+L33+L39+L40+L41+L45+L46+L52+L60+L64+L65+L66+L98+L104+L108+L111+L118+L121+L122+L127+L128+L129+L132+L137+L138+L139+L140 -> 0 | M10: =M11+M33+M39+M40+M41+M45+M46+M52+M60+M64+M65+M66+M98+M104+M108+M111+M118+M121+M122+M127+M128+M129+M132+M137+M138+M139+M140 -> 0 | N10: =N11+N33+N39+N40+N41+N45+N46+N52+N60+N64+N65+N66+N98+N104+N108+N111+N118+N121+N122+N127+N128+N129+N132+N137+N138+N139+N140 -> 0 | O10: =O11+O33+O39+O40+O41+O45+O46+O52+O60+O64+O65+O66+O98+O104+O108+O111+O118+O121+O122+O127+O128+O129+O132+O137+O138+O139+O140 -> 0 | P10: =P11+P33+P39+P40+P41+P45+P46+P52+P60+P64+P65+P66+P98+P104+P108+P111+P118+P121+P122+P127+P128+P129+P132+P137+P138+P139+P140 -> 0 | Q10: =Q11+Q33+Q39+Q40+Q41+Q45+Q46+Q52+Q60+Q64+Q65+Q66+Q98+Q104+Q108+Q111+Q118+Q121+Q122+Q127+Q128+Q129+Q132+Q137+Q138+Q139+Q140 -> 0
B11: Spotřeba materiálu | E11: 501 | G11: =SUM(G12:G32) -> 523000 | H11: =SUM(H12:H32) -> 523000 | I11: =SUM(I12:I32) -> 0 | J11: =SUM(J12:J32) -> 0 | K11: =SUM(K12:K32) -> 0 | L11: =SUM(L12:L32) -> 0 | M11: =SUM(M12:M32) -> 0 | N11: =SUM(N12:N32) -> 0 | ... Q11: =SUM(Q12:Q32) -> 0
B12: z toho: | C12: potraviny pro klienty, žáky | E12: 501 | F12: 030X | G12: =SUM(H12:Q12) -> 120000 | H12: 120000
C13: potraviny pro zaměstnance | F13: 036X | G13: =SUM(H13:Q13) -> 0 | H13: 0
C14: potraviny pro ostatní | F14: 037X | G14: =SUM(H14:Q14) -> 0 | H14: 0
C15: ochranné pomůcky ( pro žáky a nad rámec zákona o dani z příjmů), prádlo, oděv, obuv pod hranicí (není zařazeno na účet 028) | F15: 031X | G15: =SUM(H15:Q15) -> 0 | H15: 0
C16: léky a zdravotnický materiál | F16: 040X | G16: =SUM(H16:Q16) -> 3000 | H16: 3000
C17: učebnice a bezplatně poskytované školní potřeby | F17: 032X | G17: =SUM(H17:Q17) -> 0 | H17: 0
C18: knihy, učební pomůcky, tisk (není zařazeno na účtu 028) - pořizované v souladu s právními předpisy) | F18: 033X | G18: =SUM(H18:Q18) -> 0 | H18: 0
C19: knihy, učební pomůcky, tisk (není zařazeno na účtu 028) - ostatní | F19: 034X | G19: =SUM(H19:Q19) -> 30000 | H19: 30000
C20: DDHM pod hranicí (není zařazeno na účet 028) | F20: 035X | G20: =SUM(H20:Q20) -> 50000 | H20: 50000
C21: materiál pro pracovní terapii | F21: 050X | G21: =SUM(H21:Q21) -> 0 | H21: 0
C22: technické a mediciální plyny | F22: 051X | G22: =SUM(H22:Q22) -> 0 | H22: 0
C23: pevná paliva a kapalná paliva (agregáty…) | F23: 060X | G23: =SUM(H23:Q23) -> 0 | H23: 0
C24: pohonné hmoty a maziva (dopravní prostředky) | F24: 061X | G24: =SUM(H24:Q24) -> 15000 | H24: 15000
... C31: dopravní značení SSOK | F31: 047X | G31: =SUM(H31:Q31) -> 0 | H31: 0
C32: ostatní | G32: =SUM(H32:Q32) -> 0 | H32: 0
B33: Spotřeba energie | E33: 502 | G33: =SUM(G34:G38) -> 680000 | H33: =SUM(H34:H38) -> 680000 | I33: =SUM(I34:I38) -> 0 | J33: =SUM(J34:J38) -> 0 | K33: =SUM(K34:K38) -> 0 | L33: =SUM(L34:L38) -> 0 | M33: =SUM(M34:M38) -> 0 | N33: =SUM(N34:N38) -> 0 | ... Q33: =SUM(Q34:Q38) -> 0
B34: z toho: | C34: vodné a stočné, včetně srážkové vody | E34: 502 | F34: 030X | G34: =SUM(H34:Q34) -> 50000 | H34: 50000
C35: teplo a pára | F35: 031X | G35: =SUM(H35:Q35) -> 480000 | H35: 480000
C36: plyn (ne mediciální) | F36: 032X | G36: =SUM(H36:Q36) -> 0 | H36: 0
C37: elektrická energie | F37: 033X | G37: =SUM(H37:Q37) -> 150000 | H37: 150000
C38: ostatní | G38: =SUM(H38:Q38) -> 0 | H38: 0
B39: Spotřeba jiných neskladovaných dodávek | E39: 503 | G39: =SUM(H39:Q39) -> 0 | H39: 0
B40: Prodané zboží | E40: 504 | G40: =SUM(H40:Q40) -> 0 | H40: 0
B41: Aktivace dlouhodobého majetku | E41: 506 | G41: =SUM(G42:G44) -> 0 | H41: =SUM(H42:H44) -> 0 | I41: =SUM(I42:I44) -> 0 | J41: =SUM(J42:J44) -> 0 | K41: =SUM(K42:K44) -> 0 | L41: =SUM(L42:L44) -> 0 | M41: =SUM(M42:M44) -> 0 | N41: =SUM(N42:N44) -> 0 | ... Q41: =SUM(Q42:Q44) -> 0
B42: z toho: | C42: aktivace dlouhodobého hmotného majetku | E42: 506 | F42: 030X | G42: =SUM(H42:Q42) -> 0 | H42: 0
C43: aktivace dlouhodobého nehmotného majetku | F43: 031X | G43: =SUM(H43:Q43) -> 0 | H43: 0
C44: ostatní | G44: =SUM(H44:Q44) -> 0 | H44: 0
B45: Aktivace oběžného majetku | E45: 507 | G45: =SUM(H45:Q45) -> 0 | H45: 0
B46: Změna stavu zásob vlastní výroby | E46: 508 | G46: =SUM(G47:G51) -> 0 | H46: =SUM(H47:H51) -> 0 | I46: =SUM(I47:I51) -> 0 | J46: =SUM(J47:J51) -> 0 | K46: =SUM(K47:K51) -> 0 | L46: =SUM(L47:L51) -> 0 | M46: =SUM(M47:M51) -> 0 | N46: =SUM(N47:N51) -> 0 | ... Q46: =SUM(Q47:Q51) -> 0
B47: z toho: | C47: změna stavu nedokončené výroby | E47: 508 | F47: 030X | G47: =SUM(H47:Q47) -> 0 | H47: 0
C48: změna stavu polotovarů | F48: 031X | G48: =SUM(H48:Q48) -> 0 | H48: 0
C49: změna stavu výrobků | F49: 032X | G49: =SUM(H49:Q49) -> 0 | H49: 0
C50: změna stavu ostatních zásob | F50: 033X | G50: =SUM(H50:Q50) -> 0 | H50: 0
C51: ostatní | G51: =SUM(H51:Q51) -> 0 | H51: 0
B52: Opravy a udržování | E52: 511 | G52: =SUM(G53:G59) -> 25000 | H52: =SUM(H53:H59) -> 25000 | I52: =SUM(I53:I59) -> 0 | J52: =SUM(J53:J59) -> 0 | K52: =SUM(K53:K59) -> 0 | L52: =SUM(L53:L59) -> 0 | M52: =SUM(M53:M59) -> 0 | N52: =SUM(N53:N59) -> 0 | ... Q52: =SUM(Q53:Q59) -> 0
B53: z toho: | C53: nemovitého majetku do 200 tis. Kč )1 | E53: 511 | F53: 034X | G53: =SUM(H53:Q53) -> 10000 | H53: 10000
C54: nemovitého majetku nad 200 tis. Kč )2 | F54: 030X )2,3 | G54: =SUM(H54:Q54) -> 0 | H54: 0
C55: nemovitého majetku nad 500 tis. Kč )3 | F55: 031X )2,3 | G55: x | H55: x | I55: x | J55: x | K55: x | L55: x | M55: x | N55: x | O55: x | P55: x | Q55: x
C56: movitého majetku - strojů, přístrojů a zařízení | F56: 032X | G56: =SUM(H56:Q56) -> 10000 | H56: 10000
C57: movitého majetku - dopravních prostředků | F57: 033X | G57: =SUM(H57:Q57) -> 5000 | H57: 5000
C58: restaurování sbírek | F58: 035X | G58: =SUM(H58:Q58) -> 0 | H58: 0
C59: ostatní | G59: =SUM(H59:Q59) -> 0 | H59: 0
B60: Cestovné | E60: 512 | G60: =SUM(G61:G63) -> 40000 | H60: =SUM(H61:H63) -> 40000 | I60: =SUM(I61:I63) -> 0 | J60: =SUM(J61:J63) -> 0 | K60: =SUM(K61:K63) -> 0 | L60: =SUM(L61:L63) -> 0 | M60: =SUM(M61:M63) -> 0 | N60: =SUM(N61:N63) -> 0 | ... Q60: =SUM(Q61:Q63) -> 0
B61: z toho: | C61: tuzemské | E61: 512 | F61: 030X | G61: =SUM(H61:Q61) -> 40000 | H61: 40000
C62: zahraniční | F62: 031X | G62: =SUM(H62:Q62) -> 0 | H62: 0
C63: ostatní | G63: =SUM(H63:Q63) -> 0 | H63: 0
B64: Náklady na reprezentaci (číslo účtu 513) | E64: 513 | G64: =SUM(H64:Q64) -> 0 | H64: 0
B65: Aktivace vnitroorganizačních služeb | E65: 516 | G65: =SUM(H65:Q65) -> 0 | H65: 0
B66: Ostatní služby | E66: 518 | G66: =SUM(G67:G97) -> 1462000 | H66: =SUM(H67:H97) -> 1462000 | I66: =SUM(I67:I97) -> 0 | J66: =SUM(J67:J97) -> 0 | K66: =SUM(K67:K97) -> 0 | L66: =SUM(L67:L97) -> 0 | M66: =SUM(M67:M97) -> 0 | N66: =SUM(N67:N97) -> 0 | ... Q66: =SUM(Q67:Q97) -> 0
B67: z toho: | C67: poštovné | E67: 518 | F67: 030X | G67: =SUM(H67:Q67) -> 1000 | H67: 1000
C68: internet, poplatky za registraci domény | F68: 031X | G68: =SUM(H68:Q68) -> 6000 | H68: 6000
C69: bankovní poplatky | F69: 032X | G69: =SUM(H69:Q69) -> 5000 | H69: 5000
C70: nájemné bytových prostor bez plateb za související služby | F70: 033X | G70: =SUM(H70:Q70) -> 0 | H70: 0
C71: nájemné nebytových prostor bez plateb za související služby | F71: 051X | G71: =SUM(H71:Q71) -> 200000 | H71: 200000
C72: nájemné za movitý majetek bez plateb za související služby | F72: 034X | G72: =SUM(H72:Q72) -> 2000 | H72: 2000
C73: stravování - dodavatelsky | F73: 035X | G73: =SUM(H73:Q73) -> 150000 | H73: 150000
C74: stravování - věcná režie žáci | F74: 036X | G74: =SUM(H74:Q74) -> 0 | H74: 0
C75: konzultační, poradenské a právní služby | F75: 037X | G75: =SUM(H75:Q75) -> 21000 | H75: 21000
C76: školení a vzdělávání (ne zaměstnanci) | F76: 038X | G76: =SUM(H76:Q76) -> 0 | H76: 0
C77: telekomunikace pevné linky | F77: 039X | G77: =SUM(H77:Q77) -> 4000 | H77: 4000
C78: telekomunikace - mobilní telefony | F78: 052X | G78: =SUM(H78:Q78) -> 7000 | H78: 7000
C79: poplatky za rozhlas a televizi | F79: 040X | G79: =SUM(H79:Q79) -> 0 | H79: 0
... C82: úklid prováděný dodavatelsky | F82: 043X | G82: =SUM(H82:Q82) -> 0 | H82: 0
C83: ostraha prováděná dodavatelsky | F83: 044X | G83: =SUM(H83:Q83) -> 0 | H83: ,
C84: odvoz a likvidace komunálního odpadu | F84: 045X | G84: =SUM(H84:Q84) -> 22000 | H84: 22000
C85: odvoz a likvidace nebezpečného odpadu | F85: 053X | G85: =SUM(H85:Q85) -> 0 | H85: 0
C86: drobný dlouhodobý nehmotný majetek do dolní hranice ve vazbě na vnitřní předpis | F86: 046X | G86: =SUM(H86:Q86) -> 1000 | H86: 1000
C87: údržba software a licence | F87: 047X | G87: =SUM(H87:Q87) -> 28000 | H87: 28000
C88: finanční leasing | F88: 048X | G88: =SUM(H88:Q88) -> 0 | H88: 0
C89: propagační a reklamní činnost, tiskové a knihařské služby | F89: 054X | G89: =SUM(H89:Q89) -> 0 | H89: 0
C90: údržba zeleně, parků a zahrad | F90: 055X | G90: =SUM(H90:Q90) -> 0 | H90: 0
C91: praní prádla dodavatelsky | F91: 056X | G91: =SUM(H91:Q91) -> 0 | H91: 0
C92: měření emisí, STK | F92: 057X | G92: =SUM(H92:Q92) -> 0 | H92: 0
C93: ostatní služby (studie, koncepce, projekty - KIDSOK) | F93: 058X | G93: =SUM(H93:Q93) -> 0 | H93: 0
C94: ediční činnost, výstavy a restaurování | F94: 049X | G94: =SUM(H94:Q94) -> 0 | H94: 0
C95: náklady s pořízením věcného břemene | F95: 050X | G95: =SUM(H95:Q95) -> 0 | H95: 0
C96: autoškola, svářečský kurz | F96: 059X | G96: =SUM(H96:Q96) -> 0 | H96: 0
C97: ostatní | G97: =SUM(H97:Q97) -> 933000 | H97: 933000
B98: Mzdové náklady | E98: 521 | G98: =SUM(G99:G103) -> 5316000 | H98: =SUM(H99:H103) -> 5316000 | I98: =SUM(I99:I103) -> 0 | J98: =SUM(J99:J103) -> 0 | K98: =SUM(K99:K103) -> 0 | L98: =SUM(L99:L103) -> 0 | M98: =SUM(M99:M103) -> 0 | N98: =SUM(N99:N103) -> 0 | ... Q98: =SUM(Q99:Q103) -> 0
B99: z toho: | C99: prostředky na platy, mzdy | E99: 521 | F99: 030X | G99: =SUM(H99:Q99) -> 4866000 | H99: 4866000
C100: ostatní osobní náklady | F100: 031X | G100: =SUM(H100:Q100) -> 450000 | H100: 450000
C101: odstupné | F101: 032X | G101: =SUM(H101:Q101) -> 0 | H101: 0
C102: náhrada mzdy za dočasnou pracovní neschopnost | F102: 033X | G102: =SUM(H102:Q102) -> 0 | H102: 0
C103: ostatní | G103: =SUM(H103:Q103) -> 0 | H103: 0
B104: Zákonné sociální pojištění | E104: 524 | G104: =SUM(G105:G107) -> 1796000 | H104: =SUM(H105:H107) -> 1796000 | I104: =SUM(I105:I107) -> 0 | J104: =SUM(J105:J107) -> 0 | K104: =SUM(K105:K107) -> 0 | L104: =SUM(L105:L107) -> 0 | M104: =SUM(M105:M107) -> 0 | N104: =SUM(N105:N107) -> 0 | ... Q104: =SUM(Q105:Q107) -> 0
B105: z toho: | C105: sociální pojištění | E105: 524 | F105: 030X | G105: =SUM(H105:Q105) -> 1318000 | H105: 1318000
C106: zdravotní pojištění | F106: 031X | G106: =SUM(H106:Q106) -> 478000 | H106: 478000
C107: ostatní | G107: =SUM(H107:Q107) -> 0 | H107: 0
B108: Jiné sociální pojištění | E108: 525 | G108: =SUM(G109:G110) -> 21000 | H108: =SUM(H109:H110) -> 21000 | I108: =SUM(I109:I110) -> 0 | J108: =SUM(J109:J110) -> 0 | K108: =SUM(K109:K110) -> 0 | L108: =SUM(L109:L110) -> 0 | M108: =SUM(M109:M110) -> 0 | N108: =SUM(N109:N110) -> 0 | ... Q108: =SUM(Q109:Q110) -> 0
...

Sheet Doplňková činnost
B1: Tabulka č.2-Doplňková činnost
B2: ='Úvodní list'!D10 -> Roční rozpočet -podrobný rozpis rozpočtu na rok 2024 | U2: ORG: | V2: =IF('Úvodní list'!F20=0,"Nevyplněn úvodní list",'Úvodní list'!F20) -> 1352
C3: Název příspěvkové organizace: | E3: =IF('Úvodní list'!F17=0,"Nevyplněn úvodní list",'Úvodní list'!F17) -> Dům dětí a mládeže Vila Tereza, Uničov
D4: ='Úvodní list'!C21 -> Pozn. :
B5: Náklady a výnosy PO | G5: Doplňková činnost / v Kč zaokrouhleno na tis. Kč- bez deset. místa /
H6: název činnosti (dle zřizovací listiny)
H7: pronájem nemovitého majetku
B8: Název účetní položky | D8: ÚZ | E8: SÚ | F8: AÚ | G8: celkem | H8: 131
B9: A.Náklady celkem - účtová tř. 5 | G9: =G10+G146+G150+G152 -> 48000 | H9: =H10+H146+H150+H152 -> 48000 | I9: =I10+I146+I150+I152 -> 0 | J9: =J10+J146+J150+J152 -> 0 | K9: =K10+K146+K150+K152 -> 0 | L9: =L10+L146+L150+L152 -> 0 | M9: =M10+M146+M150+M152 -> 0 | N9: =N10+N146+N150+N152 -> 0 | ... V9: =V10+V146+V150+V152 -> 0
B10: I. Náklady z činnosti | G10: =G11+G33+G39+G40+G41+G45+G46+G52+G60+G64+G65+G66+G98+G104+G108+G111+G118+G121+G122+G127+G128+G129+G132+G137+G138+G139+G140 -> 48000 | H10: =H11+H33+H39+H40+H41+H45+H46+H52+H60+H64+H65+H66+H98+H104+H108+H111+H118+H121+H122+H127+H128+H129+H132+H137+H138+H139+H140 -> 48000 | I10: =I11+I33+I39+I40+I41+I45+I46+I52+I60+I64+I65+I66+I98+I104+I108+I111+I118+I121+I122+I127+I128+I129+I132+I137+I138+I139+I140 -> 0 | J10: =J11+J33+J39+J40+J41+J45+J46+J52+J60+J64+J65+J66+J98+J104+J108+J111+J118+J121+J122+J127+J128+J129+J132+J137+J138+J139+J140 -> 0 | K10: =K11+K33+K39+K40+K41+K45+K46+K52+K60+K64+K65+K66+K98+K104+K108+K111+K118+K121+K122+K127+K128+K129+K132+K137+K138+K139+K140 -> 0 | L10: =L11+L33+L39+L40+L41+L45+L46+L52+L60+L64+L65+L66+L98+L104+L108+L111+L118+L121+L122+L127+L128+L129+L132+L137+L138+L139+L140 -> 0 | M10: =M11+M33+M39+M40+M41+M45+M46+M52+M60+M64+M65+M66+M98+M104+M108+M111+M118+M121+M122+M127+M128+M129+M132+M137+M138+M139+M140 -> 0 | N10: =N11+N33+N39+N40+N41+N45+N46+N52+N60+N64+N65+N66+N98+N104+N108+N111+N118+N121+N122+N127+N128+N129+N132+N137+N138+N139+N140 -> 0 | ... V10: =V11+V33+V39+V40+V41+V45+V46+V52+V60+V64+V65+V66+V98+V104+V108+V111+V118+V121+V122+V127+V128+V129+V132+V137+V138+V139+V140 -> 0
B11: Spotřeba materiálu | E11: 501 | G11: =SUM(G12:G32) -> 1000 | H11: =SUM(H12:H32) -> 1000 | I11: =SUM(I12:I32) -> 0 | J11: =SUM(J12:J32) -> 0 | K11: =SUM(K12:K32) -> 0 | L11: =SUM(L12:L32) -> 0 | M11: =SUM(M12:M32) -> 0 | N11: =SUM(N12:N32) -> 0 | ... V11: =SUM(V12:V32) -> 0
B12: z toho: | C12: potraviny pro klienty, žáky | E12: 501 | F12: 000X | G12: =SUM(H12:V12) -> 0 | H12: 0
C13: potraviny pro zaměstnance | F13: 009X | G13: =SUM(H13:V13) -> 0 | H13: 0
C14: potraviny pro ostatní | F14: 010X | G14: =SUM(H14:V14) -> 0 | H14: 0
C15: ochranné pomůcky ( pro žáky a nad rámec zákona o dani z příjmů), prádlo, oděv, obuv pod hranicí (není zařazeno na účet 028) | F15: 001X | G15: =SUM(H15:V15) -> 0 | H15: 0
C16: léky a zdravotnický materiál | F16: 002X | G16: =SUM(H16:V16) -> 0 | H16: 0
C17: učebnice a bezplatně poskytované školní potřeby | F17: 003X | G17: =SUM(H17:V17) -> 0 | H17: 0
C18: knihy, učební pomůcky, tisk (není zařazeno na účtu 028) - pořizované v souladu s právními předpisy) | F18: 004X | G18: =SUM(H18:V18) -> 0 | H18: 0
C19: knihy, učební pomůcky, tisk (není zařazeno na účtu 028) - ostatní | F19: 005X | G19: =SUM(H19:V19) -> 0 | H19: 0
C20: DDHM pod hranicí (není zařazeno na účet 028) | F20: 006X | G20: =SUM(H20:V20) -> 0 | H20: 0
C21: materiál pro pracovní terapii | F21: 007X | G21: =SUM(H21:V21) -> 0 | H21: 0
C22: technické a mediciální plyny | F22: 008X | G22: =SUM(H22:V22) -> 0 | H22: 0
C23: pevná paliva a kapalná paliva (agregáty…) | F23: 011X | G23: =SUM(H23:V23) -> 0 | H23: 0
C24: pohonné hmoty a maziva (dopravní prostředky) | F24: 012X | G24: =SUM(H24:V24) -> 0 | H24: 0
... C31: dopravní značení SSOK | F31: 019X | G31: =SUM(H31:V31) -> 0 | H31: 0
C32: ostatní | G32: =SUM(H32:V32) -> 0 | H32: 0
B33: Spotřeba energie | E33: 502 | G33: =SUM(G34:G38) -> 4000 | H33: =SUM(H34:H38) -> 4000 | I33: =SUM(I34:I38) -> 0 | J33: =SUM(J34:J38) -> 0 | K33: =SUM(K34:K38) -> 0 | L33: =SUM(L34:L38) -> 0 | M33: =SUM(M34:M38) -> 0 | N33: =SUM(N34:N38) -> 0 | ... V33: =SUM(V34:V38) -> 0
B34: z toho: | C34: vodné a stočné, včetně srážkové vody | E34: 502 | F34: 000X | G34: =SUM(H34:V34) -> 1000 | H34: 1000
C35: teplo a pára | F35: 001X | G35: =SUM(H35:V35) -> 2000 | H35: 2000
C36: plyn (ne mediciální) | F36: 002X | G36: =SUM(H36:V36) -> 0 | H36: 0
C37: elektrická energie | F37: 003X | G37: =SUM(H37:V37) -> 1000 | H37: 1000
C38: ostatní | G38: =SUM(H38:V38) -> 0 | H38: 0
B39: Spotřeba jiných neskladovaných dodávek | E39: 503 | G39: =SUM(H39:V39) -> 0 | H39: 0
B40: Prodané zboží | E40: 504 | G40: =SUM(H40:V40) -> 0 | H40: 0
B41: Aktivace dlouhodobého majetku | E41: 506 | G41: =SUM(G42:G44) -> 0 | H41: =SUM(H42:H44) -> 0 | I41: =SUM(I42:I44) -> 0 | J41: =SUM(J42:J44) -> 0 | K41: =SUM(K42:K44) -> 0 | L41: =SUM(L42:L44) -> 0 | M41: =SUM(M42:M44) -> 0 | N41: =SUM(N42:N44) -> 0 | ... V41: =SUM(V42:V44) -> 0
B42: z toho: | C42: aktivace dlouhodobého hmotného majetku | E42: 506 | F42: 000X | G42: =SUM(H42:V42) -> 0 | H42: 0
C43: aktivace dlouhodobého nehmotného majetku | F43: 001X | G43: =SUM(H43:V43) -> 0 | H43: 0
C44: ostatní | G44: =SUM(H44:V44) -> 0 | H44: 0
B45: Aktivace oběžného majetku | E45: 507 | G45: =SUM(H45:V45) -> 0 | H45: 0
B46: Změna stavu zásob vlastní výroby | E46: 508 | G46: =SUM(G47:G51) -> 0 | H46: =SUM(H47:H51) -> 0 | I46: =SUM(I47:I51) -> 0 | J46: =SUM(J47:J51) -> 0 | K46: =SUM(K47:K51) -> 0 | L46: =SUM(L47:L51) -> 0 | M46: =SUM(M47:M51) -> 0 | N46: =SUM(N47:N51) -> 0 | ... V46: =SUM(V47:V51) -> 0
B47: z toho: | C47: změna stavu nedokončené výroby | E47: 508 | F47: 000X | G47: =SUM(H47:V47) -> 0 | H47: 0
C48: změna stavu polotovarů | F48: 001X | G48: =SUM(H48:V48) -> 0 | H48: 0
C49: změna stavu výrobků | F49: 002X | G49: =SUM(H49:V49) -> 0 | H49: 0
C50: změna stavu ostatních zásob | F50: 003X | G50: =SUM(H50:V50) -> 0 | H50: 0
C51: ostatní | G51: =SUM(H51:V51) -> 0 | H51: 0
B52: Opravy a udržování | E52: 511 | G52: =SUM(G53:G59) -> 0 | H52: =SUM(H53:H59) -> 0 | I52: =SUM(I53:I59) -> 0 | J52: =SUM(J53:J59) -> 0 | K52: =SUM(K53:K59) -> 0 | L52: =SUM(L53:L59) -> 0 | M52: =SUM(M53:M59) -> 0 | N52: =SUM(N53:N59) -> 0 | ... V52: =SUM(V53:V59) -> 0
B53: z toho: | C53: nemovitého majetku do 200 tis. Kč )1 | E53: 511 | F53: 004X | G53: =SUM(H53:V53) -> 0 | H53: 0
C54: nemovitého majetku nad 200 tis. Kč )2 | F54: 000X )2,3 | G54: =SUM(H54:V54) -> 0 | H54: 0
C55: nemovitého majetku nad 500 tis. Kč )3 | F55: 001X)2.3 | G55: x | H55: x | I55: x | J55: x | K55: x | L55: x | M55: x | N55: x | O55: x | P55: x | Q55: x | R55: x | S55: x | T55: x | U55: x | V55: x
C56: movitého majetku - strojů, přístrojů a zařízení | F56: 002X | G56: =SUM(H56:V56) -> 0 | H56: 0
C57: movitého majetku - dopravních prostředků | F57: 003X | G57: =SUM(H57:V57) -> 0 | H57: 0
C58: restaurování sbírek | F58: 005X | G58: =SUM(H58:V58) -> 0 | H58: 0
C59: ostatní | G59: =SUM(H59:V59) -> 0 | H59: 0
B60: Cestovné | E60: 512 | G60: =SUM(G61:G63) -> 0 | H60: =SUM(H61:H63) -> 0 | I60: =SUM(I61:I63) -> 0 | J60: =SUM(J61:J63) -> 0 | K60: =SUM(K61:K63) -> 0 | L60: =SUM(L61:L63) -> 0 | M60: =SUM(M61:M63) -> 0 | N60: =SUM(N61:N63) -> 0 | ... V60: =SUM(V61:V63) -> 0
B61: z toho: | C61: tuzemské | E61: 512 | F61: 000X | G61: =SUM(H61:V61) -> 0 | H61: 0
C62: zahraniční | F62: 001X | G62: =SUM(H62:V62) -> 0 | H62: 0
C63: ostatní | G63: =SUM(H63:V63) -> 0 | H63: 0
B64: Náklady na reprezentaci (číslo účtu 513) | E64: 513 | G64: =SUM(H64:V64) -> 0 | H64: 0
B65: Aktivace vnitroorganizačních služeb | E65: 516 | G65: =SUM(H65:V65) -> 0 | H65: 0
B66: Ostatní služby | E66: 518 | G66: =SUM(G67:G97) -> 3000 | H66: =SUM(H67:H97) -> 3000 | I66: =SUM(I67:I97) -> 0 | J66: =SUM(J67:J97) -> 0 | K66: =SUM(K67:K97) -> 0 | L66: =SUM(L67:L97) -> 0 | M66: =SUM(M67:M97) -> 0 | N66: =SUM(N67:N97) -> 0 | ... V66: =SUM(V67:V97) -> 0
B67: z toho: | C67: poštovné | E67: 518 | F67: 000X | G67: =SUM(H67:V67) -> 0 | H67: 0
C68: internet, poplatky za registraci domény | F68: 001X | G68: =SUM(H68:V68) -> 0 | H68: 0
C69: bankovní poplatky | F69: 002X | G69: =SUM(H69:V69) -> 0 | H69: 0
C70: nájemné bytových prostor bez plateb za související služby | F70: 003X | G70: =SUM(H70:V70) -> 0 | H70: 0
C71: nájemné nebytových prostor bez plateb za související služby | F71: 020X | G71: =SUM(H71:V71) -> 1000 | H71: 1000
C72: nájemné za movitý majetek bez plateb za související služby | F72: 004X | G72: =SUM(H72:V72) -> 0 | H72: 0
C73: stravování - dodavatelsky | F73: 005X | G73: =SUM(H73:V73) -> 0 | H73: 0
C74: stravování - věcná režie žáci | F74: 006X | G74: =SUM(H74:V74) -> 0 | H74: 0
C75: konzultační, poradenské a právní služby | F75: 007X | G75: =SUM(H75:V75) -> 0 | H75: 0
C76: školení a vzdělávání (ne zaměstnanci) | F76: 008X | G76: =SUM(H76:V76) -> 0 | H76: 0
C77: telekomunikace pevné linky | F77: 009X | G77: =SUM(H77:V77) -> 0 | H77: 0
C78: telekomunikace - mobilní telefony | F78: 021X | G78: =SUM(H78:V78) -> 0 | H78: 0
C79: poplatky za rozhlas a televizi | F79: 010X | G79: =SUM(H79:V79) -> 0 | H79: 0
... C96: autoškola, svářečský kurz | F96: 029X | G96: =SUM(H96:V96) -> 0 | H96: 0
C97: ostatní | G97: =SUM(H97:V97) -> 0 | H97: 0
B98: Mzdové náklady | E98: 521 | G98: =SUM(G99:G103) -> 30000 | H98: =SUM(H99:H103) -> 30000 | I98: =SUM(I99:I103) -> 0 | J98: =SUM(J99:J103) -> 0 | K98: =SUM(K99:K103) -> 0 | L98: =SUM(L99:L103) -> 0 | M98: =SUM(M99:M103) -> 0 | N98: =SUM(N99:N103) -> 0 | ... V98: =SUM(V99:V103) -> 0
B99: z toho: | C99: prostředky na platy, mzdy | E99: 521 | F99: 000X | G99: =SUM(H99:V99) -> 30000 | H99: 30000
C100: ostatní osobní náklady | F100: 001X | G100: =SUM(H100:V100) -> 0 | H100: 0
C101: odstupné | F101: 002X | G101: =SUM(H101:V101) -> 0 | H101: 0
C102: náhrada mzdy za dočasnou pracovní neschopnost | F102: 003X | G102: =SUM(H102:V102) -> 0 | H102: 0
C103: ostatní | G103: =SUM(H103:V103) -> 0 | H103: 0
B104: Zákonné sociální pojištění | E104: 524 | G104: =SUM(G105:G107) -> 10000 | H104: =SUM(H105:H107) -> 10000 | I104: =SUM(I105:I107) -> 0 | J104: =SUM(J105:J107) -> 0 | K104: =SUM(K105:K107) -> 0 | L104: =SUM(L105:L107) -> 0 | M104: =SUM(M105:M107) -> 0 | N104: =SUM(N105:N107) -> 0 | ... V104: =SUM(V105:V107) -> 0
B105: z toho: | C105: sociální pojištění | E105: 524 | F105: 000X | G105: =SUM(H105:V105) -> 7000 | H105: 7000
C106: zdravotní pojištění | F106: 001X | G106: =SUM(H106:V106) -> 3000 | H106: 3000
C107: ostatní | G107: =SUM(H107:V107) -> 0 | H107: 0
B108: Jiné sociální pojištění | E108: 525 | G108: =SUM(G109:G110) -> 0 | H108: =SUM(H109:H110) -> 0 | I108: =SUM(I109:I110) -> 0 | J108: =SUM(J109:J110) -> 0 | K108: =SUM(K109:K110) -> 0 | L108: =SUM(L109:L110) -> 0 | M108: =SUM(M109:M110) -> 0 | N108: =SUM(N109:N110) -> 0 | ... V108: =SUM(V109:V110) -> 0
B109: z toho: | C109: povinné úrazové pojištění zaměstnanců (zákon č. 266/2006Sb.) | E109: 525 | F109: 000X | G109: =SUM(H109:V109) -> 0 | H109: 0
C110: ostatní | G110: =SUM(H110:V110) -> 0 | H110: 0
B111: Zákonné sociální náklady | E111: 527 | G111: =SUM(G112:G117) -> 0 | H111: =SUM(H112:H117) -> 0 | I111: =SUM(I112:I117) -> 0 | J111: =SUM(J112:J117) -> 0 | K111: =SUM(K112:K117) -> 0 | L111: =SUM(L112:L117) -> 0 | M111: =SUM(M112:M117) -> 0 | N111: =SUM(N112:N117) -> 0 | ... V111: =SUM(V112:V117) -> 0
B112: z toho: | C112: základní příděl do FKSP | E112: 527 | F112: 000X | G112: =SUM(H112:V112) -> 0 | H112: 0
C113: ochranné pomůcky v souladu se zákonem o dani z příjmu | F113: 001X | G113: =SUM(H113:V113) -> 0 | H113: 0
C114: příspěvek na stravování zaměstnanců | F114: 002X | G114: =SUM(H114:V114) -> 0 | H114: 0
C115: preventivní prohlídky | F115: 003X | G115: =SUM(H115:V115) -> 0 | H115: 0
C116: školení a vzdělávání, konference (zaměstnanci) | F116: 004X | G116: =SUM(H116:V116) -> 0 | H116: 0
C117: ostatní | G117: =SUM(H117:V117) -> 0 | H117: 0
B118: Jiné sociální náklady | E118: 528 | G118: =SUM(G119:G120) -> 0 | H118: =SUM(H119:H120) -> 0 | I118: =SUM(I119:I120) -> 0 | J118: =SUM(J119:J120) -> 0 | K118: =SUM(K119:K120) -> 0 | L118: =SUM(L119:L120) -> 0 | M118: =SUM(M119:M120) -> 0 | N118: =SUM(N119:N120) -> 0 | ... V118: =SUM(V119:V120) -> 0
B119: z toho: | C119: příspěvek na stravování zaměstnanců nad limit | E119: 528 | F119: 000X | G119: =SUM(H119:V119) -> 0 | H119: 0
C120: ostatní | G120: =SUM(H120:V120) -> 0 | H120: 0
B121: Daně a poplatky | E121: 531 532 | G121: =SUM(H121:V121) -> 0 | H121: 0
B122: Jiné daně a poplatky | E122: 538 | G122: =SUM(G123:G126) -> 0 | H122: =SUM(H123:H126) -> 0 | I122: =SUM(I123:I126) -> 0 | J122: =SUM(J123:J126) -> 0 | K122: =SUM(K123:K126) -> 0 | L122: =SUM(L123:L126) -> 0 | M122: =SUM(M123:M126) -> 0 | N122: =SUM(N123:N126) -> 0 | ... V122: =SUM(V123:V126) -> 0
...

Sheet Rekapitulace
B2: ='Úvodní list'!D10 -> Roční rozpočet -podrobný rozpis rozpočtu na rok 2024 | I2: ORG: | J2: =IF('Úvodní list'!F20=0,"Nevyplněn úvodní list",'Úvodní list'!F20) -> 1352
C3: Název příspěvkové organizace: | E3: =IF('Úvodní list'!F17=0,"Nevyplněn úvodní list",'Úvodní list'!F17) -> Dům dětí a mládeže Vila Tereza, Uničov
B4: ='Úvodní list'!C21 -> Pozn. :
B5: Náklady a výnosy PO | H5: / v Kč zaokrouhleno na tis. Kč - bez deset. místa /
J6: Celkem
H7: Hlavní činnost | I7: Doplňková činnost
B8: Název účetní položky | D8: ÚZ | E8: SÚ | F8: AÚ | G8: AÚ
B9: A.Náklady celkem - účtová tř. 5 | H9: ='Hlavní činnost'!G9 -> 10456000 | I9: ='Doplňková činnost'!G9 -> 48000 | J9: =I9+H9 -> 10504000
B10: I. Náklady z činnosti | H10: ='Hlavní činnost'!G10 -> 10456000 | I10: ='Doplňková činnost'!G10 -> 48000 | J10: =I10+H10 -> 10504000
B11: Spotřeba materiálu | E11: 501 | H11: ='Hlavní činnost'!G11 -> 523000 | I11: ='Doplňková činnost'!G11 -> 1000 | J11: =I11+H11 -> 524000
B12: z toho: | C12: potraviny pro klienty, žáky | E12: 501 | F12: 030X | G12: 000X | H12: ='Hlavní činnost'!G12 -> 120000 | I12: ='Doplňková činnost'!G12 -> 0 | J12: =I12+H12 -> 120000
C13: potraviny pro zaměstnance | F13: 036X | G13: 009X | H13: ='Hlavní činnost'!G13 -> 0 | I13: ='Doplňková činnost'!G13 -> 0 | J13: =I13+H13 -> 0
C14: potraviny pro ostatní | F14: 037X | G14: 010X | H14: ='Hlavní činnost'!G14 -> 0 | I14: ='Doplňková činnost'!G14 -> 0 | J14: =I14+H14 -> 0
C15: ochranné pomůcky ( pro žáky a nad rámec zákona o dani z příjmů), prádlo, oděv, obuv pod hranicí (není zařazeno na účet 028) | F15: 031X | G15: 001X | H15: ='Hlavní činnost'!G15 -> 0 | I15: ='Doplňková činnost'!G15 -> 0 | J15: =I15+H15 -> 0
C16: léky a zdravotnický materiál | F16: 040X | G16: 002X | H16: ='Hlavní činnost'!G16 -> 3000 | I16: ='Doplňková činnost'!G16 -> 0 | J16: =I16+H16 -> 3000
C17: učebnice a bezplatně poskytované školní potřeby | F17: 032X | G17: 003X | H17: ='Hlavní činnost'!G17 -> 0 | I17: ='Doplňková činnost'!G17 -> 0 | J17: =I17+H17 -> 0
C18: knihy, učební pomůcky, tisk (není zařazeno na účtu 028) - pořizované v souladu s právními předpisy) | F18: 033X | G18: 004X | H18: ='Hlavní činnost'!G18 -> 0 | I18: ='Doplňková činnost'!G18 -> 0 | J18: =I18+H18 -> 0
C19: knihy, učební pomůcky, tisk (není zařazeno na účtu 028) - ostatní | F19: 034X | G19: 005X | H19: ='Hlavní činnost'!G19 -> 30000 | I19: ='Doplňková činnost'!G19 -> 0 | J19: =I19+H19 -> 30000
C20: DDHM pod hranicí (není zařazeno na účet 028) | F20: 035X | G20: 006X | H20: ='Hlavní činnost'!G20 -> 50000 | I20: ='Doplňková činnost'!G20 -> 0 | J20: =I20+H20 -> 50000
C21: materiál pro pracovní terapii | F21: 050X | G21: 007X | H21: ='Hlavní činnost'!G21 -> 0 | I21: ='Doplňková činnost'!G21 -> 0 | J21: =I21+H21 -> 0
C22: technické a mediciální plyny | F22: 051X | G22: 008X | H22: ='Hlavní činnost'!G22 -> 0 | I22: ='Doplňková činnost'!G22 -> 0 | J22: =I22+H22 -> 0
C23: pevná paliva a kapalná paliva (agregáty…) | F23: 060X | G23: 011X | H23: ='Hlavní činnost'!G23 -> 0 | I23: ='Doplňková činnost'!G23 -> 0 | J23: =I23+H23 -> 0
C24: pohonné hmoty a maziva (dopravní prostředky) | F24: 061X | G24: 012X | H24: ='Hlavní činnost'!G24 -> 15000 | I24: ='Doplňková činnost'!G24 -> 0 | J24: =I24+H24 -> 15000
... C31: dopravní značení SSOK | F31: 047X | G31: 019X | H31: ='Hlavní činnost'!G31 -> 0 | I31: ='Doplňková činnost'!G31 -> 0 | J31: =I31+H31 -> 0
C32: ostatní | H32: ='Hlavní činnost'!G32 -> 0 | I32: ='Doplňková činnost'!G32 -> 0 | J32: =I32+H32 -> 0
B33: Spotřeba energie | E33: 502 | H33: ='Hlavní činnost'!G33 -> 680000 | I33: ='Doplňková činnost'!G33 -> 4000 | J33: =I33+H33 -> 684000
B34: z toho: | C34: vodné a stočné, včetně srážkové vody | E34: 502 | F34: 030X | G34: 000X | H34: ='Hlavní činnost'!G34 -> 50000 | I34: ='Doplňková činnost'!G34 -> 1000 | J34: =I34+H34 -> 51000
C35: teplo a pára | F35: 031X | G35: 001X | H35: ='Hlavní činnost'!G35 -> 480000 | I35: ='Doplňková činnost'!G35 -> 2000 | J35: =I35+H35 -> 482000
C36: plyn (ne mediciální) | F36: 032X | G36: 002X | H36: ='Hlavní činnost'!G36 -> 0 | I36: ='Doplňková činnost'!G36 -> 0 | J36: =I36+H36 -> 0
C37: elektrická energie | F37: 033X | G37: 003X | H37: ='Hlavní činnost'!G37 -> 150000 | I37: ='Doplňková činnost'!G37 -> 1000 | J37: =I37+H37 -> 151000
C38: ostatní | H38: ='Hlavní činnost'!G38 -> 0 | I38: ='Doplňková činnost'!G38 -> 0 | J38: =I38+H38 -> 0
B39: Spotřeba jiných neskladovaných dodávek | E39: 503 | H39: ='Hlavní činnost'!G39 -> 0 | I39: ='Doplňková činnost'!G39 -> 0 | J39: =I39+H39 -> 0
B40: Prodané zboží | E40: 504 | H40: ='Hlavní činnost'!G40 -> 0 | I40: ='Doplňková činnost'!G40 -> 0 | J40: =I40+H40 -> 0
B41: Aktivace dlouhodobého majetku | E41: 506 | H41: ='Hlavní činnost'!G41 -> 0 | I41: ='Doplňková činnost'!G41 -> 0 | J41: =I41+H41 -> 0
B42: z toho: | C42: aktivace dlouhodobého hmotného majetku | E42: 506 | F42: 030X | G42: 000X | H42: ='Hlavní činnost'!G42 -> 0 | I42: ='Doplňková činnost'!G42 -> 0 | J42: =I42+H42 -> 0
C43: aktivace dlouhodobého nehmotného majetku | F43: 031X | G43: 001X | H43: ='Hlavní činnost'!G43 -> 0 | I43: ='Doplňková činnost'!G43 -> 0 | J43: =I43+H43 -> 0
C44: ostatní | H44: ='Hlavní činnost'!G44 -> 0 | I44: ='Doplňková činnost'!G44 -> 0 | J44: =I44+H44 -> 0
B45: Aktivace oběžného majetku | E45: 507 | H45: ='Hlavní činnost'!G45 -> 0 | I45: ='Doplňková činnost'!G45 -> 0 | J45: =I45+H45 -> 0
B46: Změna stavu zásob vlastní výroby | E46: 508 | H46: ='Hlavní činnost'!G46 -> 0 | I46: ='Doplňková činnost'!G46 -> 0 | J46: =I46+H46 -> 0
B47: z toho: | C47: změna stavu nedokončené výroby | E47: 508 | F47: 030X | G47: 000X | H47: ='Hlavní činnost'!G47 -> 0 | I47: ='Doplňková činnost'!G47 -> 0 | J47: =I47+H47 -> 0
C48: změna stavu polotovarů | F48: 031X | G48: 001X | H48: ='Hlavní činnost'!G48 -> 0 | I48: ='Doplňková činnost'!G48 -> 0 | J48: =I48+H48 -> 0
C49: změna stavu výrobků | F49: 032X | G49: 002X | H49: ='Hlavní činnost'!G49 -> 0 | I49: ='Doplňková činnost'!G49 -> 0 | J49: =I49+H49 -> 0
C50: změna stavu ostatních zásob | F50: 033X | G50: 003X | H50: ='Hlavní činnost'!G50 -> 0 | I50: ='Doplňková činnost'!G50 -> 0 | J50: =I50+H50 -> 0
C51: ostatní | H51: ='Hlavní činnost'!G51 -> 0 | I51: ='Doplňková činnost'!G51 -> 0 | J51: =I51+H51 -> 0
B52: Opravy a udržování | E52: 511 | H52: ='Hlavní činnost'!G52 -> 25000 | I52: ='Doplňková činnost'!G52 -> 0 | J52: =I52+H52 -> 25000
B53: z toho: | C53: nemovitého majetku do 200 tis. Kč )1 | E53: 511 | F53: 034X | G53: 004X | H53: ='Hlavní činnost'!G53 -> 10000 | I53: ='Doplňková činnost'!G53 -> 0 | J53: =I53+H53 -> 10000
C54: nemovitého majetku nad 200 tis. Kč )2 | F54: 030X)2,3 | G54: 000X)2,3 | H54: ='Hlavní činnost'!G54 -> 0 | I54: ='Doplňková činnost'!G54 -> 0 | J54: =I54+H54 -> 0
C55: nemovitého majetku nad 500 tis. Kč )3 | F55: 031X)2,3 | G55: 001X)2,3 | H55: ='Hlavní činnost'!G55 -> x | I55: ='Doplňková činnost'!G55 -> x | J55: x
C56: movitého majetku - strojů, přístrojů a zařízení | F56: 032X | G56: 002X | H56: ='Hlavní činnost'!G56 -> 10000 | I56: ='Doplňková činnost'!G56 -> 0 | J56: =I56+H56 -> 10000
C57: movitého majetku - dopravních prostředků | F57: 033X | G57: 003X | H57: ='Hlavní činnost'!G57 -> 5000 | I57: ='Doplňková činnost'!G57 -> 0 | J57: =I57+H57 -> 5000
C58: restaurování sbírek | F58: 035X | G58: 005X | H58: ='Hlavní činnost'!G58 -> 0 | I58: ='Doplňková činnost'!G58 -> 0 | J58: =I58+H58 -> 0
C59: ostatní | H59: ='Hlavní činnost'!G59 -> 0 | I59: ='Doplňková činnost'!G59 -> 0 | J59: =I59+H59 -> 0
B60: Cestovné | E60: 512 | H60: ='Hlavní činnost'!G60 -> 40000 | I60: ='Doplňková činnost'!G60 -> 0 | J60: =I60+H60 -> 40000
B61: z toho: | C61: tuzemské | E61: 512 | F61: 030X | G61: 000X | H61: ='Hlavní činnost'!G61 -> 40000 | I61: ='Doplňková činnost'!G61 -> 0 | J61: =I61+H61 -> 40000
C62: zahraniční | F62: 031X | G62: 001X | H62: ='Hlavní činnost'!G62 -> 0 | I62: ='Doplňková činnost'!G62 -> 0 | J62: =I62+H62 -> 0
C63: ostatní | H63: ='Hlavní činnost'!G63 -> 0 | I63: ='Doplňková činnost'!G63 -> 0 | J63: =I63+H63 -> 0
B64: Náklady na reprezentaci (číslo účtu 513) | E64: 513 | H64: ='Hlavní činnost'!G64 -> 0 | I64: ='Doplňková činnost'!G64 -> 0 | J64: =I64+H64 -> 0
B65: Aktivace vnitroorganizačních služeb | E65: 516 | H65: ='Hlavní činnost'!G65 -> 0 | I65: ='Doplňková činnost'!G65 -> 0 | J65: =I65+H65 -> 0
B66: Ostatní služby | E66: 518 | H66: ='Hlavní činnost'!G66 -> 1462000 | I66: ='Doplňková činnost'!G66 -> 3000 | J66: =I66+H66 -> 1465000
B67: z toho: | C67: poštovné | E67: 518 | F67: 030X | G67: 000X | H67: ='Hlavní činnost'!G67 -> 1000 | I67: ='Doplňková činnost'!G67 -> 0 | J67: =I67+H67 -> 1000
C68: internet, poplatky za registraci domény | F68: 031X | G68: 001X | H68: ='Hlavní činnost'!G68 -> 6000 | I68: ='Doplňková činnost'!G68 -> 0 | J68: =I68+H68 -> 6000
C69: bankovní poplatky | F69: 032X | G69: 002X | H69: ='Hlavní činnost'!G69 -> 5000 | I69: ='Doplňková činnost'!G69 -> 0 | J69: =I69+H69 -> 5000
C70: nájemné bytových prostor bez plateb za související služby | F70: 033X | G70: 003X | H70: ='Hlavní činnost'!G70 -> 0 | I70: ='Doplňková činnost'!G70 -> 0 | J70: =I70+H70 -> 0
C71: nájemné nebytových prostor bez plateb za související služby | F71: 051X | G71: =IF('Doplňková činnost'!F71=0,"nevyplněna analytika.",'Doplňková činnost'!F71) -> 020X | H71: ='Hlavní činnost'!G71 -> 200000 | I71: ='Doplňková činnost'!G71 -> 1000 | J71: =I71+H71 -> 201000
C72: nájemné za movitý majetek bez plateb za související služby | F72: 034X | G72: 004X | H72: ='Hlavní činnost'!G72 -> 2000 | I72: ='Doplňková činnost'!G72 -> 0 | J72: =I72+H72 -> 2000
C73: stravování - dodavatelsky | F73: 035X | G73: 005X | H73: ='Hlavní činnost'!G73 -> 150000 | I73: ='Doplňková činnost'!G73 -> 0 | J73: =I73+H73 -> 150000
C74: stravování - věcná režie žáci | F74: 036X | G74: 006X | H74: ='Hlavní činnost'!G74 -> 0 | I74: ='Doplňková činnost'!G74 -> 0 | J74: =I74+H74 -> 0
C75: konzultační, poradenské a právní služby | F75: 037X | G75: 007X | H75: ='Hlavní činnost'!G75 -> 21000 | I75: ='Doplňková činnost'!G75 -> 0 | J75: =I75+H75 -> 21000
C76: školení a vzdělávání (ne zaměstnanci) | F76: 038X | G76: 008X | H76: ='Hlavní činnost'!G76 -> 0 | I76: ='Doplňková činnost'!G76 -> 0 | J76: =I76+H76 -> 0
C77: telekomunikace pevné linky | F77: 039X | G77: 009X | H77: ='Hlavní činnost'!G77 -> 4000 | I77: ='Doplňková činnost'!G77 -> 0 | J77: =I77+H77 -> 4000
C78: telekomunikace - mobilní telefony | F78: 052X | G78: 021X | H78: ='Hlavní činnost'!G78 -> 7000 | I78: ='Doplňková činnost'!G78 -> 0 | J78: =I78+H78 -> 7000
C79: poplatky za rozhlas a televizi | F79: 040X | G79: 010X | H79: ='Hlavní činnost'!G79 -> 0 | I79: ='Doplňková činnost'!G79 -> 0 | J79: =I79+H79 -> 0
C80: technické kontroly a revize vyplývající z právních předpisů | F80: 041X | G80: 011X | H80: ='Hlavní činnost'!G80 -> 10000 | I80: ='Doplňková činnost'!G80 -> 0 | J80: =I80+H80 -> 10000
C81: zpracování ekonomických agend | F81: 042X | G81: 012X | H81: ='Hlavní činnost'!G81 -> 72000 | I81: ='Doplňková činnost'!G81 -> 0 | J81: =I81+H81 -> 72000
C82: úklid prováděný dodavatelsky | F82: 043X | G82: 013X | H82: ='Hlavní činnost'!G82 -> 0 | I82: ='Doplňková činnost'!G82 -> 0 | J82: =I82+H82 -> 0
C83: ostraha prováděná dodavatelsky | F83: 044X | G83: 014X | H83: ='Hlavní činnost'!G83 -> 0 | I83: ='Doplňková činnost'!G83 -> 0 | J83: =I83+H83 -> 0
... C94: ediční činnost, výstavy a restaurování | F94: 049X | G94: 019X | H94: ='Hlavní činnost'!G94 -> 0 | I94: ='Doplňková činnost'!G94 -> 0 | J94: =I94+H94 -> 0
C95: náklady s pořízením věcného břemene | F95: 050X | G95: =IF('Doplňková činnost'!F95=0,"nevyplněna analytika.",'Doplňková činnost'!F95) -> 028X | H95: ='Hlavní činnost'!G95 -> 0 | I95: ='Doplňková činnost'!G95 -> 0 | J95: =I95+H95 -> 0
C96: autoškola, svářečský kurz | F96: =IF('Hlavní činnost'!F96=0,"nevyplněna analytika.",'Hlavní činnost'!F96) -> 059X | G96: =IF('Doplňková činnost'!F96=0,"nevyplněna analytika.",'Doplňková činnost'!F96) -> 029X | H96: ='Hlavní činnost'!G96 -> 0 | I96: ='Doplňková činnost'!G96 -> 0 | J96: =I96+H96 -> 0
C97: ostatní | H97: ='Hlavní činnost'!G97 -> 933000 | I97: ='Doplňková činnost'!G97 -> 0 | J97: =I97+H97 -> 933000
B98: Mzdové náklady | E98: 521 | H98: ='Hlavní činnost'!G98 -> 5316000 | I98: ='Doplňková činnost'!G98 -> 30000 | J98: =I98+H98 -> 5346000
B99: z toho: | C99: prostředky na platy, mzdy | E99: 521 | F99: 030X | G99: 000X | H99: ='Hlavní činnost'!G99 -> 4866000 | I99: ='Doplňková činnost'!G99 -> 30000 | J99: =I99+H99 -> 4896000
C100: ostatní osobní náklady | F100: 031X | G100: 001X | H100: ='Hlavní činnost'!G100 -> 450000 | I100: ='Doplňková činnost'!G100 -> 0 | J100: =I100+H100 -> 450000
C101: odstupné | F101: 032X | G101: 002X | H101: ='Hlavní činnost'!G101 -> 0 | I101: ='Doplňková činnost'!G101 -> 0 | J101: =I101+H101 -> 0
C102: náhrada mzdy za dočasnou pracovní neschopnost | F102: 033X | G102: 003X | H102: ='Hlavní činnost'!G102 -> 0 | I102: ='Doplňková činnost'!G102 -> 0 | J102: =I102+H102 -> 0
C103: ostatní | H103: ='Hlavní činnost'!G103 -> 0 | I103: ='Doplňková činnost'!G103 -> 0 | J103: =I103+H103 -> 0
B104: Zákonné sociální pojištění | E104: 524 | H104: ='Hlavní činnost'!G104 -> 1796000 | I104: ='Doplňková činnost'!G104 -> 10000 | J104: =I104+H104 -> 1806000
B105: z toho: | C105: sociální pojištění | E105: 524 | F105: 030X | G105: 000X | H105: ='Hlavní činnost'!G105 -> 1318000 | I105: ='Doplňková činnost'!G105 -> 7000 | J105: =I105+H105 -> 1325000
C106: zdravotní pojištění | F106: 031X | G106: 001X | H106: ='Hlavní činnost'!G106 -> 478000 | I106: ='Doplňková činnost'!G106 -> 3000 | J106: =I106+H106 -> 481000
C107: ostatní | H107: ='Hlavní činnost'!G107 -> 0 | I107: ='Doplňková činnost'!G107 -> 0 | J107: =I107+H107 -> 0
B108: Jiné sociální pojištění | E108: 525 | H108: ='Hlavní činnost'!G108 -> 21000 | I108: ='Doplňková činnost'!G108 -> 0 | J108: =I108+H108 -> 21000
B109: z toho: | C109: povinné úrazové pojištění zaměstnanců (zákon č. 266/2006Sb.) | E109: 525 | F109: 030X | G109: 000X | H109: ='Hlavní činnost'!G109 -> 21000 | I109: ='Doplňková činnost'!G109 -> 0 | J109: =I109+H109 -> 21000
C110: ostatní | H110: ='Hlavní činnost'!G110 -> 0 | I110: ='Doplňková činnost'!G110 -> 0 | J110: =I110+H110 -> 0
B111: Zákonné sociální náklady | E111: 527 | H111: ='Hlavní činnost'!G111 -> 416000 | I111: ='Doplňková činnost'!G111 -> 0 | J111: =I111+H111 -> 416000
B112: z toho: | C112: základní příděl do FKSP | E112: 527 | F112: 030X | G112: 000X | H112: ='Hlavní činnost'!G112 -> 49000 | I112: ='Doplňková činnost'!G112 -> 0 | J112: =I112+H112 -> 49000
C113: ochranné pomůcky v souladu se zákonem o dani z příjmu | F113: 031X | G113: 001X | H113: ='Hlavní činnost'!G113 -> 6000 | I113: ='Doplňková činnost'!G113 -> 0 | J113: =I113+H113 -> 6000
C114: příspěvek na stravování zaměstnanců | F114: 032X | G114: 002X | H114: ='Hlavní činnost'!G114 -> 35000 | I114: ='Doplňková činnost'!G114 -> 0 | J114: =I114+H114 -> 35000
C115: preventivní prohlídky | F115: 033X | G115: 003X | H115: ='Hlavní činnost'!G115 -> 6000 | I115: ='Doplňková činnost'!G115 -> 0 | J115: =I115+H115 -> 6000
C116: školení a vzdělávání, konference (zaměstnanci) | F116: 034X | G116: 004X | H116: ='Hlavní činnost'!G116 -> 320000 | I116: ='Doplňková činnost'!G116 -> 0 | J116: =I116+H116 -> 320000
C117: ostatní | H117: ='Hlavní činnost'!G117 -> 0 | I117: ='Doplňková činnost'!G117 -> 0 | J117: =I117+H117 -> 0
...

Sheet Pokyny 
A1: Pokyny pro vyplňování tabulek :
B2: 1. | C2: V jednotlivých listech formuláře vyplňujeme pouze bílá políčka !
B3: 2. | C3: Po vybrání příslušného ORG (čtyřmístné číslo) ze seznamu budou údaje "Oblast poskytování služeb", "Název příspěvkové organizace", "Sídlo - adresa" a "IČ" automaticky vygenerovány. Identifikačních údaje /název zařízení, adresa, IČ atd. / budou automaticky přeneseny do navazujících tabulek. ORG je možno vyplnit i ručně.
B12: V případě, že došlo ke změně názvu PO, adresy a tato skutečnost nebyla promítnuta do databáze PO je možno tuto skutečnost uvést pod hlavičkou PO (viz Pozn.). Tento údaj bude následně přenesen i do navazujících tabulek v rámci poznámky.
B29: 3. | C29: Rozpis rozpočtu je sestaven v Kč zaokrouhlených na tis. Kč (tj. 25,325 tis. Kč bude v rozpisu SR uvedeno jako 25 000 Kč). NEUVÁDÉT ÚDAJE NA DESET. MÍSTA. Výjimkou je údaj průměrný přepočtený počet pracovníků (na 2 deset. místa).
B30: 4. | C30: Příspěvkové organizace ze sociální oblasti sestavují svůj rozpočet dle jednotlivých poskytovaných služeb (např. domovy se zvláštním režimem, domovy pro seniory, atd..). Do políček Tabulky č. 1 - Hlavní činnost vyplňte do názvu hlavní činnosti (řádek č. 7) název poskytované služby a do řádku pod uvedením názvu služby vyplňte číslo ORJ označující službu (řádek č. 8).
C31: Příspěvkové organizace za oblast školství sestavují rozpis rozpočtu dle uvedených ORJ, včetně prostředků z MŠMT. Do políček Tabulky č. 1 - Hlavní činnost vyplňte nejprve do názvu hlavní činnosti (řádek č. 7) název příslušného ORJ a do řádku pod uvedením názvu vyplňte číslo ORJ (řádek č. 8). V případě příspěvkových organizací z oblasti školství proveďte rozpis rozpočtu pouze na jedno ORJ (bez ohledu, na to zda se jedná o prostředky z rozpočtu OK, MŠMT nebo vlastní zdroje).
C32: Příspěvkové organizace za oblast zdravotnictví sestavují rozpis rozpočtu dle jednotlivých poskytovaných služeb (např. Následná lůžková péče, Rehabilitační léčebna, atd..). Do políček Tabulky č. 1 - Hlavní činnost vyplňte nejprve do názvu hlavní činnosti (řádek č. 7) název poskytované služby a do řádku pod uvedením názvu vyplňte číslo ORJ označující danou službu (řádek č. 8).
C33: Příspěvkové organizace z kulturní oblasti sestavují svůj rozpočet dle jednotlivých objektů (např. pro Vlastivědné muzeum v Olomouci bude text k objektu - nám. Republiky, Olomouc, atd..). Do políček Tabulky č. 1 - Hlavní činnost vyplňte nejprve do názvu hlavní činnosti (řádek č. 7) název příslušného ORJ dle jednotlivých objektů a do řádku pod uvedením názvu vyplňte číslo ORJ (řádek č.8).
C35: Příspěvková organizace SSOK sestaví svůj rozpočet dle jednotlivých středisek. Do políček Tabulky č.1 - Hlavní činnost vyplňte nejprve do názvu hlavní činnosti (řádek č. 7) název příslušného ORJ dle jednotlivých středisek a do řádku pod uvedením názvu vyplňte číslo ORJ (řádek č. 8).
B37: 5. | C37: V případě doplňkové činnosti je třeba rozpočet rozepsat dle jednotlivých doplňkových činností, tak jak jsou uvedeny ve zřizovací listině příspěvkové organizace. PO uvádí pouze ty doplňkové činnosti, které budou v roce 2024 skutečně realizovány.
B38: 6. | C38: U příspěvkových organizací z oblasti sociální a dopravy bylo ORJ pro rok 2023 rozšířeno o další ORJ, a to o ostatní nespecifikované činnosti - hlavní činnost a ostatní činnosti - doplňková činnost.
B39: 7. | C39: Tabulka list "rekapitulace" je pouze součtová a z tohoto důvodu je uzamčená. Do uvedené tabulky se přenáší automaticky Vaše data z předchozích listů.
B40: 8. | C40: Zpracovaný rozpis rozpočtu na rok 2024 zašlete na věcně příslušný odbor, dle zaslaných pokynů.
C41: Při zpracování rozpisu schváleného rozpočtu je třeba dodržet závazné ukazatele schválené Zastupitelstvem Olomouckého kraje. Pouze z důvodů uvedených ve směrnici upravující vztahy OK a zřizovaných PO a vybrané povinnosti ředitelů PO je možno tyto závazné ukazatele překročit. Tuto skutečnost uvede příspěvková organizace v komentáři.
B44: 9. | C44: Příspěvková organizace zpracuje k rozpisu rozpočtu na rok 2024 komentář k účtu 501 - nákup materiálu; 518 - Ostatní služby; 558 - Náklady z drobného dlouhodobého majetku, a to v případě řádku "ostatní". Komentář je třeba zpracovat u rozpočtovaných částek nad 100 tis. Kč.
B45: 10. | C45: Ve směrnici č. 8/2021 upravující vztah Olomouckého kraje a zřizovaných PO a vybrané povinnosti ředitelů PO účinné od 1.3.2023 jsou vymezena pravidla pro investiční činnost př. opravy realizované příspěvkovou organizací (hranice 200 tis. Kč). Účinnost směrnice od 1.3.2022.
C46: Uvedená směrnice má dopad do kategorií v oblasti účtu 511:
C47: Původní kategorie účtu 511 - opravy a udržování nemovitého majetku do 100 tis. Kč; nemovitého majetku od 100 tis. do 500 tis. Kč; nemovitého majteku nad 500 tis.Kč nahrazeny ketogoriemi - opravy a udržování nemovitého majetku do 200 tis. Kč; nemovitého majetku nad 200 tis. Kč. Ostatní kategorie účtu 511 jsou ponechány beze změny.
C49: Účet 511 - opravy a udržování nemovitého majetku do 100 tis. Kč (AU 034X, 004X) nahrazen účtem 511 - opravy a udržování nemovitého majetku do 200 tis. Kč (AU 034X, 004X) (viz Tabulka Hlavní činnost, Tabulka Doplňková činnost, Tabulka Rekapitulace)
C51: Účet 511 - opravy a udržování nemovitého majetku od 100 tis. Kč do 500 tis. Kč (AU 030X, 000X) a nemovitého majetku nad 500 tis. Kč (AU 031X, 001X) nahrazen účtem 511 - opravy a udržování nemovitého majetku nad 200 tis. Kč (AU 030X, 031X, 000X, 001X) (viz Tabulka Hlavní činnost, Tabulka Doplňková činnost, Tabulka Rekapitulace).
B52: 11. | C52: Směrnicí č. 3/2022, kterou byla novelizovaná směrnice č.8/2022, došlo v návaznosti na rostoucí ceny energií příspěvkových organizací k vyčlenění účelového příspěvku na úhradu spotřeby plynu příspěvkových organizací (UZ 00 311) a spotřeby elektrické energie (UZ 00 312). Jedná se o účelově určené finanční prostředky. V návaznosti na účelově určený příspěvek PO je ze strany zřizovatele stanoven pro PO i závazný ukazatel, a to limit spotřeby plynu, limit spotřeby elektrické energie a limit spotřeby tepla.
A56: Technické údaje:
B57: - funkce skrýt přebytečné sloupce (Tabulka č. 1 Hlavní činnost, Tabulka č. 2 Doplňková činnost)
C58: v případě, že tabulka obsahuje větší počet sloupců, než příspěvková organizace potřebuje, je možno tyto skrýt (myší si ve sl. skrýt sloupce označím počet sloupců (změní barvu), pravým tlačítkem myši kliknu na "žlutě" zvýrazněnou lištu a použiji funkci skrýt (pravá strana myši). V případě že potřebuji tyto sloupce opět rozbalit postupuji stejně pouze použiji funkci zobrazit (viz. příklad)
A66: Příklad:
A67: 1. Označím počet sloupců (sl. H až sl. M)
A81: 2. Pravým tlačítkem myši kliknout na zvýrazněné sloupce a použít funkci skrýt (pravá strana myši)
A95: 3. Tabulka se skrytými sloupci
