Workbook

Sheet Úvodní list
A1: Po vybrání příslušného ORG (čtyřmístné číslo) ze seznamu budou údaje "Oblast poskytování služeb", "Název příspěvkové organizace", "Sídlo - adresa" a "IČ" automaticky vygenerovány. V případě, že došlo ke změně názvu PO, adresy a tato skutečnost nebyla promítnuta do databáze PO je možno tuto skutečnost uvést pod hlavičkou PO (viz Pozn.).Tyto údaje budou dále přeneseny do následujících tabulek v rámci poznámky.
B5: Oblast | D5: =IF(D9="", "BUDE VYGENEROVÁNO",VLOOKUP(D9,Základ!A4:E148,5)) -> Oblast školství, Okres Olomouc
B6: Název organizace | D6: =IF(D9="","BUDE VYGENEROVÁNO",VLOOKUP(D9,Základ!A4:E148,2)) -> Dům dětí a mládeže Vila Tereza, Uničov
B7: Adresa | D7: =IF(D9="","BUDE VYGENEROVÁNO",VLOOKUP(D9,Základ!A4:E148,3)) -> Nádražní 530, 783 91 Uničov
B8: IČ | D8: =IF(D9="","BUDE VYGENEROVÁNO",VLOOKUP(D9,Základ!A4:E148,4)) -> 47654392
B9: ORG | D9: 1352
B10: Součásti organizace
B11: Pozn. :
B14: Návrh rozpočtu 2025 a Střednědobého výhledu rozpočtu 2026 a 2027
B19: Náklady a výnosy příspěvkové organizace
B21: Tabulka č.1 - Hlavní činnost
B22: Tabulka č.2 - Doplňková činnost
B23: Tabulka č.3 - Rekapitulace
B28: Vypracoval:
B29: Jméno | D29: Telefon | F29: Podpis
B30: Gabriela Konečná | D30: 585051156
B32: Schválil:
B33: Jméno | D33: Telefon | F33: Podpis
B34: Mgr.Dagmar Smitalová | D34: 585051156
B38: Datum: | C38: 45477
B39: ……………………………………………….

Sheet Hlavní činnost
B1: Skrýt sloupce
B2: Návrh rozpočtu 2025 a Střednědobého výhledu rozpočtu 2026 a 2027 | U2: Tabulka č.1-Hlavní činnost
B3: Příloha č. 1 Náklady a výnosy příspěvkové organizace | U3: ORG: | V3: =IF('Úvodní list'!D9=0," ",'Úvodní list'!D9) -> 1352
B4: Název příspěvkové organizace: | E4: =IF('Úvodní list'!D6="BUDE VYGENEROVÁNO","",'Úvodní list'!D6) -> Dům dětí a mládeže Vila Tereza, Uničov
B5: ='Úvodní list'!B11 -> Pozn. :
B6: Náklady a výnosy | O6: hlavní činnost / v Kč / | Q6: =IF(O247=(ROUND(O247,-3)),"","POZOR ÚDAJE NÁVRHU ROZPOČTU 2025 je třeba zaokrouh. na tis. Kč") | Y6: Návrh střednědobého výhledu rozpočtu
G7: 2024 | H7: název činnosti / ORJ | O7: 2025 | P7: název činnosti / ORJ | X7: meziroční srovnání + nárůst - pokles (Návrh 2025 a rozpis 2024 | Y7: 2026 | Z7: 2027
G8: Rozpis schváleného rozpočtu 2024 /v Kč zaokrouhl. na tis. Kč/ | H8: využití volného času - domy dětí a mládeže | O8: Návrh rozpočtu na rok 2025 (v Kč zaokrouhl. na tis. Kč) | P8: využití volného času - domy dětí a mládeže | W8: Nevyplňovat | Y8: Výhled na rok 2026 | Z8: Výhled na rok 2027
B9: Název účetní položky | D9: UZ | E9: SÚ | F9: AÚ | G9: celkem | H9: 111 | O9: celkem | P9: 111 | Y9: =IF((Y247+Z247)=(ROUND((Y247+Z247),-3)),"(v Kč zaokrouhl. na tis. Kč)","POZOR ÚDAJE NÁVRHU SV je třeba zaokrouh. na tis. Kč") -> (v Kč zaokrouhl. na tis. Kč)
B10: A.Náklady celkem - účtová tř. 5 | G10: =G11+G147+G151+G153 -> 10456000 | H10: =SUM(H11,H147,H151,H153) -> 10456000 | I10: =SUM(I11,I147,I151,I153) -> 0 | J10: =SUM(J11,J147,J151,J153) -> 0 | K10: =SUM(K11,K147,K151,K153) -> 0 | L10: =SUM(L11,L147,L151,L153) -> 0 | M10: =SUM(M11,M147,M151,M153) -> 0 | N10: =SUM(N11,N147,N151,N153) -> 0 | O10: =O11+O147+O151+O153 -> 9769000 | P10: =P11+P147+P151+P153 -> 9769000 | Q10: =Q11+Q147+Q151+Q153 -> 0 | R10: =R11+R147+R151+R153 -> 0 | S10: =S11+S147+S151+S153 -> 0 | T10: =T11+T147+T151+T153 -> 0 | U10: =U11+U147+U151+U153 -> 0 | V10: =V11+V147+V151+V153 -> 0 | X10: =O10-G10 -> -687000 | Y10: =Y11+Y147+Y151+Y153 -> 9571000 | Z10: =Z11+Z147+Z151+Z153 -> 9951000
B11: I. Náklady z činnosti | G11: =G12+G34+G40+G41+G42+G46+G47+G53+G61+G65+G66+G67+G99+G105+G109+G112+G119+G122+G123+G128+G129+G130+G133+G138+G139+G140+G141 -> 10456000 | H11: =SUM(H12,H34,H40,H41,H42,H46,H47,H53,H61,H65,H66,H67,H99,H105,H109,H112,H119,H122,H123,H128,H129,H130,H133,H138,H139,H140,H141) -> 10456000 | I11: =SUM(I12,I34,I40,I41,I42,I46,I47,I53,I61,I65,I66,I67,I99,I105,I109,I112,I119,I122,I123,I128,I129,I130,I133,I138,I139,I140,I141) -> 0 | J11: =SUM(J12,J34,J40,J41,J42,J46,J47,J53,J61,J65,J66,J67,J99,J105,J109,J112,J119,J122,J123,J128,J129,J130,J133,J138,J139,J140,J141) -> 0 | K11: =SUM(K12,K34,K40,K41,K42,K46,K47,K53,K61,K65,K66,K67,K99,K105,K109,K112,K119,K122,K123,K128,K129,K130,K133,K138,K139,K140,K141) -> 0 | L11: =SUM(L12,L34,L40,L41,L42,L46,L47,L53,L61,L65,L66,L67,L99,L105,L109,L112,L119,L122,L123,L128,L129,L130,L133,L138,L139,L140,L141) -> 0 | M11: =SUM(M12,M34,M40,M41,M42,M46,M47,M53,M61,M65,M66,M67,M99,M105,M109,M112,M119,M122,M123,M128,M129,M130,M133,M138,M139,M140,M141) -> 0 | N11: =SUM(N12,N34,N40,N41,N42,N46,N47,N53,N61,N65,N66,N67,N99,N105,N109,N112,N119,N122,N123,N128,N129,N130,N133,N138,N139,N140,N141) -> 0 | O11: =O12+O34+O40+O41+O42+O46+O47+O53+O61+O65+O66+O67+O99+O105+O109+O112+O119+O122+O123+O128+O129+O130+O133+O138+O139+O140+O141 -> 9769000 | P11: =P12+P34+P40+P41+P42+P46+P47+P53+P61+P65+P66+P67+P99+P105+P109+P112+P119+P122+P123+P128+P129+P130+P133+P138+P139+P140+P141 -> 9769000 | Q11: =Q12+Q34+Q40+Q41+Q42+Q46+Q47+Q53+Q61+Q65+Q66+Q67+Q99+Q105+Q109+Q112+Q119+Q122+Q123+Q128+Q129+Q130+Q133+Q138+Q139+Q140+Q141 -> 0 | R11: =R12+R34+R40+R41+R42+R46+R47+R53+R61+R65+R66+R67+R99+R105+R109+R112+R119+R122+R123+R128+R129+R130+R133+R138+R139+R140+R141 -> 0 | S11: =S12+S34+S40+S41+S42+S46+S47+S53+S61+S65+S66+S67+S99+S105+S109+S112+S119+S122+S123+S128+S129+S130+S133+S138+S139+S140+S141 -> 0 | T11: =T12+T34+T40+T41+T42+T46+T47+T53+T61+T65+T66+T67+T99+T105+T109+T112+T119+T122+T123+T128+T129+T130+T133+T138+T139+T140+T141 -> 0 | U11: =U12+U34+U40+U41+U42+U46+U47+U53+U61+U65+U66+U67+U99+U105+U109+U112+U119+U122+U123+U128+U129+U130+U133+U138+U139+U140+U141 -> 0 | V11: =V12+V34+V40+V41+V42+V46+V47+V53+V61+V65+V66+V67+V99+V105+V109+V112+V119+V122+V123+V128+V129+V130+V133+V138+V139+V140+V141 -> 0 | X11: =O11-G11 -> -687000 | Y11: =Y12+Y34+Y40+Y41+Y42+Y46+Y47+Y53+Y61+Y65+Y66+Y67+Y99+Y105+Y109+Y112+Y119+Y122+Y123+Y128+Y129+Y130+Y133+Y138+Y139+Y140+Y141 -> 9571000 | Z11: =Z12+Z34+Z40+Z41+Z42+Z46+Z47+Z53+Z61+Z65+Z66+Z67+Z99+Z105+Z109+Z112+Z119+Z122+Z123+Z128+Z129+Z130+Z133+Z138+Z139+Z140+Z141 -> 9951000
B12: Spotřeba materiálu | E12: 501 | G12: =SUM(G13:G33) -> 503000 | H12: =SUM(H13:H33) -> 503000 | I12: =SUM(I13:I33) -> 0 | J12: =SUM(J13:J33) -> 0 | K12: =SUM(K13:K33) -> 0 | L12: =SUM(L13:L33) -> 0 | M12: =SUM(M13:M33) -> 0 | N12: =SUM(N13:N33) -> 0 | ... V12: =SUM(V13:V33) -> 0 | X12: =O12-G12 -> 32000 | Y12: =SUM(Y13:Y33) -> 560000 | Z12: =SUM(Z13:Z33) -> 585000
B13: z toho: | C13: potraviny pro klienty, žáky | E13: 501 | F13: 030X | G13: =SUM(H13:N13) -> 120000 | H13: 120000 | O13: =SUM(P13:V13) -> 125000 | P13: 125000 | X13: =O13-G13 -> 5000 | Y13: 135000 | Z13: 145000
C14: potraviny pro zaměstnance | F14: 036X | G14: =SUM(H14:N14) -> 0 | H14: 0 | O14: =SUM(P14:V14) -> 0 | P14: 0 | X14: =O14-G14 -> 0 | Y14: 0 | Z14: 0
C15: potravimy pro ostatní | F15: 037X | G15: =SUM(H15:N15) -> 0 | H15: 0 | O15: =SUM(P15:V15) -> 0 | P15: 0 | X15: =O15-G15 -> 0 | Y15: 0 | Z15: 0
C16: ochranné pomůcky ( pro žáky a nad rámec zákona o dani z příjmů), prádlo, oděv, obuv pod hranicí (není zařazeno na účet 028) | F16: 031X | G16: =SUM(H16:N16) -> 0 | H16: 0 | O16: =SUM(P16:V16) -> 0 | P16: 0 | X16: =O16-G16 -> 0 | Y16: 0 | Z16: 0
C17: léky a zdravotnický materiál | F17: 040X | G17: =SUM(H17:N17) -> 3000 | H17: 3000 | O17: =SUM(P17:V17) -> 3000 | P17: 3000 | X17: =O17-G17 -> 0 | Y17: 3000 | Z17: 3000
C18: učebnice a bezplatně poskytované školní potřeby | F18: 032X | G18: =SUM(H18:N18) -> 0 | H18: 0 | O18: =SUM(P18:V18) -> 0 | P18: 0 | X18: =O18-G18 -> 0 | Y18: 0 | Z18: 0
C19: knihy, učební pomůcky, tisk (není zařazeno na účtu 028) - pořizované v souladu s právními předpisy) | F19: 033X | G19: =SUM(H19:N19) -> 0 | H19: 0 | O19: =SUM(P19:V19) -> 0 | P19: 0 | X19: =O19-G19 -> 0 | Y19: 0 | Z19: 0
C20: knihy, učební pomůcky, tisk (není zařazeno na účtu 028) - ostatní | F20: 034X | G20: =SUM(H20:N20) -> 30000 | H20: 30000 | O20: =SUM(P20:V20) -> 30000 | P20: 30000 | X20: =O20-G20 -> 0 | Y20: 30000 | Z20: 30000
C21: DDHM pod hranicí (není zařazeno na účet 028) | F21: 035X | G21: =SUM(H21:N21) -> 50000 | H21: 50000 | O21: =SUM(P21:V21) -> 50000 | P21: 50000 | X21: =O21-G21 -> 0 | Y21: 50000 | Z21: 50000
C22: materiál pro pracovní terapii | F22: 050X | G22: =SUM(H22:N22) -> 0 | H22: 0 | O22: =SUM(P22:V22) -> 0 | P22: 0 | X22: =O22-G22 -> 0 | Y22: 0 | Z22: 0
C23: technické a mediciální plyny | F23: 051X | G23: =SUM(H23:N23) -> 0 | H23: 0 | O23: =SUM(P23:V23) -> 0 | P23: 0 | X23: =O23-G23 -> 0 | Y23: 0 | Z23: 0
C24: pevná paliva a kapalná paliva (agregáty…) | F24: 060X | G24: =SUM(H24:N24) -> 0 | H24: 0 | O24: =SUM(P24:V24) -> 0 | P24: 0 | X24: =O24-G24 -> 0 | Y24: 0 | Z24: 0
C25: pohonné hmoty a maziva (dopravní prostředky) | F25: 061X | G25: =SUM(H25:N25) -> 15000 | H25: 15000 | O25: =SUM(P25:V25) -> 16000 | P25: 16000 | X25: =O25-G25 -> 1000 | Y25: 18000 | Z25: 20000
... C32: dopravní značení SSOK | F32: 047X | G32: =SUM(H32:N32) -> 0 | H32: 0 | O32: =SUM(P32:V32) -> 0 | P32: 0 | X32: =O32-G32 -> 0 | Y32: 0 | Z32: 0
C33: ostatní | G33: =SUM(H33:N33) -> 0 | H33: 0 | O33: =SUM(P33:V33) -> 0 | P33: 0 | X33: =O33-G33 -> 0 | Y33: 0 | Z33: 0
B34: Spotřeba energie | E34: 502 | G34: =SUM(G35:G39) -> 700000 | H34: =SUM(H35:H39) -> 700000 | I34: =SUM(I35:I39) -> 0 | J34: =SUM(J35:J39) -> 0 | K34: =SUM(K35:K39) -> 0 | L34: =SUM(L35:L39) -> 0 | M34: =SUM(M35:M39) -> 0 | N34: =SUM(N35:N39) -> 0 | ... V34: =SUM(V35:V39) -> 0 | X34: =O34-G34 -> -153000 | Y34: =SUM(Y35:Y39) -> 578000 | Z34: =SUM(Z35:Z39) -> 609000
B35: z toho: | C35: vodné a stočné, včetně srážkové vody | E35: 502 | F35: 030X | G35: =SUM(H35:N35) -> 50000 | H35: 50000 | O35: =SUM(P35:V35) -> 52000 | P35: 52000 | X35: =O35-G35 -> 2000 | Y35: 54000 | Z35: 56000
C36: teplo a pára | F36: 031X | G36: =SUM(H36:N36) -> 500000 | H36: 500000 | O36: =SUM(P36:V36) -> 360000 | P36: 360000 | X36: =O36-G36 -> -140000 | Y36: 384000 | Z36: 408000
C37: plyn (ne mediciální) | F37: 032X | G37: =SUM(H37:N37) -> 0 | H37: 0 | O37: =SUM(P37:V37) -> 0 | P37: 0 | X37: =O37-G37 -> 0 | Y37: 0 | Z37: 0
C38: elektrická energie | F38: 033X | G38: =SUM(H38:N38) -> 150000 | H38: 150000 | O38: =SUM(P38:V38) -> 135000 | P38: 135000 | X38: =O38-G38 -> -15000 | Y38: 140000 | Z38: 145000
C39: ostatní | G39: =SUM(H39:N39) -> 0 | H39: 0 | O39: =SUM(P39:V39) -> 0 | P39: 0 | X39: =O39-G39 -> 0 | Y39: 0 | Z39: 0
B40: Spotřeba jiných neskladovaných dodávek | E40: 503 | G40: =SUM(H40:N40) -> 0 | H40: 0 | O40: =SUM(P40:V40) -> 0 | P40: 0 | X40: =O40-G40 -> 0 | Y40: 0 | Z40: 0
B41: Prodané zboží | E41: 504 | G41: =SUM(H41:N41) -> 0 | H41: 0 | O41: =SUM(P41:V41) -> 0 | P41: 0 | X41: =O41-G41 -> 0 | Y41: 0 | Z41: 0
B42: Aktivace dlouhodobého majetku | E42: 506 | G42: =SUM(G43:G45) -> 0 | H42: =SUM(H43:H45) -> 0 | I42: =SUM(I43:I45) -> 0 | J42: =SUM(J43:J45) -> 0 | K42: =SUM(K43:K45) -> 0 | L42: =SUM(L43:L45) -> 0 | M42: =SUM(M43:M45) -> 0 | N42: =SUM(N43:N45) -> 0 | ... V42: =SUM(V43:V45) -> 0 | X42: =O42-G42 -> 0 | Y42: 0 | Z42: 0
B43: z toho: | C43: aktivace dlouhodobého hmotného majetku | E43: 506 | F43: 030X | G43: =SUM(H43:N43) -> 0 | H43: 0 | O43: =SUM(P43:V43) -> 0 | P43: 0 | X43: =O43-G43 -> 0 | Y43: x | Z43: x
C44: aktivace dlouhodobého nehmotného majetku | F44: 031X | G44: =SUM(H44:N44) -> 0 | H44: 0 | O44: =SUM(P44:V44) -> 0 | P44: 0 | X44: =O44-G44 -> 0 | Y44: x | Z44: x
C45: ostatní | G45: =SUM(H45:N45) -> 0 | H45: 0 | O45: =SUM(P45:V45) -> 0 | P45: 0 | X45: =O45-G45 -> 0 | Y45: x | Z45: x
B46: Aktivace oběžného majetku | E46: 507 | G46: =SUM(H46:N46) -> 0 | H46: 0 | O46: =SUM(P46:V46) -> 0 | P46: 0 | X46: =O46-G46 -> 0 | Y46: 0 | Z46: 0
B47: Změna stavu zásob vlastní výroby | E47: 508 | G47: =SUM(G48:G52) -> 0 | H47: =SUM(H48:H52) -> 0 | I47: =SUM(I48:I52) -> 0 | J47: =SUM(J48:J52) -> 0 | K47: =SUM(K48:K52) -> 0 | L47: =SUM(L48:L52) -> 0 | M47: =SUM(M48:M52) -> 0 | N47: =SUM(N48:N52) -> 0 | ... V47: =SUM(V48:V52) -> 0 | X47: =O47-G47 -> 0 | Y47: 0 | Z47: 0
B48: z toho: | C48: změna stavu nedokončené výroby | E48: 508 | F48: 030X | G48: =SUM(H48:N48) -> 0 | H48: 0 | O48: =SUM(P48:V48) -> 0 | P48: 0 | X48: =O48-G48 -> 0 | Y48: x | Z48: x
C49: změna stavu polotovarů | F49: 031X | G49: =SUM(H49:N49) -> 0 | H49: 0 | O49: =SUM(P49:V49) -> 0 | P49: 0 | X49: =O49-G49 -> 0 | Y49: x | Z49: x
C50: změna stavu výrobků | F50: 032X | G50: =SUM(H50:N50) -> 0 | H50: 0 | O50: =SUM(P50:V50) -> 0 | P50: 0 | X50: =O50-G50 -> 0 | Y50: x | Z50: x
C51: změna stavu ostatních zásob | F51: 033X | G51: =SUM(H51:N51) -> 0 | H51: 0 | O51: =SUM(P51:V51) -> 0 | P51: 0 | X51: =O51-G51 -> 0 | Y51: x | Z51: x
C52: ostatní | G52: =SUM(H52:N52) -> 0 | H52: 0 | O52: =SUM(P52:V52) -> 0 | P52: 0 | X52: =O52-G52 -> 0 | Y52: x | Z52: x
B53: Opravy a udržování | E53: 511 | G53: =SUM(G54:G60) -> 25000 | H53: =SUM(H54:H60) -> 25000 | I53: =SUM(I54:I60) -> 0 | J53: =SUM(J54:J60) -> 0 | K53: =SUM(K54:K60) -> 0 | L53: =SUM(L54:L60) -> 0 | M53: =SUM(M54:M60) -> 0 | N53: =SUM(N54:N60) -> 0 | ... V53: =SUM(V54:V60) -> 0 | X53: =O53-G53 -> 0 | Y53: =SUM(Y54:Y60) -> 25000 | Z53: =SUM(Z54:Z60) -> 25000
B54: z toho: | C54: nemovitého majetku do 200 tis. Kč )1 | E54: 511 | F54: 034X | G54: =SUM(H54:N54) -> 10000 | H54: 10000 | O54: =SUM(P54:V54) -> 10000 | P54: 10000 | X54: =O54-G54 -> 0 | Y54: 10000 | Z54: 10000
C55: nemovitého majetku nad 200 tis. Kč )2 | F55: 030X)2,3 | G55: =SUM(H55:N55) -> 0 | H55: 0 | O55: =SUM(P55:V55) -> 0 | P55: 0 | X55: =O55-G55 -> 0 | Y55: 0 | Z55: 0
C56: nemovitého majteku nad 500 tis.Kč )3 | F56: 031X )2,3 | G56: x | H56: x | I56: x | J56: x | K56: x | L56: x | M56: x | N56: x | O56: x | P56: x | Q56: x | R56: x | S56: x | T56: x | U56: x | V56: x | X56: x | Y56: x | Z56: x
C57: movitého majetku - strojů, přístrojů a zařízení | F57: 032X | G57: =SUM(H57:N57) -> 10000 | H57: 10000 | O57: =SUM(P57:V57) -> 10000 | P57: 10000 | X57: =O57-G57 -> 0 | Y57: 10000 | Z57: 10000
C58: movitého majetku - dopravních prostředků | F58: 033X | G58: =SUM(H58:N58) -> 5000 | H58: 5000 | O58: =SUM(P58:V58) -> 5000 | P58: 5000 | X58: =O58-G58 -> 0 | Y58: 5000 | Z58: 5000
C59: restaurování sbírek | F59: 035X | G59: =SUM(H59:N59) -> 0 | H59: 0 | O59: =SUM(P59:V59) -> 0 | P59: 0 | X59: =O59-G59 -> 0 | Y59: 0 | Z59: 0
C60: ostatní | G60: =SUM(H60:N60) -> 0 | H60: 0 | O60: =SUM(P60:V60) -> 0 | P60: 0 | X60: =O60-G60 -> 0 | Y60: 0 | Z60: 0
B61: Cestovné | E61: 512 | G61: =SUM(G62:G64) -> 40000 | H61: =SUM(H62:H64) -> 40000 | I61: =SUM(I62:I64) -> 0 | J61: =SUM(J62:J64) -> 0 | K61: =SUM(K62:K64) -> 0 | L61: =SUM(L62:L64) -> 0 | M61: =SUM(M62:M64) -> 0 | N61: =SUM(N62:N64) -> 0 | ... V61: =SUM(V62:V64) -> 0 | X61: =O61-G61 -> 0 | Y61: 30000 | Z61: 30000
B62: z toho: | C62: tuzemské | E62: 512 | F62: 030X | G62: =SUM(H62:N62) -> 40000 | H62: 40000 | O62: =SUM(P62:V62) -> 40000 | P62: 40000 | X62: =O62-G62 -> 0 | Y62: x | Z62: x
C63: zahraniční | F63: 031X | G63: =SUM(H63:N63) -> 0 | H63: 0 | O63: =SUM(P63:V63) -> 0 | P63: 0 | X63: =O63-G63 -> 0 | Y63: x | Z63: x
C64: ostatní | G64: =SUM(H64:N64) -> 0 | H64: 0 | O64: =SUM(P64:V64) -> 0 | P64: 0 | X64: =O64-G64 -> 0 | Y64: x | Z64: x
B65: Náklady na reprezentaci (číslo účtu 513) | E65: 513 | G65: =SUM(H65:N65) -> 0 | H65: 0 | O65: =SUM(P65:V65) -> 0 | P65: 0 | X65: =O65-G65 -> 0 | Y65: 0 | Z65: 0
B66: Aktivace vnitroorganizačních služeb | E66: 516 | G66: =SUM(H66:N66) -> 0 | H66: 0 | O66: =SUM(P66:V66) -> 0 | P66: 0 | X66: =O66-G66 -> 0 | Y66: 0 | Z66: 0
B67: Ostatní služby | E67: 518 | G67: =SUM(G68:G98) -> 1462000 | H67: =SUM(H68:H98) -> 1462000 | I67: =SUM(I68:I98) -> 0 | J67: =SUM(J68:J98) -> 0 | K67: =SUM(K68:K98) -> 0 | L67: =SUM(L68:L98) -> 0 | M67: =SUM(M68:M98) -> 0 | N67: =SUM(N68:N98) -> 0 | ... V67: =SUM(V68:V98) -> 0 | X67: =O67-G67 -> -87000 | Y67: =SUM(Y68:Y98) -> 1206000 | Z67: =SUM(Z68:Z98) -> 1242000
B68: z toho: | C68: poštovné | E68: 518 | F68: 030X | G68: =SUM(H68:N68) -> 1000 | H68: 1000 | O68: =SUM(P68:V68) -> 1000 | P68: 1000 | X68: =O68-G68 -> 0 | Y68: 1000 | Z68: 1000
C69: internet, poplatky za registaci domény | F69: 031X | G69: =SUM(H69:N69) -> 6000 | H69: 6000 | O69: =SUM(P69:V69) -> 6000 | P69: 6000 | X69: =O69-G69 -> 0 | Y69: 6000 | Z69: 6000
C70: bankovní poplatky | F70: 032X | G70: =SUM(H70:N70) -> 5000 | H70: 5000 | O70: =SUM(P70:V70) -> 5000 | P70: 5000 | X70: =O70-G70 -> 0 | Y70: 5000 | Z70: 5000
C71: nájemné bytových prostor bez plateb za související služby | F71: 033X | G71: =SUM(H71:N71) -> 0 | H71: 0 | O71: =SUM(P71:V71) -> 0 | P71: 0 | X71: =O71-G71 -> 0 | Y71: 0 | Z71: 0
C72: nájemné nebytových prostor bez plateb za související služby | F72: 051X | G72: =SUM(H72:N72) -> 200000 | H72: 200000 | O72: =SUM(P72:V72) -> 220000 | P72: 220000 | X72: =O72-G72 -> 20000 | Y72: 230000 | Z72: 240000
C73: nájemné za movitý majetek bez plateb za související služby | F73: 034X | G73: =SUM(H73:N73) -> 2000 | H73: 2000 | O73: =SUM(P73:V73) -> 2000 | P73: 2000 | X73: =O73-G73 -> 0 | Y73: 2000 | Z73: 2000
C74: stravování - dodavatelsky | F74: 035X | G74: =SUM(H74:N74) -> 150000 | H74: 150000 | O74: =SUM(P74:V74) -> 160000 | P74: 160000 | X74: =O74-G74 -> 10000 | Y74: 170000 | Z74: 180000
C75: stravovávní - věcná režie žáci | F75: 036X | G75: =SUM(H75:N75) -> 0 | H75: 0 | O75: =SUM(P75:V75) -> 0 | P75: 0 | X75: =O75-G75 -> 0 | Y75: 0 | Z75: 0
C76: konzultační, poradenské a právní služby | F76: 037X | G76: =SUM(H76:N76) -> 21000 | H76: 21000 | O76: =SUM(P76:V76) -> 22000 | P76: 22000 | X76: =O76-G76 -> 1000 | Y76: 23000 | Z76: 24000
C77: školení a vzdělávání (ne zaměstnanci) | F77: 038X | G77: =SUM(H77:N77) -> 0 | H77: 0 | O77: =SUM(P77:V77) -> 0 | P77: 0 | X77: =O77-G77 -> 0 | Y77: 0 | Z77: 0
C78: telekomunikace pevné linky | F78: 039X | G78: =SUM(H78:N78) -> 4000 | H78: 4000 | O78: =SUM(P78:V78) -> 4000 | P78: 4000 | X78: =O78-G78 -> 0 | Y78: 4000 | Z78: 4000
C79: telekomunikace - mobilní telefony | F79: 052X | G79: =SUM(H79:N79) -> 7000 | H79: 7000 | O79: =SUM(P79:V79) -> 7000 | P79: 7000 | X79: =O79-G79 -> 0 | Y79: 7000 | Z79: 7000
C80: poplatky za rozhlas a televizi | F80: 040X | G80: =SUM(H80:N80) -> 0 | H80: 0 | O80: =SUM(P80:V80) -> 0 | P80: 0 | X80: =O80-G80 -> 0 | Y80: 0 | Z80: 0
... C83: úklid prováděný dodavatelsky | F83: 043X | G83: =SUM(H83:N83) -> 0 | H83: 0 | O83: =SUM(P83:V83) -> 0 | P83: 0 | X83: =O83-G83 -> 0 | Y83: 0 | Z83: 0
C84: ostraha prováděná dodavatelsky | F84: 044X | G84: =SUM(H84:N84) -> 0 | H84: , | O84: =SUM(P84:V84) -> 0 | P84: 0 | X84: =O84-G84 -> 0 | Y84: 0 | Z84: 0
C85: odvoz a likvidace komunálního odpadu | F85: 045X | G85: =SUM(H85:N85) -> 22000 | H85: 22000 | O85: =SUM(P85:V85) -> 23000 | P85: 23000 | X85: =O85-G85 -> 1000 | Y85: 24000 | Z85: 25000
C86: odvoz a likvidace nebezpečného odpadu | F86: 053X | G86: =SUM(H86:N86) -> 0 | H86: 0 | O86: =SUM(P86:V86) -> 0 | P86: 0 | X86: =O86-G86 -> 0 | Y86: 0 | Z86: 0
C87: drobný dlouhodobý nehmotný majetek do dolní hranice ve vazbě na vnitřní předpis | F87: 046X | G87: =SUM(H87:N87) -> 1000 | H87: 1000 | O87: =SUM(P87:V87) -> 1000 | P87: 1000 | X87: =O87-G87 -> 0 | Y87: 1000 | Z87: 1000
C88: údržba software a licence | F88: 047X | G88: =SUM(H88:N88) -> 28000 | H88: 28000 | O88: =SUM(P88:V88) -> 30000 | P88: 30000 | X88: =O88-G88 -> 2000 | Y88: 32000 | Z88: 34000
C89: finanční leasing | F89: 048X | G89: =SUM(H89:N89) -> 0 | H89: 0 | O89: =SUM(P89:V89) -> 0 | P89: 0 | X89: =O89-G89 -> 0 | Y89: 0 | Z89: 0
C90: propagační a reklamní činnost, tiskové a knihařské služby | F90: 054X | G90: =SUM(H90:N90) -> 0 | H90: 0 | O90: =SUM(P90:V90) -> 0 | P90: 0 | X90: =O90-G90 -> 0 | Y90: 0 | Z90: 0
C91: údržba zeleně, parků a zahrad | F91: 055X | G91: =SUM(H91:N91) -> 0 | H91: 0 | O91: =SUM(P91:V91) -> 0 | P91: 0 | X91: =O91-G91 -> 0 | Y91: 0 | Z91: 0
C92: praní prádla dodavatelsky | F92: 056X | G92: =SUM(H92:N92) -> 0 | H92: 0 | O92: =SUM(P92:V92) -> 0 | P92: 0 | X92: =O92-G92 -> 0 | Y92: 0 | Z92: 0
C93: měření emisí, STK | F93: 057X | G93: =SUM(H93:N93) -> 0 | H93: 0 | O93: =SUM(P93:V93) -> 3000 | P93: 3000 | X93: =O93-G93 -> 3000 | Y93: 0 | Z93: 4000
C94: ostatní služby (studie, koncepce, projekty - KIDSOK) | F94: 058X | G94: =SUM(H94:N94) -> 0 | H94: 0 | O94: =SUM(P94:V94) -> 0 | P94: 0 | X94: =O94-G94 -> 0 | Y94: 0 | Z94: 0
C95: ediční činnost, výstavy a restaurování | F95: 049X | G95: =SUM(H95:N95) -> 0 | H95: 0 | O95: =SUM(P95:V95) -> 0 | P95: 0 | X95: =O95-G95 -> 0 | Y95: 0 | Z95: 0
C96: náklady s pořízením věcného břemene | F96: 050X | G96: =SUM(H96:N96) -> 0 | H96: 0 | O96: =SUM(P96:V96) -> 0 | P96: 0 | X96: =O96-G96 -> 0 | Y96: 0 | Z96: 0
C97: autoškola, svářečský kurz | F97: 059X | G97: =SUM(H97:N97) -> 0 | H97: 0 | O97: =SUM(P97:V97) -> 0 | P97: 0 | X97: =O97-G97 -> 0 | Y97: 0 | Z97: 0
C98: ostatní | G98: =SUM(H98:N98) -> 933000 | H98: 933000 | O98: =SUM(P98:V98) -> 806000 | P98: 806000 | X98: =O98-G98 -> -127000 | Y98: 613000 | Z98: 618000
B99: Mzdové náklady | E99: 521 | G99: =SUM(G100:G104) -> 5316000 | H99: =SUM(H100:H104) -> 5316000 | I99: =SUM(I100:I104) -> 0 | J99: =SUM(J100:J104) -> 0 | K99: =SUM(K100:K104) -> 0 | L99: =SUM(L100:L104) -> 0 | M99: =SUM(M100:M104) -> 0 | N99: =SUM(N100:N104) -> 0 | ... V99: =SUM(V100:V104) -> 0 | X99: =O99-G99 -> -413000 | Y99: 5143000 | Z99: 5354000
B100: z toho: | C100: prostředky na platy, mzdy | E100: 521 | F100: 030X | G100: =SUM(H100:N100) -> 4866000 | H100: 4866000 | O100: =SUM(P100:V100) -> 4403000 | P100: 4403000 | X100: =O100-G100 -> -463000 | Y100: x | Z100: x
C101: ostatní osobní náklady | F101: 031X | G101: =SUM(H101:N101) -> 450000 | H101: 450000 | O101: =SUM(P101:V101) -> 500000 | P101: 500000 | X101: =O101-G101 -> 50000 | Y101: x | Z101: x
C102: odstupné | F102: 032X | G102: =SUM(H102:N102) -> 0 | H102: 0 | O102: =SUM(P102:V102) -> 0 | P102: 0 | X102: =O102-G102 -> 0 | Y102: x | Z102: x
C103: náhrada mzdy za dočasnou pracovní neschopnost | F103: 033X | G103: =SUM(H103:N103) -> 0 | H103: 0 | O103: =SUM(P103:V103) -> 0 | P103: 0 | X103: =O103-G103 -> 0 | Y103: x | Z103: x
C104: ostatní | G104: =SUM(H104:N104) -> 0 | H104: 0 | O104: =SUM(P104:V104) -> 0 | P104: 0 | X104: =O104-G104 -> 0 | Y104: x | Z104: x
B105: Zákonné sociální pojištění | E105: 524 | G105: =SUM(G106:G108) -> 1796000 | H105: =SUM(H106:H108) -> 1796000 | I105: =SUM(I106:I108) -> 0 | J105: =SUM(J106:J108) -> 0 | K105: =SUM(K106:K108) -> 0 | L105: =SUM(L106:L108) -> 0 | M105: =SUM(M106:M108) -> 0 | N105: =SUM(N106:N108) -> 0 | ... V105: =SUM(V106:V108) -> 0 | X105: =O105-G105 -> -139000 | Y105: 1738000 | Z105: 1810000
B106: z toho: | C106: sociální pojištění | E106: 524 | F106: 030X | G106: =SUM(H106:N106) -> 1318000 | H106: 1318000 | O106: =SUM(P106:V106) -> 1216000 | P106: 1216000 | X106: =O106-G106 -> -102000 | Y106: x | Z106: x
C107: zdravotní pojištění | F107: 031X | G107: =SUM(H107:N107) -> 478000 | H107: 478000 | O107: =SUM(P107:V107) -> 441000 | P107: 441000 | X107: =O107-G107 -> -37000 | Y107: x | Z107: x
C108: ostatní | G108: =SUM(H108:N108) -> 0 | H108: 0 | O108: =SUM(P108:V108) -> 0 | P108: 0 | X108: =O108-G108 -> 0 | Y108: x | Z108: x
...

Sheet Doplňková činnost
B1: Skrýt sloupce
B2: Návrh rozpočtu 2025 a Střednědobého výhledu rozpočtu 2026 a 2027 | AK2: Tabulka č.2-Doplňková činnost
B3: ='Hlavní činnost'!B3:F3 -> Příloha č. 1 Náklady a výnosy příspěvkové organizace | AK3: ORG: | AL3: =IF('Hlavní činnost'!V3=0,"",'Hlavní činnost'!V3) -> 1352
B4: Název příspěvkové organizace: | E4: =IF('Hlavní činnost'!E4=0,"",'Hlavní činnost'!E4) -> Dům dětí a mládeže Vila Tereza, Uničov
B5: ='Úvodní list'!B11 -> Pozn. :
B6: Náklady a výnosy | W6: doplňková činnost / v Kč / | AA6: =IF(W247=(ROUND(W247,-3)),"","POZOR ÚDAJE NÁVRHU ROZPOČTU 2025 je třeba zaokrouh. na tis. Kč") | AO6: Návrh střednědobého výhledu rozpočtu
G7: 2024 | H7: název činnosti | W7: 2025 | X7: název činnosti | AN7: meziroční srovnání + nárůst - pokles (Návrh 2025 a rozpis 2024 | AO7: 2026 | AP7: 2027
G8: Rozpis schváleného rozpočtu 2024 /v Kč zaokrouhl. na tis. Kč/ | H8: pronájem nemovitého majetku | W8: Návrh rozpočtu na rok 2025 (v Kč zaokrouhl. na tis. Kč) | X8: pronájem nemovitého majetku | AM8: Nevyplňovat | AO8: Výhled na rok 2026 | AP8: Výhled na rok 2027
B9: Název účetní položky | D9: UZ | E9: SÚ | F9: AÚ | G9: celkem | H9: 131 | W9: celkem | X9: 131 | AO9: =IF((AO247+AP247)=(ROUND((AO247+AP247),-3)),"(v Kč zaokrouhl. na tis. Kč)","POZOR ÚDAJE NÁVRHU SV je třeba zaokrouh. na tis. Kč") -> (v Kč zaokrouhl. na tis. Kč)
B10: A.Náklady celkem - účtová tř. 5 | G10: =G11+G147+G151+G153 -> 48000 | H10: =SUM(H11,H147,H151,H153) -> 48000 | I10: =SUM(I11,I147,I151,I153) -> 0 | J10: =SUM(J11,J147,J151,J153) -> 0 | K10: =SUM(K11,K147,K151,K153) -> 0 | L10: =SUM(L11,L147,L151,L153) -> 0 | M10: =SUM(M11,M147,M151,M153) -> 0 | N10: =SUM(N11,N147,N151,N153) -> 0 | O10: =SUM(O11,O147,O151,O153) -> 0 | ... V10: =SUM(V11,V147,V151,V153) -> 0 | W10: =W11+W147+W151+W153 -> 51000 | X10: =X11+X147+X151+X153 -> 51000 | Y10: =Y11+Y147+Y151+Y153 -> 0 | Z10: =Z11+Z147+Z151+Z153 -> 0 | AA10: =AA11+AA147+AA151+AA153 -> 0 | AB10: =AB11+AB147+AB151+AB153 -> 0 | AC10: =AC11+AC147+AC151+AC153 -> 0 | AD10: =AD11+AD147+AD151+AD153 -> 0 | ... AL10: =AL11+AL147+AL151+AL153 -> 0 | AN10: =W10-G10 -> 3000 | AO10: =AO11+AO147+AO151+AO153 -> 54000 | AP10: =AP11+AP147+AP151+AP153 -> 56000
B11: I. Náklady z činnosti | G11: =G12+G34+G40+G41+G42+G46+G47+G53+G61+G65+G66+G67+G99+G105+G109+G112+G119+G122+G123+G128+G129+G130+G133+G138+G139+G140+G141 -> 48000 | H11: =SUM(H12,H34,H40,H41,H42,H46,H47,H53,H61,H65,H66,H67,H99,H105,H109,H112,H119,H122,H123,H128,H129,H130,H133,H138,H139,H140,H141) -> 48000 | I11: =SUM(I12,I34,I40,I41,I42,I46,I47,I53,I61,I65,I66,I67,I99,I105,I109,I112,I119,I122,I123,I128,I129,I130,I133,I138,I139,I140,I141) -> 0 | J11: =SUM(J12,J34,J40,J41,J42,J46,J47,J53,J61,J65,J66,J67,J99,J105,J109,J112,J119,J122,J123,J128,J129,J130,J133,J138,J139,J140,J141) -> 0 | K11: =SUM(K12,K34,K40,K41,K42,K46,K47,K53,K61,K65,K66,K67,K99,K105,K109,K112,K119,K122,K123,K128,K129,K130,K133,K138,K139,K140,K141) -> 0 | L11: =SUM(L12,L34,L40,L41,L42,L46,L47,L53,L61,L65,L66,L67,L99,L105,L109,L112,L119,L122,L123,L128,L129,L130,L133,L138,L139,L140,L141) -> 0 | M11: =SUM(M12,M34,M40,M41,M42,M46,M47,M53,M61,M65,M66,M67,M99,M105,M109,M112,M119,M122,M123,M128,M129,M130,M133,M138,M139,M140,M141) -> 0 | N11: =SUM(N12,N34,N40,N41,N42,N46,N47,N53,N61,N65,N66,N67,N99,N105,N109,N112,N119,N122,N123,N128,N129,N130,N133,N138,N139,N140,N141) -> 0 | O11: =SUM(O12,O34,O40,O41,O42,O46,O47,O53,O61,O65,O66,O67,O99,O105,O109,O112,O119,O122,O123,O128,O129,O130,O133,O138,O139,O140,O141) -> 0 | ... V11: =SUM(V12,V34,V40,V41,V42,V46,V47,V53,V61,V65,V66,V67,V99,V105,V109,V112,V119,V122,V123,V128,V129,V130,V133,V138,V139,V140,V141) -> 0 | W11: =W12+W34+W40+W41+W42+W46+W47+W53+W61+W65+W66+W67+W99+W105+W109+W112+W119+W122+W123+W128+W129+W130+W133+W138+W139+W140+W141 -> 51000 | X11: =X12+X34+X40+X41+X42+X46+X47+X53+X61+X65+X66+X67+X99+X105+X109+X112+X119+X122+X123+X128+X129+X130+X133+X138+X139+X140+X141 -> 51000 | Y11: =Y12+Y34+Y40+Y41+Y42+Y46+Y47+Y53+Y61+Y65+Y66+Y67+Y99+Y105+Y109+Y112+Y119+Y122+Y123+Y128+Y129+Y130+Y133+Y138+Y139+Y140+Y141 -> 0 | Z11: =Z12+Z34+Z40+Z41+Z42+Z46+Z47+Z53+Z61+Z65+Z66+Z67+Z99+Z105+Z109+Z112+Z119+Z122+Z123+Z128+Z129+Z130+Z133+Z138+Z139+Z140+Z141 -> 0 | AA11: =AA12+AA34+AA40+AA41+AA42+AA46+AA47+AA53+AA61+AA65+AA66+AA67+AA99+AA105+AA109+AA112+AA119+AA122+AA123+AA128+AA129+AA130+AA133+AA138+AA139+AA140+AA141 -> 0 | AB11: =AB12+AB34+AB40+AB41+AB42+AB46+AB47+AB53+AB61+AB65+AB66+AB67+AB99+AB105+AB109+AB112+AB119+AB122+AB123+AB128+AB129+AB130+AB133+AB138+AB139+AB140+AB141 -> 0 | AC11: =AC12+AC34+AC40+AC41+AC42+AC46+AC47+AC53+AC61+AC65+AC66+AC67+AC99+AC105+AC109+AC112+AC119+AC122+AC123+AC128+AC129+AC130+AC133+AC138+AC139+AC140+AC141 -> 0 | AD11: =AD12+AD34+AD40+AD41+AD42+AD46+AD47+AD53+AD61+AD65+AD66+AD67+AD99+AD105+AD109+AD112+AD119+AD122+AD123+AD128+AD129+AD130+AD133+AD138+AD139+AD140+AD141 -> 0 | ... AL11: =AL12+AL34+AL40+AL41+AL42+AL46+AL47+AL53+AL61+AL65+AL66+AL67+AL99+AL105+AL109+AL112+AL119+AL122+AL123+AL128+AL129+AL130+AL133+AL138+AL139+AL140+AL141 -> 0 | AN11: =W11-G11 -> 3000 | AO11: =AO12+AO34+AO40+AO41+AO42+AO46+AO47+AO53+AO61+AO65+AO66+AO67+AO99+AO105+AO109+AO112+AO119+AO122+AO123+AO128+AO129+AO130+AO133+AO138+AO139+AO140+AO141 -> 54000 | AP11: =AP12+AP34+AP40+AP41+AP42+AP46+AP47+AP53+AP61+AP65+AP66+AP67+AP99+AP105+AP109+AP112+AP119+AP122+AP123+AP128+AP129+AP130+AP133+AP138+AP139+AP140+AP141 -> 56000
B12: Spotřeba materiálu | E12: 501 | G12: =SUM(G13:G33) -> 1000 | H12: =SUM(H13:H33) -> 1000 | I12: =SUM(I13:I33) -> 0 | J12: =SUM(J13:J33) -> 0 | K12: =SUM(K13:K33) -> 0 | L12: =SUM(L13:L33) -> 0 | M12: =SUM(M13:M33) -> 0 | N12: =SUM(N13:N33) -> 0 | ... AL12: =SUM(AL13:AL33) -> 0 | AN12: =W12-G12 -> 0 | AO12: =SUM(AO13:AO33) -> 1000 | AP12: =SUM(AP13:AP33) -> 1000
B13: z toho: | C13: potraviny pro klienty, žáky | E13: 501 | F13: 000X | G13: =SUM(H13:V13) -> 0 | H13: 0 | W13: =SUM(X13:AL13) -> 0 | X13: 0 | AN13: =W13-G13 -> 0 | AO13: 0 | AP13: 0
C14: potraviny pro zaměstnance | F14: 009X | G14: =SUM(H14:V14) -> 0 | H14: 0 | W14: =SUM(X14:AL14) -> 0 | X14: 0 | AN14: =W14-G14 -> 0 | AO14: 0 | AP14: 0
C15: potravimy pro ostatní | F15: 010X | G15: =SUM(H15:V15) -> 0 | H15: 0 | W15: =SUM(X15:AL15) -> 0 | X15: 0 | AN15: =W15-G15 -> 0 | AO15: 0 | AP15: 0
C16: ochranné pomůcky ( pro žáky a nad rámec zákona o dani z příjmů), prádlo, oděv, obuv pod hranicí (není zařazeno na účet 028) | F16: 001X | G16: =SUM(H16:V16) -> 0 | H16: 0 | W16: =SUM(X16:AL16) -> 0 | X16: 0 | AN16: =W16-G16 -> 0 | AO16: 0 | AP16: 0
C17: léky a zdravotnický materiál | F17: 002X | G17: =SUM(H17:V17) -> 0 | H17: 0 | W17: =SUM(X17:AL17) -> 0 | X17: 0 | AN17: =W17-G17 -> 0 | AO17: 0 | AP17: 0
C18: učebnice a bezplatně poskytované školní potřeby | F18: 003X | G18: =SUM(H18:V18) -> 0 | H18: 0 | W18: =SUM(X18:AL18) -> 0 | X18: 0 | AN18: =W18-G18 -> 0 | AO18: 0 | AP18: 0
C19: knihy, učební pomůcky, tisk (není zařazeno na účtu 028) - pořizované v souladu s právními předpisy) | F19: 004X | G19: =SUM(H19:V19) -> 0 | H19: 0 | W19: =SUM(X19:AL19) -> 0 | X19: 0 | AN19: =W19-G19 -> 0 | AO19: 0 | AP19: 0
C20: knihy, učební pomůcky, tisk (není zařazeno na účtu 028) - ostatní | F20: 005X | G20: =SUM(H20:V20) -> 0 | H20: 0 | W20: =SUM(X20:AL20) -> 0 | X20: 0 | AN20: =W20-G20 -> 0 | AO20: 0 | AP20: 0
C21: DDHM pod hranicí (není zařazeno na účet 028) | F21: 006X | G21: =SUM(H21:V21) -> 0 | H21: 0 | W21: =SUM(X21:AL21) -> 0 | X21: 0 | AN21: =W21-G21 -> 0 | AO21: 0 | AP21: 0
C22: materiál pro pracovní terapii | F22: 007X | G22: =SUM(H22:V22) -> 0 | H22: 0 | W22: =SUM(X22:AL22) -> 0 | X22: 0 | AN22: =W22-G22 -> 0 | AO22: 0 | AP22: 0
C23: technické a mediciální plyny | F23: 008X | G23: =SUM(H23:V23) -> 0 | H23: 0 | W23: =SUM(X23:AL23) -> 0 | X23: 0 | AN23: =W23-G23 -> 0 | AO23: 0 | AP23: 0
C24: pevná paliva a kapalná paliva (agregáty…) | F24: 011X | G24: =SUM(H24:V24) -> 0 | H24: 0 | W24: =SUM(X24:AL24) -> 0 | X24: 0 | AN24: =W24-G24 -> 0 | AO24: 0 | AP24: 0
C25: pohonné hmoty a maziva (dopravní prostředky) | F25: 012X | G25: =SUM(H25:V25) -> 0 | H25: 0 | W25: =SUM(X25:AL25) -> 0 | X25: 0 | AN25: =W25-G25 -> 0 | AO25: 0 | AP25: 0
... C32: dopravní značení SSOK | F32: 019X | G32: =SUM(H32:V32) -> 0 | H32: 0 | W32: =SUM(X32:AL32) -> 0 | X32: 0 | AN32: =W32-G32 -> 0 | AO32: 0 | AP32: 0
C33: ostatní | G33: =SUM(H33:V33) -> 0 | H33: 0 | W33: =SUM(X33:AL33) -> 0 | X33: 0 | AN33: =W33-G33 -> 0 | AO33: 0 | AP33: 0
B34: Spotřeba energie | E34: 502 | G34: =SUM(G35:G39) -> 4000 | H34: =SUM(H35:H39) -> 4000 | I34: =SUM(I35:I39) -> 0 | J34: =SUM(J35:J39) -> 0 | K34: =SUM(K35:K39) -> 0 | L34: =SUM(L35:L39) -> 0 | M34: =SUM(M35:M39) -> 0 | N34: =SUM(N35:N39) -> 0 | ... AL34: =SUM(AL35:AL39) -> 0 | AN34: =W34-G34 -> 0 | AO34: =SUM(AO35:AO39) -> 4000 | AP34: =SUM(AP35:AP39) -> 4000
B35: z toho: | C35: vodné a stočné, včetně srážkové vody | E35: 502 | F35: 000X | G35: =SUM(H35:V35) -> 1000 | H35: 1000 | W35: =SUM(X35:AL35) -> 1000 | X35: 1000 | AN35: =W35-G35 -> 0 | AO35: 1000 | AP35: 1000
C36: teplo a pára | F36: 001X | G36: =SUM(H36:V36) -> 2000 | H36: 2000 | W36: =SUM(X36:AL36) -> 2000 | X36: 2000 | AN36: =W36-G36 -> 0 | AO36: 2000 | AP36: 2000
C37: plyn (ne mediciální) | F37: 002X | G37: =SUM(H37:V37) -> 0 | H37: 0 | W37: =SUM(X37:AL37) -> 0 | X37: 0 | AN37: =W37-G37 -> 0 | AO37: 0 | AP37: 0
C38: elektrická energie | F38: 003X | G38: =SUM(H38:V38) -> 1000 | H38: 1000 | W38: =SUM(X38:AL38) -> 1000 | X38: 1000 | AN38: =W38-G38 -> 0 | AO38: 1000 | AP38: 1000
C39: ostatní | G39: =SUM(H39:V39) -> 0 | H39: 0 | W39: =SUM(X39:AL39) -> 0 | X39: 0 | AN39: =W39-G39 -> 0 | AO39: 0 | AP39: 0
B40: Spotřeba jiných neskladovaných dodávek | E40: 503 | G40: =SUM(H40:V40) -> 0 | H40: 0 | W40: =SUM(X40:AL40) -> 0 | X40: 0 | AN40: =W40-G40 -> 0 | AO40: 0 | AP40: 0
B41: Prodané zboží | E41: 504 | G41: =SUM(H41:V41) -> 0 | H41: 0 | W41: =SUM(X41:AL41) -> 0 | X41: 0 | AN41: =W41-G41 -> 0 | AO41: 0 | AP41: 0
B42: Aktivace dlouhodobého majetku | E42: 506 | G42: =SUM(G43:G45) -> 0 | H42: =SUM(H43:H45) -> 0 | I42: =SUM(I43:I45) -> 0 | J42: =SUM(J43:J45) -> 0 | K42: =SUM(K43:K45) -> 0 | L42: =SUM(L43:L45) -> 0 | M42: =SUM(M43:M45) -> 0 | N42: =SUM(N43:N45) -> 0 | ... AL42: =SUM(AL43:AL45) -> 0 | AN42: =W42-G42 -> 0 | AO42: 0 | AP42: 0
B43: z toho: | C43: aktivace dlouhodobého hmotného majetku | E43: 506 | F43: 000X | G43: =SUM(H43:V43) -> 0 | H43: 0 | W43: =SUM(X43:AL43) -> 0 | X43: 0 | AN43: =W43-G43 -> 0 | AO43: x | AP43: x
C44: aktivace dlouhodobého nehmotného majetku | F44: 001X | G44: =SUM(H44:V44) -> 0 | H44: 0 | W44: =SUM(X44:AL44) -> 0 | X44: 0 | AN44: =W44-G44 -> 0 | AO44: x | AP44: x
C45: ostatní | G45: =SUM(H45:V45) -> 0 | H45: 0 | W45: =SUM(X45:AL45) -> 0 | X45: 0 | AN45: =W45-G45 -> 0 | AO45: x | AP45: x
B46: Aktivace oběžného majetku | E46: 507 | G46: =SUM(H46:V46) -> 0 | H46: 0 | W46: =SUM(X46:AL46) -> 0 | X46: 0 | AN46: =W46-G46 -> 0 | AO46: 0 | AP46: 0
B47: Změna stavu zásob vlastní výroby | E47: 508 | G47: =SUM(G48:G52) -> 0 | H47: =SUM(H48:H52) -> 0 | I47: =SUM(I48:I52) -> 0 | J47: =SUM(J48:J52) -> 0 | K47: =SUM(K48:K52) -> 0 | L47: =SUM(L48:L52) -> 0 | M47: =SUM(M48:M52) -> 0 | N47: =SUM(N48:N52) -> 0 | ... AL47: =SUM(AL48:AL52) -> 0 | AN47: =W47-G47 -> 0 | AO47: 0 | AP47: 0
B48: z toho: | C48: změna stavu nedokončené výroby | E48: 508 | F48: 000X | G48: =SUM(H48:V48) -> 0 | H48: 0 | W48: =SUM(X48:AL48) -> 0 | X48: 0 | AN48: =W48-G48 -> 0 | AO48: x | AP48: x
C49: změna stavu polotovarů | F49: 001X | G49: =SUM(H49:V49) -> 0 | H49: 0 | W49: =SUM(X49:AL49) -> 0 | X49: 0 | AN49: =W49-G49 -> 0 | AO49: x | AP49: x
C50: změna stavu výrobků | F50: 002X | G50: =SUM(H50:V50) -> 0 | H50: 0 | W50: =SUM(X50:AL50) -> 0 | X50: 0 | AN50: =W50-G50 -> 0 | AO50: x | AP50: x
C51: změna stavu ostatních zásob | F51: 003X | G51: =SUM(H51:V51) -> 0 | H51: 0 | W51: =SUM(X51:AL51) -> 0 | X51: 0 | AN51: =W51-G51 -> 0 | AO51: x | AP51: x
C52: ostatní | G52: =SUM(H52:V52) -> 0 | H52: 0 | W52: =SUM(X52:AL52) -> 0 | X52: 0 | AN52: =W52-G52 -> 0 | AO52: x | AP52: x
B53: Opravy a udržování | E53: 511 | G53: =SUM(G54:G60) -> 0 | H53: =SUM(H54:H60) -> 0 | I53: =SUM(I54:I60) -> 0 | J53: =SUM(J54:J60) -> 0 | K53: =SUM(K54:K60) -> 0 | L53: =SUM(L54:L60) -> 0 | M53: =SUM(M54:M60) -> 0 | N53: =SUM(N54:N60) -> 0 | ... AL53: =SUM(AL54:AL60) -> 0 | AN53: =W53-G53 -> 0 | AO53: =SUM(AO54:AO60) -> 0 | AP53: =SUM(AP54:AP60) -> 0
B54: z toho: | C54: nemovitého majetku do 200 tis. Kč )1 | E54: 511 | F54: 004X | G54: =SUM(H54:V54) -> 0 | H54: 0 | W54: =SUM(X54:AL54) -> 0 | X54: 0 | AN54: =W54-G54 -> 0 | AO54: 0 | AP54: 0
C55: nemovitého majetku nad 200 tis. Kč )2 | F55: 000X )2,3 | G55: =SUM(H55:V55) -> 0 | H55: 0 | W55: =SUM(X55:AL55) -> 0 | X55: 0 | AN55: =W55-G55 -> 0 | AO55: 0 | AP55: 0
C56: nemovitého majteku nad 500 tis.Kč )3 | F56: 001X)2.3 | G56: x | H56: x | I56: x | J56: x | K56: x | L56: x | M56: x | N56: x | O56: x | P56: x | Q56: x | R56: x | S56: x | T56: x | U56: x | V56: x | W56: x | X56: x | Y56: x | Z56: x | AA56: x | AB56: x | AC56: x | AD56: x | AE56: x | AF56: x | AG56: x | AH56: x | AI56: x | AJ56: x | AK56: x | AL56: x | AN56: x | AO56: x | AP56: x
C57: movitého majetku - strojů, přístrojů a zařízení | F57: 002X | G57: =SUM(H57:V57) -> 0 | H57: 0 | W57: =SUM(X57:AL57) -> 0 | X57: 0 | AN57: =W57-G57 -> 0 | AO57: 0 | AP57: 0
C58: movitého majetku - dopravních prostředků | F58: 003X | G58: =SUM(H58:V58) -> 0 | H58: 0 | W58: =SUM(X58:AL58) -> 0 | X58: 0 | AN58: =W58-G58 -> 0 | AO58: 0 | AP58: 0
C59: restaurování sbírek | F59: 005X | G59: =SUM(H59:V59) -> 0 | H59: 0 | W59: =SUM(X59:AL59) -> 0 | X59: 0 | AN59: =W59-G59 -> 0 | AO59: 0 | AP59: 0
C60: ostatní | G60: =SUM(H60:V60) -> 0 | H60: 0 | W60: =SUM(X60:AL60) -> 0 | X60: 0 | AN60: =W60-G60 -> 0 | AO60: 0 | AP60: 0
B61: Cestovné | E61: 512 | G61: =SUM(G62:G64) -> 0 | H61: =SUM(H62:H64) -> 0 | I61: =SUM(I62:I64) -> 0 | J61: =SUM(J62:J64) -> 0 | K61: =SUM(K62:K64) -> 0 | L61: =SUM(L62:L64) -> 0 | M61: =SUM(M62:M64) -> 0 | N61: =SUM(N62:N64) -> 0 | ... AL61: =SUM(AL62:AL64) -> 0 | AN61: =W61-G61 -> 0 | AO61: 0 | AP61: 0
B62: z toho: | C62: tuzemské | E62: 512 | F62: 000X | G62: =SUM(H62:V62) -> 0 | H62: 0 | W62: =SUM(X62:AL62) -> 0 | X62: 0 | AN62: =W62-G62 -> 0 | AO62: x | AP62: x
C63: zahraniční | F63: 001X | G63: =SUM(H63:V63) -> 0 | H63: 0 | W63: =SUM(X63:AL63) -> 0 | X63: 0 | AN63: =W63-G63 -> 0 | AO63: x | AP63: x
C64: ostatní | G64: =SUM(H64:V64) -> 0 | H64: 0 | W64: =SUM(X64:AL64) -> 0 | X64: 0 | AN64: =W64-G64 -> 0 | AO64: x | AP64: x
B65: Náklady na reprezentaci (číslo účtu 513) | E65: 513 | G65: =SUM(H65:V65) -> 0 | H65: 0 | W65: =SUM(X65:AL65) -> 0 | X65: 0 | AN65: =W65-G65 -> 0 | AO65: 0 | AP65: 0
B66: Aktivace vnitroorganizačních služeb | E66: 516 | G66: =SUM(H66:V66) -> 0 | H66: 0 | W66: =SUM(X66:AL66) -> 0 | X66: 0 | AN66: =W66-G66 -> 0 | AO66: 0 | AP66: 0
B67: Ostatní služby | E67: 518 | G67: =SUM(G68:G98) -> 3000 | H67: =SUM(H68:H98) -> 3000 | I67: =SUM(I68:I98) -> 0 | J67: =SUM(J68:J98) -> 0 | K67: =SUM(K68:K98) -> 0 | L67: =SUM(L68:L98) -> 0 | M67: =SUM(M68:M98) -> 0 | N67: =SUM(N68:N98) -> 0 | ... AL67: =SUM(AL68:AL98) -> 0 | AN67: =W67-G67 -> 0 | AO67: =SUM(AO68:AO98) -> 3000 | AP67: =SUM(AP68:AP98) -> 3000
B68: z toho: | C68: poštovné | E68: 518 | F68: 000X | G68: =SUM(H68:V68) -> 0 | H68: 0 | W68: =SUM(X68:AL68) -> 0 | X68: 0 | AN68: =W68-G68 -> 0 | AO68: 0 | AP68: 0
C69: internet, poplatky za registaci domény | F69: 001X | G69: =SUM(H69:V69) -> 0 | H69: 0 | W69: =SUM(X69:AL69) -> 0 | X69: 0 | AN69: =W69-G69 -> 0 | AO69: 0 | AP69: 0
C70: bankovní poplatky | F70: 002X | G70: =SUM(H70:V70) -> 0 | H70: 0 | W70: =SUM(X70:AL70) -> 0 | X70: 0 | AN70: =W70-G70 -> 0 | AO70: 0 | AP70: 0
C71: nájemné bytových prostor bez plateb za související služby | F71: 003X | G71: =SUM(H71:V71) -> 0 | H71: 0 | W71: =SUM(X71:AL71) -> 0 | X71: 0 | AN71: =W71-G71 -> 0 | AO71: 0 | AP71: 0
C72: nájemné nebytových prostor bez plateb za související služby | F72: 020X | G72: =SUM(H72:V72) -> 1000 | H72: 1000 | W72: =SUM(X72:AL72) -> 1000 | X72: 1000 | AN72: =W72-G72 -> 0 | AO72: 1000 | AP72: 1000
C73: nájemné za movitý majetek bez plateb za související služby | F73: 004X | G73: =SUM(H73:V73) -> 0 | H73: 0 | W73: =SUM(X73:AL73) -> 0 | X73: 0 | AN73: =W73-G73 -> 0 | AO73: 0 | AP73: 0
C74: stravování - dodavatelsky | F74: 005X | G74: =SUM(H74:V74) -> 0 | H74: 0 | W74: =SUM(X74:AL74) -> 0 | X74: 0 | AN74: =W74-G74 -> 0 | AO74: 0 | AP74: 0
C75: stravovávní - věcná režie žáci | F75: 006X | G75: =SUM(H75:V75) -> 0 | H75: 0 | W75: =SUM(X75:AL75) -> 0 | X75: 0 | AN75: =W75-G75 -> 0 | AO75: 0 | AP75: 0
C76: konzultační, poradenské a právní služby | F76: 007X | G76: =SUM(H76:V76) -> 0 | H76: 0 | W76: =SUM(X76:AL76) -> 0 | X76: 0 | AN76: =W76-G76 -> 0 | AO76: 0 | AP76: 0
C77: školení a vzdělávání (ne zaměstnanci) | F77: 008X | G77: =SUM(H77:V77) -> 0 | H77: 0 | W77: =SUM(X77:AL77) -> 0 | X77: 0 | AN77: =W77-G77 -> 0 | AO77: 0 | AP77: 0
C78: telekomunikace pevné linky | F78: 009X | G78: =SUM(H78:V78) -> 0 | H78: 0 | W78: =SUM(X78:AL78) -> 0 | X78: 0 | AN78: =W78-G78 -> 0 | AO78: 0 | AP78: 0
C79: telekomunikace - mobilní telefony | F79: 021X | G79: =SUM(H79:V79) -> 0 | H79: 0 | W79: =SUM(X79:AL79) -> 0 | X79: 0 | AN79: =W79-G79 -> 0 | AO79: 0 | AP79: 0
C80: poplatky za rozhlas a televizi | F80: 010X | G80: =SUM(H80:V80) -> 0 | H80: 0 | W80: =SUM(X80:AL80) -> 0 | X80: 0 | AN80: =W80-G80 -> 0 | AO80: 0 | AP80: 0
... C97: autoškola, svářečský kurz | F97: 029X | G97: =SUM(H97:V97) -> 0 | H97: 0 | W97: =SUM(X97:AL97) -> 0 | X97: 0 | AN97: =W97-G97 -> 0 | AO97: 0 | AP97: 0
C98: ostatní | G98: =SUM(H98:V98) -> 0 | H98: 0 | W98: =SUM(X98:AL98) -> 0 | X98: 0 | AN98: =W98-G98 -> 0 | AO98: 0 | AP98: 0
B99: Mzdové náklady | E99: 521 | G99: =SUM(G100:G104) -> 30000 | H99: =SUM(H100:H104) -> 30000 | I99: =SUM(I100:I104) -> 0 | J99: =SUM(J100:J104) -> 0 | K99: =SUM(K100:K104) -> 0 | L99: =SUM(L100:L104) -> 0 | M99: =SUM(M100:M104) -> 0 | N99: =SUM(N100:N104) -> 0 | ... AL99: =SUM(AL100:AL104) -> 0 | AN99: =W99-G99 -> 2000 | AO99: 34000 | AP99: 36000
B100: z toho: | C100: prostředky na platy, mzdy | E100: 521 | F100: 000X | G100: =SUM(H100:V100) -> 30000 | H100: 30000 | W100: =SUM(X100:AL100) -> 32000 | X100: 32000 | AN100: =W100-G100 -> 2000 | AO100: x | AP100: x
C101: ostatní osobní náklady | F101: 001X | G101: =SUM(H101:V101) -> 0 | H101: 0 | W101: =SUM(X101:AL101) -> 0 | X101: 0 | AN101: =W101-G101 -> 0 | AO101: x | AP101: x
C102: odstupné | F102: 002X | G102: =SUM(H102:V102) -> 0 | H102: 0 | W102: =SUM(X102:AL102) -> 0 | X102: 0 | AN102: =W102-G102 -> 0 | AO102: x | AP102: x
C103: náhrada mzdy za dočasnou pracovní neschopnost | F103: 003X | G103: =SUM(H103:V103) -> 0 | H103: 0 | W103: =SUM(X103:AL103) -> 0 | X103: 0 | AN103: =W103-G103 -> 0 | AO103: x | AP103: x
C104: ostatní | G104: =SUM(H104:V104) -> 0 | H104: 0 | W104: =SUM(X104:AL104) -> 0 | X104: 0 | AN104: =W104-G104 -> 0 | AO104: x | AP104: x
B105: Zákonné sociální pojištění | E105: 524 | G105: =SUM(G106:G108) -> 10000 | H105: =SUM(H106:H108) -> 10000 | I105: =SUM(I106:I108) -> 0 | J105: =SUM(J106:J108) -> 0 | K105: =SUM(K106:K108) -> 0 | L105: =SUM(L106:L108) -> 0 | M105: =SUM(M106:M108) -> 0 | N105: =SUM(N106:N108) -> 0 | ... AL105: =SUM(AL106:AL108) -> 0 | AN105: =W105-G105 -> 1000 | AO105: 12000 | AP105: 12000
B106: z toho: | C106: sociální pojištění | E106: 524 | F106: 000X | G106: =SUM(H106:V106) -> 7000 | H106: 7000 | W106: =SUM(X106:AL106) -> 8000 | X106: 8000 | AN106: =W106-G106 -> 1000 | AO106: x | AP106: x
C107: zdravotní pojištění | F107: 001X | G107: =SUM(H107:V107) -> 3000 | H107: 3000 | W107: =SUM(X107:AL107) -> 3000 | X107: 3000 | AN107: =W107-G107 -> 0 | AO107: x | AP107: x
C108: ostatní | G108: =SUM(H108:V108) -> 0 | H108: 0 | W108: =SUM(X108:AL108) -> 0 | AN108: =W108-G108 -> 0 | AO108: x | AP108: x
B109: Jiné sociální pojištění | E109: 525 | G109: =SUM(G110:G111) -> 0 | H109: =SUM(H110:H111) -> 0 | I109: =SUM(I110:I111) -> 0 | J109: =SUM(J110:J111) -> 0 | K109: =SUM(K110:K111) -> 0 | L109: =SUM(L110:L111) -> 0 | M109: =SUM(M110:M111) -> 0 | N109: =SUM(N110:N111) -> 0 | ... AL109: =SUM(AL110:AL111) -> 0 | AN109: =W109-G109 -> 0 | AO109: 0 | AP109: 0
B110: z toho: | C110: povinné úrazové pojištění zaměstnanců (zákon č. 266/2006Sb.) | E110: 525 | F110: 000X | G110: =SUM(H110:V110) -> 0 | H110: 0 | W110: =SUM(X110:AL110) -> 0 | X110: 0 | AN110: =W110-G110 -> 0 | AO110: x | AP110: x
C111: ostatní | G111: =SUM(H111:V111) -> 0 | H111: 0 | W111: =SUM(X111:AL111) -> 0 | AN111: =W111-G111 -> 0 | AO111: x | AP111: x
B112: Zákonné sociální náklady | E112: 527 | G112: =SUM(G113:G118) -> 0 | H112: =SUM(H113:H118) -> 0 | I112: =SUM(I113:I118) -> 0 | J112: =SUM(J113:J118) -> 0 | K112: =SUM(K113:K118) -> 0 | L112: =SUM(L113:L118) -> 0 | M112: =SUM(M113:M118) -> 0 | N112: =SUM(N113:N118) -> 0 | ... AL112: =SUM(AL113:AL118) -> 0 | AN112: =W112-G112 -> 0 | AO112: 0 | AP112: 0
B113: z toho: | C113: základní příděl do FKSP | E113: 527 | F113: 000X | G113: =SUM(H113:V113) -> 0 | H113: 0 | W113: =SUM(X113:AL113) -> 0 | AN113: =W113-G113 -> 0 | AO113: x | AP113: x
C114: ochranné pomůcky v souladu se zákonem o dani z příjmu | F114: 001X | G114: =SUM(H114:V114) -> 0 | H114: 0 | W114: =SUM(X114:AL114) -> 0 | X114: 0 | AN114: =W114-G114 -> 0 | AO114: x | AP114: x
C115: příspěvek na stravování zaměstnanců | F115: 002X | G115: =SUM(H115:V115) -> 0 | H115: 0 | W115: =SUM(X115:AL115) -> 0 | X115: 0 | AN115: =W115-G115 -> 0 | AO115: x | AP115: x
C116: preventivní prohlídky | F116: 003X | G116: =SUM(H116:V116) -> 0 | H116: 0 | W116: =SUM(X116:AL116) -> 0 | X116: 0 | AN116: =W116-G116 -> 0 | AO116: x | AP116: x
C117: školení a vzdělávání, konference (zaměstnanci) | F117: 004X | G117: =SUM(H117:V117) -> 0 | H117: 0 | W117: =SUM(X117:AL117) -> 0 | X117: 0 | AN117: =W117-G117 -> 0 | AO117: x | AP117: x
C118: ostatní | G118: =SUM(H118:V118) -> 0 | H118: 0 | W118: =SUM(X118:AL118) -> 0 | X118: 0 | AN118: =W118-G118 -> 0 | AO118: x | AP118: x
B119: Jiné sociální náklady | E119: 528 | G119: =SUM(G120:G121) -> 0 | H119: =SUM(H120:H121) -> 0 | I119: =SUM(I120:I121) -> 0 | J119: =SUM(J120:J121) -> 0 | K119: =SUM(K120:K121) -> 0 | L119: =SUM(L120:L121) -> 0 | M119: =SUM(M120:M121) -> 0 | N119: =SUM(N120:N121) -> 0 | ... AL119: =SUM(AL120:AL121) -> 0 | AN119: =W119-G119 -> 0 | AO119: 0 | AP119: 0
B120: z toho: | C120: příspěvek na stravování zaměstnanců nad limit | E120: 528 | F120: 000X | G120: =SUM(H120:V120) -> 0 | H120: 0 | W120: =SUM(X120:AL120) -> 0 | X120: 0 | AN120: =W120-G120 -> 0 | AO120: x | AP120: x
C121: ostatní | G121: =SUM(H121:V121) -> 0 | H121: 0 | W121: =SUM(X121:AL121) -> 0 | X121: 0 | AN121: =W121-G121 -> 0 | AO121: x | AP121: x
B122: Daně a poplatky | E122: 531 532 | G122: =SUM(H122:V122) -> 0 | H122: 0 | W122: =SUM(X122:AL122) -> 0 | X122: 0 | AN122: =W122-G122 -> 0 | AO122: 0 | AP122: 0
...

Sheet Rekapitulace
B2: Návrh rozpočtu 2025 a Střednědobého výhledu rozpočtu 2026 a 2027
B3: Příloha č. 1 Náklady a výnosy příspěvkové organizace | L3: ORG | M3: =IF('Hlavní činnost'!V3=0,"",'Hlavní činnost'!V3) -> 1352
B4: Název příspěvkové organizace: | E4: =IF('Hlavní činnost'!E4=0,"",'Hlavní činnost'!E4) -> Dům dětí a mládeže Vila Tereza, Uničov
B5: ='Úvodní list'!B11 -> Pozn. :
B6: Náklady a výnosy | L6: meziroční srovnání + nárůst - pokles (Návrh 2025 a rozpis SR 2024( | M6: meziroční srovnání + nárůst - pokles (Návrh 2025 a rozpis SR 2024)
H7: / Kč- bez deset- míst / | J7: / Kč- bez deset- míst / | N7: / Kč- bez deset- míst / | P7: / Kč- bez deset- míst /
H8: Hlavní činnost | I8: Doplňková činnost | J8: Hlavní činnost | K8: Doplňková činnost | N8: Hlavní činnost | O8: Doplňková činnost | P8: Hlavní činnost | Q8: Doplňková činnost
B9: Název účetní položky | D9: UZ | E9: SÚ | F9: AÚ | G9: AÚ | H9: ='Doplňková činnost'!G8 -> Rozpis schváleného rozpočtu 2024 /v Kč zaokrouhl. na tis. Kč/ | J9: Návrh 2025 | L9: hlavní činnost | M9: doplňková činnost | N9: Návrh střednědobého výhledu na rok 2026 | P9: Návrh střednědobého výhledu na rok 2027
B10: A.Náklady celkem - účtová tř. 5 | H10: ='Hlavní činnost'!G10 -> 10456000 | I10: ='Doplňková činnost'!G10 -> 48000 | J10: ='Hlavní činnost'!O10 -> 9769000 | K10: ='Doplňková činnost'!W10 -> 51000 | L10: ='Hlavní činnost'!X10 -> -687000 | M10: ='Doplňková činnost'!AN10 -> 3000 | N10: ='Hlavní činnost'!Y10 -> 9571000 | O10: ='Doplňková činnost'!AO10 -> 54000 | P10: ='Hlavní činnost'!Z10 -> 9951000 | Q10: ='Doplňková činnost'!AP10 -> 56000
B11: I. Náklady z činnosti | H11: ='Hlavní činnost'!G11 -> 10456000 | I11: ='Doplňková činnost'!G11 -> 48000 | J11: ='Hlavní činnost'!O11 -> 9769000 | K11: ='Doplňková činnost'!W11 -> 51000 | L11: ='Hlavní činnost'!X11 -> -687000 | M11: ='Doplňková činnost'!AN11 -> 3000 | N11: ='Hlavní činnost'!Y11 -> 9571000 | O11: ='Doplňková činnost'!AO11 -> 54000 | P11: ='Hlavní činnost'!Z11 -> 9951000 | Q11: ='Doplňková činnost'!AP11 -> 56000
B12: Spotřeba materiálu | E12: 501 | H12: ='Hlavní činnost'!G12 -> 503000 | I12: ='Doplňková činnost'!G12 -> 1000 | J12: ='Hlavní činnost'!O12 -> 535000 | K12: ='Doplňková činnost'!W12 -> 1000 | L12: ='Hlavní činnost'!X12 -> 32000 | M12: ='Doplňková činnost'!AN12 -> 0 | N12: ='Hlavní činnost'!Y12 -> 560000 | O12: ='Doplňková činnost'!AO12 -> 1000 | P12: ='Hlavní činnost'!Z12 -> 585000 | Q12: ='Doplňková činnost'!AP12 -> 1000
B13: z toho: | C13: potraviny pro klienty, žáky | E13: 501 | F13: 030X | G13: 000X | H13: ='Hlavní činnost'!G13 -> 120000 | I13: ='Doplňková činnost'!G13 -> 0 | J13: ='Hlavní činnost'!O13 -> 125000 | K13: ='Doplňková činnost'!W13 -> 0 | L13: ='Hlavní činnost'!X13 -> 5000 | M13: ='Doplňková činnost'!AN13 -> 0 | N13: ='Hlavní činnost'!Y13 -> 135000 | O13: ='Doplňková činnost'!AO13 -> 0 | P13: ='Hlavní činnost'!Z13 -> 145000 | Q13: ='Doplňková činnost'!AP13 -> 0
C14: potraviny pro zaměstnance | F14: 036X | G14: 009X | H14: ='Hlavní činnost'!G14 -> 0 | I14: ='Doplňková činnost'!G14 -> 0 | J14: ='Hlavní činnost'!O14 -> 0 | K14: ='Doplňková činnost'!W14 -> 0 | L14: ='Hlavní činnost'!X14 -> 0 | M14: ='Doplňková činnost'!AN14 -> 0 | N14: ='Hlavní činnost'!Y14 -> 0 | O14: ='Doplňková činnost'!AO14 -> 0 | P14: ='Hlavní činnost'!Z14 -> 0 | Q14: ='Doplňková činnost'!AP14 -> 0
C15: potravimy pro ostatní | F15: 037X | G15: 010X | H15: ='Hlavní činnost'!G15 -> 0 | I15: ='Doplňková činnost'!G15 -> 0 | J15: ='Hlavní činnost'!O15 -> 0 | K15: ='Doplňková činnost'!W15 -> 0 | L15: ='Hlavní činnost'!X15 -> 0 | M15: ='Doplňková činnost'!AN15 -> 0 | N15: ='Hlavní činnost'!Y15 -> 0 | O15: ='Doplňková činnost'!AO15 -> 0 | P15: ='Hlavní činnost'!Z15 -> 0 | Q15: ='Doplňková činnost'!AP15 -> 0
C16: ochranné pomůcky ( pro žáky a nad rámec zákona o dani z příjmů), prádlo, oděv, obuv pod hranicí (není zařazeno na účet 028) | F16: 031X | G16: 001X | H16: ='Hlavní činnost'!G16 -> 0 | I16: ='Doplňková činnost'!G16 -> 0 | J16: ='Hlavní činnost'!O16 -> 0 | K16: ='Doplňková činnost'!W16 -> 0 | L16: ='Hlavní činnost'!X16 -> 0 | M16: ='Doplňková činnost'!AN16 -> 0 | N16: ='Hlavní činnost'!Y16 -> 0 | O16: ='Doplňková činnost'!AO16 -> 0 | P16: ='Hlavní činnost'!Z16 -> 0 | Q16: ='Doplňková činnost'!AP16 -> 0
C17: léky a zdravotnický materiál | F17: 040X | G17: 002X | H17: ='Hlavní činnost'!G17 -> 3000 | I17: ='Doplňková činnost'!G17 -> 0 | J17: ='Hlavní činnost'!O17 -> 3000 | K17: ='Doplňková činnost'!W17 -> 0 | L17: ='Hlavní činnost'!X17 -> 0 | M17: ='Doplňková činnost'!AN17 -> 0 | N17: ='Hlavní činnost'!Y17 -> 3000 | O17: ='Doplňková činnost'!AO17 -> 0 | P17: ='Hlavní činnost'!Z17 -> 3000 | Q17: ='Doplňková činnost'!AP17 -> 0
C18: učebnice a bezplatně poskytované školní potřeby | F18: 032X | G18: 003X | H18: ='Hlavní činnost'!G18 -> 0 | I18: ='Doplňková činnost'!G18 -> 0 | J18: ='Hlavní činnost'!O18 -> 0 | K18: ='Doplňková činnost'!W18 -> 0 | L18: ='Hlavní činnost'!X18 -> 0 | M18: ='Doplňková činnost'!AN18 -> 0 | N18: ='Hlavní činnost'!Y18 -> 0 | O18: ='Doplňková činnost'!AO18 -> 0 | P18: ='Hlavní činnost'!Z18 -> 0 | Q18: ='Doplňková činnost'!AP18 -> 0
C19: knihy, učební pomůcky, tisk (není zařazeno na účtu 028) - pořizované v souladu s právními předpisy) | F19: 033X | G19: 004X | H19: ='Hlavní činnost'!G19 -> 0 | I19: ='Doplňková činnost'!G19 -> 0 | J19: ='Hlavní činnost'!O19 -> 0 | K19: ='Doplňková činnost'!W19 -> 0 | L19: ='Hlavní činnost'!X19 -> 0 | M19: ='Doplňková činnost'!AN19 -> 0 | N19: ='Hlavní činnost'!Y19 -> 0 | O19: ='Doplňková činnost'!AO19 -> 0 | P19: ='Hlavní činnost'!Z19 -> 0 | Q19: ='Doplňková činnost'!AP19 -> 0
C20: knihy, učební pomůcky, tisk (není zařazeno na účtu 028) - ostatní | F20: 034X | G20: 005X | H20: ='Hlavní činnost'!G20 -> 30000 | I20: ='Doplňková činnost'!G20 -> 0 | J20: ='Hlavní činnost'!O20 -> 30000 | K20: ='Doplňková činnost'!W20 -> 0 | L20: ='Hlavní činnost'!X20 -> 0 | M20: ='Doplňková činnost'!AN20 -> 0 | N20: ='Hlavní činnost'!Y20 -> 30000 | O20: ='Doplňková činnost'!AO20 -> 0 | P20: ='Hlavní činnost'!Z20 -> 30000 | Q20: ='Doplňková činnost'!AP20 -> 0
C21: DDHM pod hranicí (není zařazeno na účet 028) | F21: 035X | G21: 006X | H21: ='Hlavní činnost'!G21 -> 50000 | I21: ='Doplňková činnost'!G21 -> 0 | J21: ='Hlavní činnost'!O21 -> 50000 | K21: ='Doplňková činnost'!W21 -> 0 | L21: ='Hlavní činnost'!X21 -> 0 | M21: ='Doplňková činnost'!AN21 -> 0 | N21: ='Hlavní činnost'!Y21 -> 50000 | O21: ='Doplňková činnost'!AO21 -> 0 | P21: ='Hlavní činnost'!Z21 -> 50000 | Q21: ='Doplňková činnost'!AP21 -> 0
C22: materiál pro pracovní terapii | F22: 050X | G22: 007X | H22: ='Hlavní činnost'!G22 -> 0 | I22: ='Doplňková činnost'!G22 -> 0 | J22: ='Hlavní činnost'!O22 -> 0 | K22: ='Doplňková činnost'!W22 -> 0 | L22: ='Hlavní činnost'!X22 -> 0 | M22: ='Doplňková činnost'!AN22 -> 0 | N22: ='Hlavní činnost'!Y22 -> 0 | O22: ='Doplňková činnost'!AO22 -> 0 | P22: ='Hlavní činnost'!Z22 -> 0 | Q22: ='Doplňková činnost'!AP22 -> 0
C23: technické a mediciální plyny | F23: 051X | G23: 008X | H23: ='Hlavní činnost'!G23 -> 0 | I23: ='Doplňková činnost'!G23 -> 0 | J23: ='Hlavní činnost'!O23 -> 0 | K23: ='Doplňková činnost'!W23 -> 0 | L23: ='Hlavní činnost'!X23 -> 0 | M23: ='Doplňková činnost'!AN23 -> 0 | N23: ='Hlavní činnost'!Y23 -> 0 | O23: ='Doplňková činnost'!AO23 -> 0 | P23: ='Hlavní činnost'!Z23 -> 0 | Q23: ='Doplňková činnost'!AP23 -> 0
C24: pevná paliva a kapalná paliva (agregáty…) | F24: 060X | G24: 011X | H24: ='Hlavní činnost'!G24 -> 0 | I24: ='Doplňková činnost'!G24 -> 0 | J24: ='Hlavní činnost'!O24 -> 0 | K24: ='Doplňková činnost'!W24 -> 0 | L24: ='Hlavní činnost'!X24 -> 0 | M24: ='Doplňková činnost'!AN24 -> 0 | N24: ='Hlavní činnost'!Y24 -> 0 | O24: ='Doplňková činnost'!AO24 -> 0 | P24: ='Hlavní činnost'!Z24 -> 0 | Q24: ='Doplňková činnost'!AP24 -> 0
C25: pohonné hmoty a maziva (dopravní prostředky) | F25: 061X | G25: 012X | H25: ='Hlavní činnost'!G25 -> 15000 | I25: ='Doplňková činnost'!G25 -> 0 | J25: ='Hlavní činnost'!O25 -> 16000 | K25: ='Doplňková činnost'!W25 -> 0 | L25: ='Hlavní činnost'!X25 -> 1000 | M25: ='Doplňková činnost'!AN25 -> 0 | N25: ='Hlavní činnost'!Y25 -> 18000 | O25: ='Doplňková činnost'!AO25 -> 0 | P25: ='Hlavní činnost'!Z25 -> 20000 | Q25: ='Doplňková činnost'!AP25 -> 0
... C32: dopravní značení SSOK | F32: 047X | G32: 019X | H32: ='Hlavní činnost'!G32 -> 0 | I32: ='Doplňková činnost'!G32 -> 0 | J32: ='Hlavní činnost'!O32 -> 0 | K32: ='Doplňková činnost'!W32 -> 0 | L32: ='Hlavní činnost'!X32 -> 0 | M32: ='Doplňková činnost'!AN32 -> 0 | N32: ='Hlavní činnost'!Y32 -> 0 | O32: ='Doplňková činnost'!AO32 -> 0 | P32: ='Hlavní činnost'!Z32 -> 0 | Q32: ='Doplňková činnost'!AP32 -> 0
C33: ostatní | H33: ='Hlavní činnost'!G33 -> 0 | I33: ='Doplňková činnost'!G33 -> 0 | J33: ='Hlavní činnost'!O33 -> 0 | K33: ='Doplňková činnost'!W33 -> 0 | L33: ='Hlavní činnost'!X33 -> 0 | M33: ='Doplňková činnost'!AN33 -> 0 | N33: ='Hlavní činnost'!Y33 -> 0 | O33: ='Doplňková činnost'!AO33 -> 0 | P33: ='Hlavní činnost'!Z33 -> 0 | Q33: ='Doplňková činnost'!AP33 -> 0
B34: Spotřeba energie | E34: 502 | H34: ='Hlavní činnost'!G34 -> 700000 | I34: ='Doplňková činnost'!G34 -> 4000 | J34: ='Hlavní činnost'!O34 -> 547000 | K34: ='Doplňková činnost'!W34 -> 4000 | L34: ='Hlavní činnost'!X34 -> -153000 | M34: ='Doplňková činnost'!AN34 -> 0 | N34: ='Hlavní činnost'!Y34 -> 578000 | O34: ='Doplňková činnost'!AO34 -> 4000 | P34: ='Hlavní činnost'!Z34 -> 609000 | Q34: ='Doplňková činnost'!AP34 -> 4000
B35: z toho: | C35: vodné a stočné, včetně srážkové vody | E35: 502 | F35: 030X | G35: 000X | H35: ='Hlavní činnost'!G35 -> 50000 | I35: ='Doplňková činnost'!G35 -> 1000 | J35: ='Hlavní činnost'!O35 -> 52000 | K35: ='Doplňková činnost'!W35 -> 1000 | L35: ='Hlavní činnost'!X35 -> 2000 | M35: ='Doplňková činnost'!AN35 -> 0 | N35: ='Hlavní činnost'!Y35 -> 54000 | O35: ='Doplňková činnost'!AO35 -> 1000 | P35: ='Hlavní činnost'!Z35 -> 56000 | Q35: ='Doplňková činnost'!AP35 -> 1000
C36: teplo a pára | F36: 031X | G36: 001X | H36: ='Hlavní činnost'!G36 -> 500000 | I36: ='Doplňková činnost'!G36 -> 2000 | J36: ='Hlavní činnost'!O36 -> 360000 | K36: ='Doplňková činnost'!W36 -> 2000 | L36: ='Hlavní činnost'!X36 -> -140000 | M36: ='Doplňková činnost'!AN36 -> 0 | N36: ='Hlavní činnost'!Y36 -> 384000 | O36: ='Doplňková činnost'!AO36 -> 2000 | P36: ='Hlavní činnost'!Z36 -> 408000 | Q36: ='Doplňková činnost'!AP36 -> 2000
C37: plyn (ne mediciální) | F37: 032X | G37: 002X | H37: ='Hlavní činnost'!G37 -> 0 | I37: ='Doplňková činnost'!G37 -> 0 | J37: ='Hlavní činnost'!O37 -> 0 | K37: ='Doplňková činnost'!W37 -> 0 | L37: ='Hlavní činnost'!X37 -> 0 | M37: ='Doplňková činnost'!AN37 -> 0 | N37: ='Hlavní činnost'!Y37 -> 0 | O37: ='Doplňková činnost'!AO37 -> 0 | P37: ='Hlavní činnost'!Z37 -> 0 | Q37: ='Doplňková činnost'!AP37 -> 0
C38: elektrická energie | F38: 033X | G38: 003X | H38: ='Hlavní činnost'!G38 -> 150000 | I38: ='Doplňková činnost'!G38 -> 1000 | J38: ='Hlavní činnost'!O38 -> 135000 | K38: ='Doplňková činnost'!W38 -> 1000 | L38: ='Hlavní činnost'!X38 -> -15000 | M38: ='Doplňková činnost'!AN38 -> 0 | N38: ='Hlavní činnost'!Y38 -> 140000 | O38: ='Doplňková činnost'!AO38 -> 1000 | P38: ='Hlavní činnost'!Z38 -> 145000 | Q38: ='Doplňková činnost'!AP38 -> 1000
C39: ostatní | H39: ='Hlavní činnost'!G39 -> 0 | I39: ='Doplňková činnost'!G39 -> 0 | J39: ='Hlavní činnost'!O39 -> 0 | K39: ='Doplňková činnost'!W39 -> 0 | L39: ='Hlavní činnost'!X39 -> 0 | M39: ='Doplňková činnost'!AN39 -> 0 | N39: ='Hlavní činnost'!Y39 -> 0 | O39: ='Doplňková činnost'!AO39 -> 0 | P39: ='Hlavní činnost'!Z39 -> 0 | Q39: ='Doplňková činnost'!AP39 -> 0
B40: Spotřeba jiných neskladovaných dodávek | E40: 503 | H40: ='Hlavní činnost'!G40 -> 0 | I40: ='Doplňková činnost'!G40 -> 0 | J40: ='Hlavní činnost'!O40 -> 0 | K40: ='Doplňková činnost'!W40 -> 0 | L40: ='Hlavní činnost'!X40 -> 0 | M40: ='Doplňková činnost'!AN40 -> 0 | N40: ='Hlavní činnost'!Y40 -> 0 | O40: ='Doplňková činnost'!AO40 -> 0 | P40: ='Hlavní činnost'!Z40 -> 0 | Q40: ='Doplňková činnost'!AP40 -> 0
B41: Prodané zboží | E41: 504 | H41: ='Hlavní činnost'!G41 -> 0 | I41: ='Doplňková činnost'!G41 -> 0 | J41: ='Hlavní činnost'!O41 -> 0 | K41: ='Doplňková činnost'!W41 -> 0 | L41: ='Hlavní činnost'!X41 -> 0 | M41: ='Doplňková činnost'!AN41 -> 0 | N41: ='Hlavní činnost'!Y41 -> 0 | O41: ='Doplňková činnost'!AO41 -> 0 | P41: ='Hlavní činnost'!Z41 -> 0 | Q41: ='Doplňková činnost'!AP41 -> 0
B42: Aktivace dlouhodobého majetku | E42: 506 | H42: ='Hlavní činnost'!G42 -> 0 | I42: ='Doplňková činnost'!G42 -> 0 | J42: ='Hlavní činnost'!O42 -> 0 | K42: ='Doplňková činnost'!W42 -> 0 | L42: ='Hlavní činnost'!X42 -> 0 | M42: ='Doplňková činnost'!AN42 -> 0 | N42: ='Hlavní činnost'!Y42 -> 0 | O42: ='Doplňková činnost'!AO42 -> 0 | P42: ='Hlavní činnost'!Z42 -> 0 | Q42: ='Doplňková činnost'!AP42 -> 0
B43: z toho: | C43: aktivace dlouhodobého hmotného majetku | E43: 506 | F43: 030X | G43: 000X | H43: ='Hlavní činnost'!G43 -> 0 | I43: ='Doplňková činnost'!G43 -> 0 | J43: ='Hlavní činnost'!O43 -> 0 | K43: ='Doplňková činnost'!W43 -> 0 | L43: ='Hlavní činnost'!X43 -> 0 | M43: ='Doplňková činnost'!AN43 -> 0 | N43: ='Hlavní činnost'!Y43 -> x | O43: ='Doplňková činnost'!AO43 -> x | P43: ='Hlavní činnost'!Z43 -> x | Q43: ='Doplňková činnost'!AP43 -> x
C44: aktivace dlouhodobého nehmotného majetku | F44: 031X | G44: 001X | H44: ='Hlavní činnost'!G44 -> 0 | I44: ='Doplňková činnost'!G44 -> 0 | J44: ='Hlavní činnost'!O44 -> 0 | K44: ='Doplňková činnost'!W44 -> 0 | L44: ='Hlavní činnost'!X44 -> 0 | M44: ='Doplňková činnost'!AN44 -> 0 | N44: ='Hlavní činnost'!Y44 -> x | O44: ='Doplňková činnost'!AO44 -> x | P44: ='Hlavní činnost'!Z44 -> x | Q44: ='Doplňková činnost'!AP44 -> x
C45: ostatní | H45: ='Hlavní činnost'!G45 -> 0 | I45: ='Doplňková činnost'!G45 -> 0 | J45: ='Hlavní činnost'!O45 -> 0 | K45: ='Doplňková činnost'!W45 -> 0 | L45: ='Hlavní činnost'!X45 -> 0 | M45: ='Doplňková činnost'!AN45 -> 0 | N45: ='Hlavní činnost'!Y45 -> x | O45: ='Doplňková činnost'!AO45 -> x | P45: ='Hlavní činnost'!Z45 -> x | Q45: ='Doplňková činnost'!AP45 -> x
B46: Aktivace oběžného majetku | E46: 507 | H46: ='Hlavní činnost'!G46 -> 0 | I46: ='Doplňková činnost'!G46 -> 0 | J46: ='Hlavní činnost'!O46 -> 0 | K46: ='Doplňková činnost'!W46 -> 0 | L46: ='Hlavní činnost'!X46 -> 0 | M46: ='Doplňková činnost'!AN46 -> 0 | N46: ='Hlavní činnost'!Y46 -> 0 | O46: ='Doplňková činnost'!AO46 -> 0 | P46: ='Hlavní činnost'!Z46 -> 0 | Q46: ='Doplňková činnost'!AP46 -> 0
B47: Změna stavu zásob vlastní výroby | E47: 508 | H47: ='Hlavní činnost'!G47 -> 0 | I47: ='Doplňková činnost'!G47 -> 0 | J47: ='Hlavní činnost'!O47 -> 0 | K47: ='Doplňková činnost'!W47 -> 0 | L47: ='Hlavní činnost'!X47 -> 0 | M47: ='Doplňková činnost'!AN47 -> 0 | N47: ='Hlavní činnost'!Y47 -> 0 | O47: ='Doplňková činnost'!AO47 -> 0 | P47: ='Hlavní činnost'!Z47 -> 0 | Q47: ='Doplňková činnost'!AP47 -> 0
B48: z toho: | C48: změna stavu nedokončené výroby | E48: 508 | F48: 030X | G48: 000X | H48: ='Hlavní činnost'!G48 -> 0 | I48: ='Doplňková činnost'!G48 -> 0 | J48: ='Hlavní činnost'!O48 -> 0 | K48: ='Doplňková činnost'!W48 -> 0 | L48: ='Hlavní činnost'!X48 -> 0 | M48: ='Doplňková činnost'!AN48 -> 0 | N48: ='Hlavní činnost'!Y48 -> x | O48: ='Doplňková činnost'!AO48 -> x | P48: ='Hlavní činnost'!Z48 -> x | Q48: ='Doplňková činnost'!AP48 -> x
C49: změna stavu polotovarů | F49: 031X | G49: 001X | H49: ='Hlavní činnost'!G49 -> 0 | I49: ='Doplňková činnost'!G49 -> 0 | J49: ='Hlavní činnost'!O49 -> 0 | K49: ='Doplňková činnost'!W49 -> 0 | L49: ='Hlavní činnost'!X49 -> 0 | M49: ='Doplňková činnost'!AN49 -> 0 | N49: ='Hlavní činnost'!Y49 -> x | O49: ='Doplňková činnost'!AO49 -> x | P49: ='Hlavní činnost'!Z49 -> x | Q49: ='Doplňková činnost'!AP49 -> x
C50: změna stavu výrobků | F50: 032X | G50: 002X | H50: ='Hlavní činnost'!G50 -> 0 | I50: ='Doplňková činnost'!G50 -> 0 | J50: ='Hlavní činnost'!O50 -> 0 | K50: ='Doplňková činnost'!W50 -> 0 | L50: ='Hlavní činnost'!X50 -> 0 | M50: ='Doplňková činnost'!AN50 -> 0 | N50: ='Hlavní činnost'!Y50 -> x | O50: ='Doplňková činnost'!AO50 -> x | P50: ='Hlavní činnost'!Z50 -> x | Q50: ='Doplňková činnost'!AP50 -> x
C51: změna stavu ostatních zásob | F51: 033X | G51: 003X | H51: ='Hlavní činnost'!G51 -> 0 | I51: ='Doplňková činnost'!G51 -> 0 | J51: ='Hlavní činnost'!O51 -> 0 | K51: ='Doplňková činnost'!W51 -> 0 | L51: ='Hlavní činnost'!X51 -> 0 | M51: ='Doplňková činnost'!AN51 -> 0 | N51: ='Hlavní činnost'!Y51 -> x | O51: ='Doplňková činnost'!AO51 -> x | P51: ='Hlavní činnost'!Z51 -> x | Q51: ='Doplňková činnost'!AP51 -> x
C52: ostatní | H52: ='Hlavní činnost'!G52 -> 0 | I52: ='Doplňková činnost'!G52 -> 0 | J52: ='Hlavní činnost'!O52 -> 0 | K52: ='Doplňková činnost'!W52 -> 0 | L52: ='Hlavní činnost'!X52 -> 0 | M52: ='Doplňková činnost'!AN52 -> 0 | N52: ='Hlavní činnost'!Y52 -> x | O52: ='Doplňková činnost'!AO52 -> x | P52: ='Hlavní činnost'!Z52 -> x | Q52: ='Doplňková činnost'!AP52 -> x
B53: Opravy a udržování | E53: 511 | H53: ='Hlavní činnost'!G53 -> 25000 | I53: ='Doplňková činnost'!G53 -> 0 | J53: ='Hlavní činnost'!O53 -> 25000 | K53: ='Doplňková činnost'!W53 -> 0 | L53: ='Hlavní činnost'!X53 -> 0 | M53: ='Doplňková činnost'!AN53 -> 0 | N53: ='Hlavní činnost'!Y53 -> 25000 | O53: ='Doplňková činnost'!AO53 -> 0 | P53: ='Hlavní činnost'!Z53 -> 25000 | Q53: ='Doplňková činnost'!AP53 -> 0
B54: z toho: | C54: nemovitého majetku do 200 tis. Kč )1 | E54: 511 | F54: 034X | G54: 004X | H54: ='Hlavní činnost'!G54 -> 10000 | I54: ='Doplňková činnost'!G54 -> 0 | J54: ='Hlavní činnost'!O54 -> 10000 | K54: ='Doplňková činnost'!W54 -> 0 | L54: ='Hlavní činnost'!X54 -> 0 | M54: ='Doplňková činnost'!AN54 -> 0 | N54: ='Hlavní činnost'!Y54 -> 10000 | O54: ='Doplňková činnost'!AO54 -> 0 | P54: ='Hlavní činnost'!Z54 -> 10000 | Q54: ='Doplňková činnost'!AP54 -> 0
C55: nemovitého majetku nad 200 tis. Kč )2 | F55: 030X)2,3 | G55: 000X)2,3 | H55: ='Hlavní činnost'!G55 -> 0 | I55: ='Doplňková činnost'!G55 -> 0 | J55: ='Hlavní činnost'!O55 -> 0 | K55: ='Doplňková činnost'!W55 -> 0 | L55: ='Hlavní činnost'!X55 -> 0 | M55: ='Doplňková činnost'!AN55 -> 0 | N55: ='Hlavní činnost'!Y55 -> 0 | O55: ='Doplňková činnost'!AO55 -> 0 | P55: ='Hlavní činnost'!Z55 -> 0 | Q55: ='Doplňková činnost'!AP55 -> 0
C56: nemovitého majteku nad 500 tis.Kč )3 | F56: 031X)2,3 | G56: 001X)2,3 | H56: ='Hlavní činnost'!G56 -> x | I56: ='Doplňková činnost'!G56 -> x | J56: ='Hlavní činnost'!O56 -> x | K56: ='Doplňková činnost'!W56 -> x | L56: ='Hlavní činnost'!X56 -> x | M56: ='Doplňková činnost'!AN56 -> x | N56: ='Hlavní činnost'!Y56 -> x | O56: ='Doplňková činnost'!AO56 -> x | P56: ='Hlavní činnost'!Z56 -> x | Q56: ='Doplňková činnost'!AP56 -> x
C57: movitého majetku - strojů, přístrojů a zařízení | F57: 032X | G57: 002X | H57: ='Hlavní činnost'!G57 -> 10000 | I57: ='Doplňková činnost'!G57 -> 0 | J57: ='Hlavní činnost'!O57 -> 10000 | K57: ='Doplňková činnost'!W57 -> 0 | L57: ='Hlavní činnost'!X57 -> 0 | M57: ='Doplňková činnost'!AN57 -> 0 | N57: ='Hlavní činnost'!Y57 -> 10000 | O57: ='Doplňková činnost'!AO57 -> 0 | P57: ='Hlavní činnost'!Z57 -> 10000 | Q57: ='Doplňková činnost'!AP57 -> 0
C58: movitého majetku - dopravních prostředků | F58: 033X | G58: 003X | H58: ='Hlavní činnost'!G58 -> 5000 | I58: ='Doplňková činnost'!G58 -> 0 | J58: ='Hlavní činnost'!O58 -> 5000 | K58: ='Doplňková činnost'!W58 -> 0 | L58: ='Hlavní činnost'!X58 -> 0 | M58: ='Doplňková činnost'!AN58 -> 0 | N58: ='Hlavní činnost'!Y58 -> 5000 | O58: ='Doplňková činnost'!AO58 -> 0 | P58: ='Hlavní činnost'!Z58 -> 5000 | Q58: ='Doplňková činnost'!AP58 -> 0
C59: restaurování sbírek | F59: 035X | G59: 005X | H59: ='Hlavní činnost'!G59 -> 0 | I59: ='Doplňková činnost'!G59 -> 0 | J59: ='Hlavní činnost'!O59 -> 0 | K59: ='Doplňková činnost'!W59 -> 0 | L59: ='Hlavní činnost'!X59 -> 0 | M59: ='Doplňková činnost'!AN59 -> 0 | N59: ='Hlavní činnost'!Y59 -> 0 | O59: ='Doplňková činnost'!AO59 -> 0 | P59: ='Hlavní činnost'!Z59 -> 0 | Q59: ='Doplňková činnost'!AP59 -> 0
C60: ostatní | H60: ='Hlavní činnost'!G60 -> 0 | I60: ='Doplňková činnost'!G60 -> 0 | J60: ='Hlavní činnost'!O60 -> 0 | K60: ='Doplňková činnost'!W60 -> 0 | L60: ='Hlavní činnost'!X60 -> 0 | M60: ='Doplňková činnost'!AN60 -> 0 | N60: ='Hlavní činnost'!Y60 -> 0 | O60: ='Doplňková činnost'!AO60 -> 0 | P60: ='Hlavní činnost'!Z60 -> 0 | Q60: ='Doplňková činnost'!AP60 -> 0
B61: Cestovné | E61: 512 | H61: ='Hlavní činnost'!G61 -> 40000 | I61: ='Doplňková činnost'!G61 -> 0 | J61: ='Hlavní činnost'!O61 -> 40000 | K61: ='Doplňková činnost'!W61 -> 0 | L61: ='Hlavní činnost'!X61 -> 0 | M61: ='Doplňková činnost'!AN61 -> 0 | N61: ='Hlavní činnost'!Y61 -> 30000 | O61: ='Doplňková činnost'!AO61 -> 0 | P61: ='Hlavní činnost'!Z61 -> 30000 | Q61: ='Doplňková činnost'!AP61 -> 0
B62: z toho: | C62: tuzemské | E62: 512 | F62: 030X | G62: 000X | H62: ='Hlavní činnost'!G62 -> 40000 | I62: ='Doplňková činnost'!G62 -> 0 | J62: ='Hlavní činnost'!O62 -> 40000 | K62: ='Doplňková činnost'!W62 -> 0 | L62: ='Hlavní činnost'!X62 -> 0 | M62: ='Doplňková činnost'!AN62 -> 0 | N62: ='Hlavní činnost'!Y62 -> x | O62: ='Doplňková činnost'!AO62 -> x | P62: ='Hlavní činnost'!Z62 -> x | Q62: ='Doplňková činnost'!AP62 -> x
C63: zahraniční | F63: 031X | G63: 001X | H63: ='Hlavní činnost'!G63 -> 0 | I63: ='Doplňková činnost'!G63 -> 0 | J63: ='Hlavní činnost'!O63 -> 0 | K63: ='Doplňková činnost'!W63 -> 0 | L63: ='Hlavní činnost'!X63 -> 0 | M63: ='Doplňková činnost'!AN63 -> 0 | N63: ='Hlavní činnost'!Y63 -> x | O63: ='Doplňková činnost'!AO63 -> x | P63: ='Hlavní činnost'!Z63 -> x | Q63: ='Doplňková činnost'!AP63 -> x
C64: ostatní | H64: ='Hlavní činnost'!G64 -> 0 | I64: ='Doplňková činnost'!G64 -> 0 | J64: ='Hlavní činnost'!O64 -> 0 | K64: ='Doplňková činnost'!W64 -> 0 | L64: ='Hlavní činnost'!X64 -> 0 | M64: ='Doplňková činnost'!AN64 -> 0 | N64: ='Hlavní činnost'!Y64 -> x | O64: ='Doplňková činnost'!AO64 -> x | P64: ='Hlavní činnost'!Z64 -> x | Q64: ='Doplňková činnost'!AP64 -> x
B65: Náklady na reprezentaci (číslo účtu 513) | E65: 513 | H65: ='Hlavní činnost'!G65 -> 0 | I65: ='Doplňková činnost'!G65 -> 0 | J65: ='Hlavní činnost'!O65 -> 0 | K65: ='Doplňková činnost'!W65 -> 0 | L65: ='Hlavní činnost'!X65 -> 0 | M65: ='Doplňková činnost'!AN65 -> 0 | N65: ='Hlavní činnost'!Y65 -> 0 | O65: ='Doplňková činnost'!AO65 -> 0 | P65: ='Hlavní činnost'!Z65 -> 0 | Q65: ='Doplňková činnost'!AP65 -> 0
B66: Aktivace vnitroorganizačních služeb | E66: 516 | H66: ='Hlavní činnost'!G66 -> 0 | I66: ='Doplňková činnost'!G66 -> 0 | J66: ='Hlavní činnost'!O66 -> 0 | K66: ='Doplňková činnost'!W66 -> 0 | L66: ='Hlavní činnost'!X66 -> 0 | M66: ='Doplňková činnost'!AN66 -> 0 | N66: ='Hlavní činnost'!Y66 -> 0 | O66: ='Doplňková činnost'!AO66 -> 0 | P66: ='Hlavní činnost'!Z66 -> 0 | Q66: ='Doplňková činnost'!AP66 -> 0
B67: Ostatní služby | E67: 518 | H67: ='Hlavní činnost'!G67 -> 1462000 | I67: ='Doplňková činnost'!G67 -> 3000 | J67: ='Hlavní činnost'!O67 -> 1375000 | K67: ='Doplňková činnost'!W67 -> 3000 | L67: ='Hlavní činnost'!X67 -> -87000 | M67: ='Doplňková činnost'!AN67 -> 0 | N67: ='Hlavní činnost'!Y67 -> 1206000 | O67: ='Doplňková činnost'!AO67 -> 3000 | P67: ='Hlavní činnost'!Z67 -> 1242000 | Q67: ='Doplňková činnost'!AP67 -> 3000
B68: z toho: | C68: poštovné | E68: 518 | F68: 030X | G68: 000X | H68: ='Hlavní činnost'!G68 -> 1000 | I68: ='Doplňková činnost'!G68 -> 0 | J68: ='Hlavní činnost'!O68 -> 1000 | K68: ='Doplňková činnost'!W68 -> 0 | L68: ='Hlavní činnost'!X68 -> 0 | M68: ='Doplňková činnost'!AN68 -> 0 | N68: ='Hlavní činnost'!Y68 -> 1000 | O68: ='Doplňková činnost'!AO68 -> 0 | P68: ='Hlavní činnost'!Z68 -> 1000 | Q68: ='Doplňková činnost'!AP68 -> 0
C69: internet, poplatky za registaci domény | F69: 031X | G69: 001X | H69: ='Hlavní činnost'!G69 -> 6000 | I69: ='Doplňková činnost'!G69 -> 0 | J69: ='Hlavní činnost'!O69 -> 6000 | K69: ='Doplňková činnost'!W69 -> 0 | L69: ='Hlavní činnost'!X69 -> 0 | M69: ='Doplňková činnost'!AN69 -> 0 | N69: ='Hlavní činnost'!Y69 -> 6000 | O69: ='Doplňková činnost'!AO69 -> 0 | P69: ='Hlavní činnost'!Z69 -> 6000 | Q69: ='Doplňková činnost'!AP69 -> 0
C70: bankovní poplatky | F70: 032X | G70: 002X | H70: ='Hlavní činnost'!G70 -> 5000 | I70: ='Doplňková činnost'!G70 -> 0 | J70: ='Hlavní činnost'!O70 -> 5000 | K70: ='Doplňková činnost'!W70 -> 0 | L70: ='Hlavní činnost'!X70 -> 0 | M70: ='Doplňková činnost'!AN70 -> 0 | N70: ='Hlavní činnost'!Y70 -> 5000 | O70: ='Doplňková činnost'!AO70 -> 0 | P70: ='Hlavní činnost'!Z70 -> 5000 | Q70: ='Doplňková činnost'!AP70 -> 0
C71: nájemné bytových prostor bez plateb za související služby | F71: 033X | G71: 003X | H71: ='Hlavní činnost'!G71 -> 0 | I71: ='Doplňková činnost'!G71 -> 0 | J71: ='Hlavní činnost'!O71 -> 0 | K71: ='Doplňková činnost'!W71 -> 0 | L71: ='Hlavní činnost'!X71 -> 0 | M71: ='Doplňková činnost'!AN71 -> 0 | N71: ='Hlavní činnost'!Y71 -> 0 | O71: ='Doplňková činnost'!AO71 -> 0 | P71: ='Hlavní činnost'!Z71 -> 0 | Q71: ='Doplňková činnost'!AP71 -> 0
C72: nájemné nebytových prostor bez plateb za související služby | F72: 051X | G72: 020X | H72: ='Hlavní činnost'!G72 -> 200000 | I72: ='Doplňková činnost'!G72 -> 1000 | J72: ='Hlavní činnost'!O72 -> 220000 | K72: ='Doplňková činnost'!W72 -> 1000 | L72: ='Hlavní činnost'!X72 -> 20000 | M72: ='Doplňková činnost'!AN72 -> 0 | N72: ='Hlavní činnost'!Y72 -> 230000 | O72: ='Doplňková činnost'!AO72 -> 1000 | P72: ='Hlavní činnost'!Z72 -> 240000 | Q72: ='Doplňková činnost'!AP72 -> 1000
C73: nájemné za movitý majetek bez plateb za související služby | F73: 034X | G73: 004X | H73: ='Hlavní činnost'!G73 -> 2000 | I73: ='Doplňková činnost'!G73 -> 0 | J73: ='Hlavní činnost'!O73 -> 2000 | K73: ='Doplňková činnost'!W73 -> 0 | L73: ='Hlavní činnost'!X73 -> 0 | M73: ='Doplňková činnost'!AN73 -> 0 | N73: ='Hlavní činnost'!Y73 -> 2000 | O73: ='Doplňková činnost'!AO73 -> 0 | P73: ='Hlavní činnost'!Z73 -> 2000 | Q73: ='Doplňková činnost'!AP73 -> 0
C74: stravování - dodavatelsky | F74: 035X | G74: 005X | H74: ='Hlavní činnost'!G74 -> 150000 | I74: ='Doplňková činnost'!G74 -> 0 | J74: ='Hlavní činnost'!O74 -> 160000 | K74: ='Doplňková činnost'!W74 -> 0 | L74: ='Hlavní činnost'!X74 -> 10000 | M74: ='Doplňková činnost'!AN74 -> 0 | N74: ='Hlavní činnost'!Y74 -> 170000 | O74: ='Doplňková činnost'!AO74 -> 0 | P74: ='Hlavní činnost'!Z74 -> 180000 | Q74: ='Doplňková činnost'!AP74 -> 0
C75: stravovávní - věcná režie žáci | F75: 036X | G75: 006X | H75: ='Hlavní činnost'!G75 -> 0 | I75: ='Doplňková činnost'!G75 -> 0 | J75: ='Hlavní činnost'!O75 -> 0 | K75: ='Doplňková činnost'!W75 -> 0 | L75: ='Hlavní činnost'!X75 -> 0 | M75: ='Doplňková činnost'!AN75 -> 0 | N75: ='Hlavní činnost'!Y75 -> 0 | O75: ='Doplňková činnost'!AO75 -> 0 | P75: ='Hlavní činnost'!Z75 -> 0 | Q75: ='Doplňková činnost'!AP75 -> 0
C76: konzultační, poradenské a právní služby | F76: 037X | G76: 007X | H76: ='Hlavní činnost'!G76 -> 21000 | I76: ='Doplňková činnost'!G76 -> 0 | J76: ='Hlavní činnost'!O76 -> 22000 | K76: ='Doplňková činnost'!W76 -> 0 | L76: ='Hlavní činnost'!X76 -> 1000 | M76: ='Doplňková činnost'!AN76 -> 0 | N76: ='Hlavní činnost'!Y76 -> 23000 | O76: ='Doplňková činnost'!AO76 -> 0 | P76: ='Hlavní činnost'!Z76 -> 24000 | Q76: ='Doplňková činnost'!AP76 -> 0
C77: školení a vzdělávání (ne zaměstnanci) | F77: 038X | G77: 008X | H77: ='Hlavní činnost'!G77 -> 0 | I77: ='Doplňková činnost'!G77 -> 0 | J77: ='Hlavní činnost'!O77 -> 0 | K77: ='Doplňková činnost'!W77 -> 0 | L77: ='Hlavní činnost'!X77 -> 0 | M77: ='Doplňková činnost'!AN77 -> 0 | N77: ='Hlavní činnost'!Y77 -> 0 | O77: ='Doplňková činnost'!AO77 -> 0 | P77: ='Hlavní činnost'!Z77 -> 0 | Q77: ='Doplňková činnost'!AP77 -> 0
C78: telekomunikace pevné linky | F78: 039X | G78: 009X | H78: ='Hlavní činnost'!G78 -> 4000 | I78: ='Doplňková činnost'!G78 -> 0 | J78: ='Hlavní činnost'!O78 -> 4000 | K78: ='Doplňková činnost'!W78 -> 0 | L78: ='Hlavní činnost'!X78 -> 0 | M78: ='Doplňková činnost'!AN78 -> 0 | N78: ='Hlavní činnost'!Y78 -> 4000 | O78: ='Doplňková činnost'!AO78 -> 0 | P78: ='Hlavní činnost'!Z78 -> 4000 | Q78: ='Doplňková činnost'!AP78 -> 0
C79: telekomunikace - mobilní telefony | F79: 052X | G79: 021X | H79: ='Hlavní činnost'!G79 -> 7000 | I79: ='Doplňková činnost'!G79 -> 0 | J79: ='Hlavní činnost'!O79 -> 7000 | K79: ='Doplňková činnost'!W79 -> 0 | L79: ='Hlavní činnost'!X79 -> 0 | M79: ='Doplňková činnost'!AN79 -> 0 | N79: ='Hlavní činnost'!Y79 -> 7000 | O79: ='Doplňková činnost'!AO79 -> 0 | P79: ='Hlavní činnost'!Z79 -> 7000 | Q79: ='Doplňková činnost'!AP79 -> 0
C80: poplatky za rozhlas a televizi | F80: 040X | G80: 010X | H80: ='Hlavní činnost'!G80 -> 0 | I80: ='Doplňková činnost'!G80 -> 0 | J80: ='Hlavní činnost'!O80 -> 0 | K80: ='Doplňková činnost'!W80 -> 0 | L80: ='Hlavní činnost'!X80 -> 0 | M80: ='Doplňková činnost'!AN80 -> 0 | N80: ='Hlavní činnost'!Y80 -> 0 | O80: ='Doplňková činnost'!AO80 -> 0 | P80: ='Hlavní činnost'!Z80 -> 0 | Q80: ='Doplňková činnost'!AP80 -> 0
... C97: autoškola, svářečský kurz | F97: 059X | G97: 029X | H97: ='Hlavní činnost'!G97 -> 0 | I97: ='Doplňková činnost'!G97 -> 0 | J97: ='Hlavní činnost'!O97 -> 0 | K97: ='Doplňková činnost'!W97 -> 0 | L97: ='Hlavní činnost'!X97 -> 0 | M97: ='Doplňková činnost'!AN97 -> 0 | N97: ='Hlavní činnost'!Y97 -> 0 | O97: ='Doplňková činnost'!AO97 -> 0 | P97: ='Hlavní činnost'!Z97 -> 0 | Q97: ='Doplňková činnost'!AP97 -> 0
C98: ostatní | H98: ='Hlavní činnost'!G98 -> 933000 | I98: ='Doplňková činnost'!G98 -> 0 | J98: ='Hlavní činnost'!O98 -> 806000 | K98: ='Doplňková činnost'!W98 -> 0 | L98: ='Hlavní činnost'!X98 -> -127000 | M98: ='Doplňková činnost'!AN98 -> 0 | N98: ='Hlavní činnost'!Y98 -> 613000 | O98: ='Doplňková činnost'!AO98 -> 0 | P98: ='Hlavní činnost'!Z98 -> 618000 | Q98: ='Doplňková činnost'!AP98 -> 0
B99: Mzdové náklady | E99: 521 | H99: ='Hlavní činnost'!G99 -> 5316000 | I99: ='Doplňková činnost'!G99 -> 30000 | J99: ='Hlavní činnost'!O99 -> 4903000 | K99: ='Doplňková činnost'!W99 -> 32000 | L99: ='Hlavní činnost'!X99 -> -413000 | M99: ='Doplňková činnost'!AN99 -> 2000 | N99: ='Hlavní činnost'!Y99 -> 5143000 | O99: ='Doplňková činnost'!AO99 -> 34000 | P99: ='Hlavní činnost'!Z99 -> 5354000 | Q99: ='Doplňková činnost'!AP99 -> 36000
B100: z toho: | C100: prostředky na platy, mzdy | E100: 521 | F100: 030X | G100: 000X | H100: ='Hlavní činnost'!G100 -> 4866000 | I100: ='Doplňková činnost'!G100 -> 30000 | J100: ='Hlavní činnost'!O100 -> 4403000 | K100: ='Doplňková činnost'!W100 -> 32000 | L100: ='Hlavní činnost'!X100 -> -463000 | M100: ='Doplňková činnost'!AN100 -> 2000 | N100: ='Hlavní činnost'!Y100 -> x | O100: ='Doplňková činnost'!AO100 -> x | P100: ='Hlavní činnost'!Z100 -> x | Q100: ='Doplňková činnost'!AP100 -> x
C101: ostatní osobní náklady | F101: 031X | G101: 001X | H101: ='Hlavní činnost'!G101 -> 450000 | I101: ='Doplňková činnost'!G101 -> 0 | J101: ='Hlavní činnost'!O101 -> 500000 | K101: ='Doplňková činnost'!W101 -> 0 | L101: ='Hlavní činnost'!X101 -> 50000 | M101: ='Doplňková činnost'!AN101 -> 0 | N101: ='Hlavní činnost'!Y101 -> x | O101: ='Doplňková činnost'!AO101 -> x | P101: ='Hlavní činnost'!Z101 -> x | Q101: ='Doplňková činnost'!AP101 -> x
C102: odstupné | F102: 032X | G102: 002X | H102: ='Hlavní činnost'!G102 -> 0 | I102: ='Doplňková činnost'!G102 -> 0 | J102: ='Hlavní činnost'!O102 -> 0 | K102: ='Doplňková činnost'!W102 -> 0 | L102: ='Hlavní činnost'!X102 -> 0 | M102: ='Doplňková činnost'!AN102 -> 0 | N102: ='Hlavní činnost'!Y102 -> x | O102: ='Doplňková činnost'!AO102 -> x | P102: ='Hlavní činnost'!Z102 -> x | Q102: ='Doplňková činnost'!AP102 -> x
C103: náhrada mzdy za dočasnou pracovní neschopnost | F103: 033X | G103: 003X | H103: ='Hlavní činnost'!G103 -> 0 | I103: ='Doplňková činnost'!G103 -> 0 | J103: ='Hlavní činnost'!O103 -> 0 | K103: ='Doplňková činnost'!W103 -> 0 | L103: ='Hlavní činnost'!X103 -> 0 | M103: ='Doplňková činnost'!AN103 -> 0 | N103: ='Hlavní činnost'!Y103 -> x | O103: ='Doplňková činnost'!AO103 -> x | P103: ='Hlavní činnost'!Z103 -> x | Q103: ='Doplňková činnost'!AP103 -> x
C104: ostatní | H104: ='Hlavní činnost'!G104 -> 0 | I104: ='Doplňková činnost'!G104 -> 0 | J104: ='Hlavní činnost'!O104 -> 0 | K104: ='Doplňková činnost'!W104 -> 0 | L104: ='Hlavní činnost'!X104 -> 0 | M104: ='Doplňková činnost'!AN104 -> 0 | N104: ='Hlavní činnost'!Y104 -> x | O104: ='Doplňková činnost'!AO104 -> x | P104: ='Hlavní činnost'!Z104 -> x | Q104: ='Doplňková činnost'!AP104 -> x
B105: Zákonné sociální pojištění | E105: 524 | H105: ='Hlavní činnost'!G105 -> 1796000 | I105: ='Doplňková činnost'!G105 -> 10000 | J105: ='Hlavní činnost'!O105 -> 1657000 | K105: ='Doplňková činnost'!W105 -> 11000 | L105: ='Hlavní činnost'!X105 -> -139000 | M105: ='Doplňková činnost'!AN105 -> 1000 | N105: ='Hlavní činnost'!Y105 -> 1738000 | O105: ='Doplňková činnost'!AO105 -> 12000 | P105: ='Hlavní činnost'!Z105 -> 1810000 | Q105: ='Doplňková činnost'!AP105 -> 12000
B106: z toho: | C106: sociální pojištění | E106: 524 | F106: 030X | G106: 000X | H106: ='Hlavní činnost'!G106 -> 1318000 | I106: ='Doplňková činnost'!G106 -> 7000 | J106: ='Hlavní činnost'!O106 -> 1216000 | K106: ='Doplňková činnost'!W106 -> 8000 | L106: ='Hlavní činnost'!X106 -> -102000 | M106: ='Doplňková činnost'!AN106 -> 1000 | N106: ='Hlavní činnost'!Y106 -> x | O106: ='Doplňková činnost'!AO106 -> x | P106: ='Hlavní činnost'!Z106 -> x | Q106: ='Doplňková činnost'!AP106 -> x
C107: zdravotní pojištění | F107: 031X | G107: 001X | H107: ='Hlavní činnost'!G107 -> 478000 | I107: ='Doplňková činnost'!G107 -> 3000 | J107: ='Hlavní činnost'!O107 -> 441000 | K107: ='Doplňková činnost'!W107 -> 3000 | L107: ='Hlavní činnost'!X107 -> -37000 | M107: ='Doplňková činnost'!AN107 -> 0 | N107: ='Hlavní činnost'!Y107 -> x | O107: ='Doplňková činnost'!AO107 -> x | P107: ='Hlavní činnost'!Z107 -> x | Q107: ='Doplňková činnost'!AP107 -> x
C108: ostatní | H108: ='Hlavní činnost'!G108 -> 0 | I108: ='Doplňková činnost'!G108 -> 0 | J108: ='Hlavní činnost'!O108 -> 0 | K108: ='Doplňková činnost'!W108 -> 0 | L108: ='Hlavní činnost'!X108 -> 0 | M108: ='Doplňková činnost'!AN108 -> 0 | N108: ='Hlavní činnost'!Y108 -> x | O108: ='Doplňková činnost'!AO108 -> x | P108: ='Hlavní činnost'!Z108 -> x | Q108: ='Doplňková činnost'!AP108 -> x
B109: Jiné sociální pojištění | E109: 525 | H109: ='Hlavní činnost'!G109 -> 21000 | I109: ='Doplňková činnost'!G109 -> 0 | J109: ='Hlavní činnost'!O109 -> 19000 | K109: ='Doplňková činnost'!W109 -> 0 | L109: ='Hlavní činnost'!X109 -> -2000 | M109: ='Doplňková činnost'!AN109 -> 0 | N109: ='Hlavní činnost'!Y109 -> 20000 | O109: ='Doplňková činnost'!AO109 -> 0 | P109: ='Hlavní činnost'!Z109 -> 20000 | Q109: ='Doplňková činnost'!AP109 -> 0
B110: z toho: | C110: povinné úrazové pojištění zaměstnanců (zákon č. 266/2006Sb.) | E110: 525 | F110: 030X | G110: 000X | H110: ='Hlavní činnost'!G110 -> 21000 | I110: ='Doplňková činnost'!G110 -> 0 | J110: ='Hlavní činnost'!O110 -> 19000 | K110: ='Doplňková činnost'!W110 -> 0 | L110: ='Hlavní činnost'!X110 -> -2000 | M110: ='Doplňková činnost'!AN110 -> 0 | N110: ='Hlavní činnost'!Y110 -> x | O110: ='Doplňková činnost'!AO110 -> x | P110: ='Hlavní činnost'!Z110 -> x | Q110: ='Doplňková činnost'!AP110 -> x
C111: ostatní | H111: ='Hlavní činnost'!G111 -> 0 | I111: ='Doplňková činnost'!G111 -> 0 | J111: ='Hlavní činnost'!O111 -> 0 | K111: ='Doplňková činnost'!W111 -> 0 | L111: ='Hlavní činnost'!X111 -> 0 | M111: ='Doplňková činnost'!AN111 -> 0 | N111: ='Hlavní činnost'!Y111 -> x | O111: ='Doplňková činnost'!AO111 -> x | P111: ='Hlavní činnost'!Z111 -> x | Q111: ='Doplňková činnost'!AP111 -> x
B112: Zákonné sociální náklady | E112: 527 | H112: ='Hlavní činnost'!G112 -> 416000 | I112: ='Doplňková činnost'!G112 -> 0 | J112: ='Hlavní činnost'!O112 -> 411000 | K112: ='Doplňková činnost'!W112 -> 0 | L112: ='Hlavní činnost'!X112 -> -5000 | M112: ='Doplňková činnost'!AN112 -> 0 | N112: ='Hlavní činnost'!Y112 -> 115000 | O112: ='Doplňková činnost'!AO112 -> 0 | P112: ='Hlavní činnost'!Z112 -> 120000 | Q112: ='Doplňková činnost'!AP112 -> 0
B113: z toho: | C113: základní příděl do FKSP | E113: 527 | F113: 030X | G113: 000X | H113: ='Hlavní činnost'!G113 -> 49000 | I113: ='Doplňková činnost'!G113 -> 0 | J113: ='Hlavní činnost'!O113 -> 44000 | K113: ='Doplňková činnost'!W113 -> 0 | L113: ='Hlavní činnost'!X113 -> -5000 | M113: ='Doplňková činnost'!AN113 -> 0 | N113: ='Hlavní činnost'!Y113 -> x | O113: ='Doplňková činnost'!AO113 -> x | P113: ='Hlavní činnost'!Z113 -> x | Q113: ='Doplňková činnost'!AP113 -> x
C114: ochranné pomůcky v souladu se zákonem o dani z příjmu | F114: 031X | G114: 001X | H114: ='Hlavní činnost'!G114 -> 6000 | I114: ='Doplňková činnost'!G114 -> 0 | J114: ='Hlavní činnost'!O114 -> 6000 | K114: ='Doplňková činnost'!W114 -> 0 | L114: ='Hlavní činnost'!X114 -> 0 | M114: ='Doplňková činnost'!AN114 -> 0 | N114: ='Hlavní činnost'!Y114 -> x | O114: ='Doplňková činnost'!AO114 -> x | P114: ='Hlavní činnost'!Z114 -> x | Q114: ='Doplňková činnost'!AP114 -> x
C115: příspěvek na stravování zaměstnanců | F115: 032X | G115: 002X | H115: ='Hlavní činnost'!G115 -> 35000 | I115: ='Doplňková činnost'!G115 -> 0 | J115: ='Hlavní činnost'!O115 -> 35000 | K115: ='Doplňková činnost'!W115 -> 0 | L115: ='Hlavní činnost'!X115 -> 0 | M115: ='Doplňková činnost'!AN115 -> 0 | N115: ='Hlavní činnost'!Y115 -> x | O115: ='Doplňková činnost'!AO115 -> x | P115: ='Hlavní činnost'!Z115 -> x | Q115: ='Doplňková činnost'!AP115 -> x
C116: preventivní prohlídky | F116: 033X | G116: 003X | H116: ='Hlavní činnost'!G116 -> 6000 | I116: ='Doplňková činnost'!G116 -> 0 | J116: ='Hlavní činnost'!O116 -> 6000 | K116: ='Doplňková činnost'!W116 -> 0 | L116: ='Hlavní činnost'!X116 -> 0 | M116: ='Doplňková činnost'!AN116 -> 0 | N116: ='Hlavní činnost'!Y116 -> x | O116: ='Doplňková činnost'!AO116 -> x | P116: ='Hlavní činnost'!Z116 -> x | Q116: ='Doplňková činnost'!AP116 -> x
C117: školení a vzdělávání, konference (zaměstnanci) | F117: 034X | G117: 004X | H117: ='Hlavní činnost'!G117 -> 320000 | I117: ='Doplňková činnost'!G117 -> 0 | J117: ='Hlavní činnost'!O117 -> 320000 | K117: ='Doplňková činnost'!W117 -> 0 | L117: ='Hlavní činnost'!X117 -> 0 | M117: ='Doplňková činnost'!AN117 -> 0 | N117: ='Hlavní činnost'!Y117 -> x | O117: ='Doplňková činnost'!AO117 -> x | P117: ='Hlavní činnost'!Z117 -> x | Q117: ='Doplňková činnost'!AP117 -> x
C118: ostatní | H118: ='Hlavní činnost'!G118 -> 0 | I118: ='Doplňková činnost'!G118 -> 0 | J118: ='Hlavní činnost'!O118 -> 0 | K118: ='Doplňková činnost'!W118 -> 0 | L118: ='Hlavní činnost'!X118 -> 0 | M118: ='Doplňková činnost'!AN118 -> 0 | N118: ='Hlavní činnost'!Y118 -> x | O118: ='Doplňková činnost'!AO118 -> x | P118: ='Hlavní činnost'!Z118 -> x | Q118: ='Doplňková činnost'!AP118 -> x
B119: Jiné sociální náklady | E119: 528 | H119: ='Hlavní činnost'!G119 -> 0 | I119: ='Doplňková činnost'!G119 -> 0 | J119: ='Hlavní činnost'!O119 -> 0 | K119: ='Doplňková činnost'!W119 -> 0 | L119: ='Hlavní činnost'!X119 -> 0 | M119: ='Doplňková činnost'!AN119 -> 0 | N119: ='Hlavní činnost'!Y119 -> 0 | O119: ='Doplňková činnost'!AO119 -> 0 | P119: ='Hlavní činnost'!Z119 -> 0 | Q119: ='Doplňková činnost'!AP119 -> 0
B120: z toho: | C120: příspěvek na stravování zaměstnanců nad limit | E120: 528 | F120: 030X | G120: 000X | H120: ='Hlavní činnost'!G120 -> 0 | I120: ='Doplňková činnost'!G120 -> 0 | J120: ='Hlavní činnost'!O120 -> 0 | K120: ='Doplňková činnost'!W120 -> 0 | L120: ='Hlavní činnost'!X120 -> 0 | M120: ='Doplňková činnost'!AN120 -> 0 | N120: ='Hlavní činnost'!Y120 -> x | O120: ='Doplňková činnost'!AO120 -> x | P120: ='Hlavní činnost'!Z120 -> x | Q120: ='Doplňková činnost'!AP120 -> x
C121: ostatní | H121: ='Hlavní činnost'!G121 -> 0 | I121: ='Doplňková činnost'!G121 -> 0 | J121: ='Hlavní činnost'!O121 -> 0 | K121: ='Doplňková činnost'!W121 -> 0 | L121: ='Hlavní činnost'!X121 -> 0 | M121: ='Doplňková činnost'!AN121 -> 0 | N121: ='Hlavní činnost'!Y121 -> x | O121: ='Doplňková činnost'!AO121 -> x | P121: ='Hlavní činnost'!Z121 -> x | Q121: ='Doplňková činnost'!AP121 -> x
B122: Daně a poplatky | E122: 531 532 | H122: ='Hlavní činnost'!G122 -> 0 | I122: ='Doplňková činnost'!G122 -> 0 | J122: ='Hlavní činnost'!O122 -> 0 | K122: ='Doplňková činnost'!W122 -> 0 | L122: ='Hlavní činnost'!X122 -> 0 | M122: ='Doplňková činnost'!AN122 -> 0 | N122: ='Hlavní činnost'!Y122 -> 0 | O122: ='Doplňková činnost'!AO122 -> 0 | P122: ='Hlavní činnost'!Z122 -> 0 | Q122: ='Doplňková činnost'!AP122 -> 0
B123: Jiné daně a poplatky | E123: 538 | H123: ='Hlavní činnost'!G123 -> 0 | I123: ='Doplňková činnost'!G123 -> 0 | J123: ='Hlavní činnost'!O123 -> 0 | K123: ='Doplňková činnost'!W123 -> 0 | L123: ='Hlavní činnost'!X123 -> 0 | M123: ='Doplňková činnost'!AN123 -> 0 | N123: ='Hlavní činnost'!Y123 -> 0 | O123: ='Doplňková činnost'!AO123 -> 0 | P123: ='Hlavní činnost'!Z123 -> 0 | Q123: ='Doplňková činnost'!AP123 -> 0
...

Sheet Pokyny
A2: Pokyny pro vyplňování tabulek :
B4: 1. | C4: V jednotlivých listech formuláře vyplňujeme pouze bílá políčka !
C5: PO doplní Návrh rozpočtu na rok 2025 a Návrh střednědobého výhledu na rok 2026 a 2027. V případě sestavování střednědobého výhledu na rok 2026 a 2027 ze strany PO jsou vyplňovány pouze vybrané položky.
B6: 2. | C6: VPO předem doplní název PO, ORG PO, skutečnost 2019 (hlavní, doplňková činnost), skutečnost 2020 (hlavní, doplňková činnost), rozpis schváleného příspěvku 2023, dříve rozpis SR 2023 (hlavní, doplňková činnost).
B7: 2. | C7: Návrh rozpočtu na rok 2025 a Návrh střednědobého výhledu na rok 2026 a 2027 je třeba uvést v Kč zaokrouhlených na tis. Kč (tj. 25 325 Kč bude v návrhu rozpočtu uvedeno jako 25 000 Kč). V případě, že vyplňované údaje nebudou uvedeny v požadovaném zaokrouhlení, bude PO upozorněna hlášením "POZOR ÚDAJE NÁVRHU ROZPOČTU 2025 je třeba zaokrouh. na tis. Kč".
C13: V případě účtu 551 Odpisy dlouhodobého majetku je třeba částku zaokrouhlit na tis. Kč nahoru (např. výše odpisů 124 178 Kč bude v návrhu rozpočtu zaokrouhlena na 125 000,- Kč).
C14: U závazného ukazatele Závazky vůči zřizovateli / odvod z FI - odpisy / je třeba částku zaokrouhlit, a to matematicky. Při výpočtu odvodů je třeba vycházet z částky uvedené v návrhu rozpočtu a střednědobého výhledu zaokrouhlené na tis. Kč.
C15: Údaje neuvádět na desetinná místa! Výjimkou je průměrný přepočtený počet pracovníků, který je třeba uvést na 2 deset. místa.
B16: 3. | C16: PO ze sociální oblasti sestavují svůj rozpočet dle jednotlivých poskytovaných služeb (např. pro domovy se zvláštním režimem, domovy pro seniory, atd.). Při sestavování Návrhu rozpočtu 2025, střednědobého výhledu uvádějte dotaci z MPSV ve výši roku 2024, a to ve výnosech i nákladech. V případě, že je již známa skutečnost, která ovlivní výši příspěvku, je třeba ji zapracovat do návrhu rozpočtu, popř. střednědobého výhledu na rok 2026 a 2027 (např. ukončení sociální služby, snížení kapacity atd. ...)..
C17: Příspěvková organizace SSOK sestaví svůj rozpočet dle jednotlivých středisek.
C18: PO z kulturní oblasti sestavují svůj rozpočet dle jednotlivých objektů (např. pro Vlastivědné muzeum v Olomouci bude text k objektu - nám. Republiky, Olomouc , atd.).
C19: Příspěvkové organizace ze zdravotní oblasti sestavují svůj rozpočet dle jednotlivých poskytovaných služeb (např. Následná lůžková péče, Rehabilitační léčebna, atd..).
C20: PO za oblast školství sestavují svůj rozpočet dle ORJ (např. ORJ 0103 Gymnázium). Prostředky z MŠMT je třeba uvést i do návrhu rozpočtu na rok 2025 i střednědobého výhledu. Při plánování rozpočtu 2025, střednědobého výhledu uvádějte dotaci z MŠMT, a to ve výnosech i nákladech. V případě, že je již známa skutečnost, která ovlivní výši příspěvku, je třeba ji zapracovat do návrhu rozpočtu, popř. střednědobého výhledu na rok 2026 a 2027 (např. zrušení části PO atd. ...)..Do roku 2025, popř. střednědobého výhledu uvádějte pouze pravidelně se opakující účelové dotace z MŠMT (např. asistenti pro žáky ze sociálně znevýhodněného prostředí, atd.).
B21: 4. | C21: Doplňkovou činnost je třeba rozpočtovat na jednotlivé druhy doplňkové činnosti, tak jak jsou uvedeny ve zřizovací listině příspěvkové organizace, a to pouze v případě kdy PO uvedenou doplňkovou činnost provozuje, popř. plánuje provozovat v roce 2025. Pokud schválená DČ nebude v následujících letech provozována, do dokumentů ji nevyplňujte.
B22: 5. | C22: Tabulka - list "rekapitulace" je pouze součtová, není třeba nic doplňovat a z tohoto důvodu je uzamčená. Do uvedené tabulky se přenáší automaticky data z předchozích listů.
A24: Stručný přehled změn :
C25: - od 1. 1. 2018 u účtu 511 Opravy a udržování došlo ke změně dolní hranice, a to z 40 tis. Kč na 100 tis. Kč (viz. Zásady řízení PO zřizovaných Olomouckým krajem),
C26: - od 1. 1. 2019 změna u účtu - předměty nakoupené do sbírky muzejní povahy oceněné 1,- Kč (SÚ 558, AU 033X) ( účet již není rozpočtován).
C27: - od 1. 1. 2019 změna v obsahovém vymezení účtů:
C28: - SÚ 672 (UZ 00 300)
C29: příspěvek na provoz – "očištěný" od nákladů, které souvisí se mzdovými náklady včetně zákonných odvodů a účelových příspěvků, jako jsou odpisy a další účelové příspěvky.
C30: - SÚ 672 (UZ 00 301)
C31: příspěvek na provoz – mzdové náklady. Příspěvek určený na krytí mzdových nákladů (tarifní platy, osobní příplatky, příplatky za vedení, odměny apod., včetně zákonných odvodů sociálního a zdravotního pojištění a dalších nákladů souvisejících se mzdovými prostředky, příspěvek do FKSP).
C32: Závazný ukazatel limit mzdových prostředků zůstává beze změn.
C33: - změna kategorií v oblasti položky 511 (viz směrnice OK č.8/2021 upravující vztahy Olomouckého kraje a zřizovaných příspěvkových organizací a vybrané povinnosti ředitelů příspěvkových organizací). Účinnost směrnice od 1.3.2022.
C35: Původní kategorie účtu 511 - opravy a udržování nemovitého majetku do 100 tis. Kč; nemovitého majetku od 100 tis. do 500 tis. Kč; nemovitého majteku nad 500 tis.Kč nahrazeny ketogoriemi - opravy a udržování nemovitého majetku do 200 tis. Kč; nemovitého majetku nad 200 tis. Kč. Ostatní kategorie účtu 511 jsou ponechány beze změny.
C37: Účet 511 - opravy a udržování nemovitého majetku do 100 tis. Kč (AU 034X, 004X) nahrazen účtem 511 - opravy a udržování nemovitého majetku do 200 tis. Kč (AU 034X, 004X) (viz ř.č.54 Tabulka Hlavní činnost, ř.č. 54 -Tabulka Doplňková činnost, ř.č. 54 Tabulka Rekapitulace)
C39: Účet 511 - opravy a udržování nemovitého majetku od 100 tis. Kč do 500 tis. Kč (AU 030X, 000X) ř.č.55 a nemovitého majetku nad 500 tis. Kč (AU 031X,001X) ř.č. 56 nahrazen účtem 511 - opravy a udržování nemovitého majetku nad 200 tis. Kč (AU 030X, 031X, 000X, 001X) ř.č.56 (viz Tabulka Hlavní činnost, Tabulka Doplňková činnost, Tabulka Rekapitulace).
... C45: - v roce 2023 v návaznosti na rozhodnutí vedení OK použit, v rámci energeticky úsporných opatření příspěvkovým organizacím, nový účelový příspěvek, a to UZ 315 Příspěvek na energeticky úsporná opatření.

Sheet Technické pokyny
A1: Technické údaje:
B3: Úvodní list
B5: Po vybrání příslušného ORG (čtyřmístné číslo) ze seznamu budou údaje "Oblast poskytování služeb", "Název příspěvkové organizace", "Sídlo - adresa" a "IČ" automaticky vygenerovány. Identifikačních údaje /název zařízení, adresa, IČ atd. / budou automaticky přeneseny do navazujících tabulek. Tyto údaje jsou doplněny ekonomickým odborem.
B32: V případě, že došlo ke změně názvu PO, adresy a tato skutečnost nebyla promítnuta do databáze PO je možno tuto skutečnost uvést pod hlavičkou PO (viz Pozn.). Tento údaj bude následně přenesen i do navazujících tabulek v rámci poznámky.
B36: Ostatní tabulky - Hlavní činnost, Doplňková činnost
B37: Příspěvkové organizaci jsou přebytečné sloupce skryty. V případě, že PO si bude chtít vytisknout pouze vybrané sloupce je možno "přebytečné" sloupce skrýt, popř. znovu zobrazit.
B40: - funkce skrýt přebytečné sloupce
C41: v případě, že tabulka obsahuje větší počet sloupců, než příspěvková organizace potřebuje, je možno tyto skrýt (myší si ve sl. skrýt sloupce označím počet sloupců (změní barvu), pravým tlačítkem myši kliknu na "žlutě" zvýrazněnou lištu ( a použiji funkci skrýt (pravá strana myši). V případě že potřebuji tyto sloupce opět rozbalit postupuji stejně pouze použiji funkci zobrazit.
A43: Příklad:
A44: 1. Označím sloupce ( např. sl. G až sl.M)
A64: 2. Pravým tlačítkem myši kliknout na zvýrazněné sloupce a použít funkci skrýt, popř. zobrazit (pravá strana myši)

Sheet Základ
A1: ORG | B1: Název příspěvkové organizace | C1: Údaje opraveny k 10.10.2022 (poslední změna Zastup. 27.6.2022), změna na základě upozornění PO 14.10.22, změna SPŠE a OA Mohelnice na Střední průmyslovou školu elektrotechniky a informatiky Mohelnice,od 1.9.2023, změna Ostrůvek od 1.1,2024 (oblast sociální).Změna názvu PO od 1.9.2024 Střední škola grafiky a médií Olomouc, Střední novosadská 87/53 (UZ /19/49/2024 ze dne 29.4.2024)-původní název Střední škola polygrafická, Olomouc, Střední novosadská 87/53. Změna názvu PO od 1.9.2024 Střední škola technických profesí Olomouc, Kosinova 4 (UZ /19/49/2024 ze dne 29.4.2024) - původní název Střední škola technická a obchodní, Olomouc, Kosinova 4
C2: Adresa | D2: IČ | E2: Oblast
A4: 1001 | B4: Mateřská škola Olomouc, Blanická 16 | C4: Blanická 471/16, Hodolany, 779 00 Olomouc | D4: 66181500 | E4: Oblast školství, Okres Olomouc | F4: Změna v sídle PO, dle Rejstříku škol Zastupitelstvo 14.2.2022 -původní adresa Blanická 16, 772 00 Olomouc- nové sídlo: 779 00 Olomouc, Hodolany, Blanická 471/16
A5: 1012 | B5: Základní škola a Mateřská škola logopedická Olomouc | C5: tř. Svornosti 900/37, Nová Ulice, 779 00 Olomouc | D5: 00601683 | E5: Oblast školství, Okres Olomouc | F5: Změna v sídle PO, dle Rejstříku škol Zastupitelstvo 14.2.2022 -původní adresa třída Svornosti 37/900, 779 00 Olomouc- nové sídlo: 779 00 Olomouc, Nová Ulice, tř. Svornosti 900/37
A6: 1015 | B6: Střední škola, Základní škola a Mateřská škola prof. V. Vejdovského Olomouc - Hejčín | C6: Tomkova 411/42, Hejčín, 779 00 Olomouc | D6: 00601691 | E6: Oblast školství, Okres Olomouc | F6: Změna v sídle PO, dle Rejstříku škol Zastupitelstvo 14.2.2022 -původní adresa Tomkova 42, 779 00 Olomouc - nové sídlo: 779 00 Olomouc, Hejčín, Tomkova 411/42
A7: 1016 | B7: Střední škola, Základní škola a Mateřská škola Prostějov, Komenského 10 | C7: Komenského 80/10, 796 01 Prostějov | D7: 47921374 | E7: Oblast školství, Okres Prostějov | F7: Adresa - doplněna na základě kontroly na ZL.
A8: 1017 | B8: Dětský domov a Školní jídelna Prostějov | C8: Lidická 3313/86, 796 01 Prostějov | D8: 47922265 | E8: Oblast školství, Okres Prostějov | F8: Změna v sídle PO, dle Rejstříku škol Zastupitelstvo 14.2.2022 -původní adresa Lidická 86, 796 01 Prostějov - nové sídlo: 796 01 Prostějov, Lidická 3313/86
A9: 1022 | B9: Základní škola a Mateřská škola při lázních, Velké Losiny | C9: Lázeňská 240, 788 15 Velké Losiny | D9: 70626561 | E9: Oblast školství, Okres Šumperk
A10: 1024 | B10: Střední škola, Základní škola a Mateřská škola Mohelnice, Masarykova 4 | C10: Masarykova 434/4, 789 85 Mohelnice | D10: 60341777 | E10: Oblast školství, Okres Šumperk | F10: Změna v sídle PO, dle Rejstříku škol Zastupitelstvo 14.2.2022 -původní adresa Masarykova 4, 789 85 Mohelnice - nové sídlo: 789 85 Mohelnice, Masarykova 434/4
A11: 1025 | B11: Základní škola a Mateřská škola při Priessnitzových léčebných lázních a.s., Jeseník | C11: Kalvodova 360/66, 790 01 Jeseník | D11: 68911921 | E11: Oblast školství, Okres Jeseník | F11: Změna v sídle PO, dle Rejstříku škol Zastupitelstvo 14.2.2022 -původní adresa Kalvodova 360, 790 03 Jeseník - nové sídlo: 790 01 Jeseník, Kalvodova 360/66
A12: 1026 | B12: Základní škola a Mateřská škola při Sanatoriu Edel Zlaté Hory | C12: Lázeňská 491, 793 76 Zlaté Hory | D12: 68911947 | E12: Oblast školství, Okres Jeseník
A13: 1032 | B13: Základní škola Šternberk, Olomoucká 76 | C13: Olomoucká 2098/76, 785 01 Šternberk | D13: 61989789 | E13: Oblast školství, Okres Olomouc | F13: Změna v sídle PO, dle Rejstříku škol Zastupitelstvo 14.2.2022 -původní adresa Olomoucká 76/2098, 785 01 Šternberk - nové sídlo: 785 01 Šternberk, Olomoucká 2098/76
A14: 1033 | B14: Základní škola Uničov, Šternberská 456 | C14: Šternberská 456, 783 91 Uničov | D14: 61989762 | E14: Oblast školství, Okres Olomouc
A15: 1034 | B15: Základní škola, Dětský domov a Školní jídelna Litovel | C15: Palackého 938/30a, 784 01 Litovel | D15: 61989771 | E15: Oblast školství, Okres Olomouc | F15: Změna v sídle PO, dle Rejstříku škol Zastupitelstvo 14.2.2022 -původní adresa Palackého 938, 784 01 Litovel - nové sídlo:784 01 Litovel, Palackého 938/30a
A16: 1036 | B16: Základní škola a Mateřská škola Hranice, Studentská 1095 | C16: Studentská 1095, Hranice I-Město, 753 01 Hranice | D16: 61985988 | E16: Oblast školství, Okres Přerov | F16: Změna v sídle PO, dle Rejstříku škol Zastupitelstvo 14.2.2022 -původní adresa Studentská 1095, 753 01 Hranice - nové sídlo: 7753 01 Hranice, Hranice I-Město, Studentská 1095
A17: 1037 | B17: Střední škola, Základní škola a Mateřská škola Přerov, Malá Dlážka 4 | C17: Malá Dlážka 589/4, Přerov I-Město, 750 05 Přerov | D17: 49558978 | E17: Oblast školství, Okres Přerov | F17: Změna v sídle PO, dle Rejstříku škol Zastupitelstvo 14.2.2022 -původní adresa Malá Dlážka 4, 750 05 Přerov - nové sídlo: 750 02 Přerov, Přerov I-Město, Malá Dlážka 589/4
A18: 1038 | B18: Střední škola, Základní škola a Mateřská škola Lipník nad Bečvou, Osecká 301 | C18: Osecká 301/2, Lipník nad Bečvou I-Město, 751 31 Lipník nad Bečvou | D18: 61985953 | E18: Oblast školství, Okres Přerov | F18: Změna v sídle PO, dle Rejstříku škol Zastupitelstvo 14.2.2022 -původní adresa Osecká 301, 751 31 Lipník nad Bečvou - nové sídlo: 751 31 Lipník nad Bečvou, Lipník nad Bečvou I-Město, Osecká 301/2
A19: 1040 | B19: Střední škola, Základní škola a Mateřská škola Šumperk, Hanácká 3 | C19: Hanácká 145/3, 787 01 Šumperk | D19: 49589768 | E19: Oblast školství, Okres Šumperk | F19: Změna v sídle PO, dle Rejstříku škol Zastupitelstvo 14.2.2022 -původní adresa Hanácká 3, 787 01 Šumperk - nové sídlo: 787 01 Šumperk, Hanácká 145/3
A20: 1041 | B20: Střední škola, Základní škola, Mateřská škola a Dětský domov Zábřeh | C20: Sušilova 1912/40, 789 01 Zábřeh | D20: 49589725 | E20: Oblast školství, Okres Šumperk | F20: Změna v sídle PO, dle Rejstříku škol Zastupitelstvo 14.2.2022 -původní adresa Sušilova 40, 789 01 Zábřeh - nové sídlo: 789 01 Zábřeh, Sušilova 1912/40
A21: 1043 | B21: Základní škola a Mateřská škola Jeseník, Fučíkova 312 | C21: Fučíkova 312/10, 790 01 Jeseník | D21: 68911513 | E21: Oblast školství, Okres Jeseník | F21: Změna v sídle PO, dle Rejstříku škol Zastupitelstvo 14.2.2022 -původní adresa Fučíkova 312, 790 01 Jeseník- nové sídlo: 790 01 Jeseník, Fučíkova 312/10
A22: 1100 | B22: Gymnázium Jana Opletala, Litovel, Opletalova 189 | C22: Opletalova 189/4, 784 01 Litovel | D22: 00601772 | E22: Oblast školství, Okres Olomouc | F22: Změna v sídle PO, dle Rejstříku škol Zastupitelstvo 14.2.2022 -původní adresa Opletalova 189, 784 01 Litovel- nové sídlo: 784 01 Litovel, Opletalova 189/4
A23: 1101 | B23: Gymnázium, Olomouc, Čajkovského 9 | C23: Čajkovského 68/9, Nová Ulice, 779 00 Olomouc | D23: 00848956 | E23: Oblast školství, Okres Olomouc | F23: Změna v sídle PO, dle Rejstříku škol Zastupitelstvo 14.2.2022 -původní adresa Čajkovského 9, 779 00 Olomouc- nové sídlo: 7779 00 Olomouc, Nová Ulice, Čajkovského 68/9
A24: 1102 | B24: Slovanské gymnázium, Olomouc, tř. Jiřího z Poděbrad 13 | C24: Jiřího z Poděbrad 936/13, 779 00 Olomouc | D24: 00601781 | E24: Oblast školství, Okres Olomouc | F24: Změna v sídle PO, dle Rejstříku škol Zastupitelstvo 14.2.2022 -původní tř. Jiřího z Poděbrad 13,779 00 Olomouc- nové sídlo: 779 00 Olomouc, Jiřího z Poděbrad 936/13
A25: 1103 | B25: Gymnázium, Olomouc - Hejčín, Tomkova 45 | C25: Tomkova 314/45, Hejčín, 779 00 Olomouc | D25: 00601799 | E25: Oblast školství, Okres Olomouc | F25: Změna v sídle PO, dle Rejstříku škol Zastupitelstvo 14.2.2022 -původní adresa Tomkova 45, 779 00 Olomouc- nové sídlo: 779 00 Olomouc, Hejčín, Tomkova 314/45
A26: 1104 | B26: Gymnázium, Šternberk, Horní náměstí 5 | C26: Horní náměstí 167/5, 785 01 Šternberk | D26: 00601764 | E26: Oblast školství, Okres Olomouc | F26: Změna v sídle PO, dle Rejstříku škol Zastupitelstvo 14.2.2022 -původní adresa Horní náměstí 5, 785 01 Šternberk- nové sídlo: 785 01 Šternberk, Horní náměstí 167/5
A27: 1105 | B27: Gymnázium, Uničov, Gymnazijní 257 | C27: Gymnazijní 257, 783 91 Uničov | D27: 00601756 | E27: Oblast školství, Okres Olomouc
A28: 1106 | B28: Gymnázium Jiřího Wolkera, Prostějov, Kollárova 3 | C28: Kollárova 2602/3, 796 01 Prostějov | D28: 47922206 | E28: Oblast školství, Okres Prostějov | F28: Změna v sídle PO, dle Rejstříku škol Zastupitelstvo 14.2.2022 -původní adresa Kollárova 3, 796 01 Prostějov nové sídlo 796 01 Prostějov, Kollárova 2602/3
A29: 1108 | B29: Gymnázium Jakuba Škody, Přerov, Komenského 29 | C29: Komenského 800/29, Přerov I-Město, 750 02 Přerov | D29: 00842966 | E29: Oblast školství, Okres Přerov | F29: Změna v sídle PO, dle Rejstříku škol Zastupitelstvo 14.2.2022 -původní adresa Komenského 29, 750 11 Přerov- nový název 750 02 Přerov, Přerov I-Město, Komenského 800/29
A30: 1109 | B30: Gymnázium, Hranice, Zborovská 293 | C30: Zborovská 293, Hranice I-Město, 753 01 Hranice | D30: 70259909 | E30: Oblast školství, Okres Přerov | F30: Změna v sídle PO, dle Rejstříku škol Zastupitelstvo 14.2.2022 -původní adresa Zborovská 293, 753 11 Hranice- nové sídlo: 753 01 Hranice, Hranice I-Město, Zborovská 293
A31: 1110 | B31: Gymnázium, Kojetín, Svatopluka Čecha 683 | C31: Svatopluka Čecha 683, Kojetín I-Město, 752 01 Kojetín | D31: 70259861 | E31: Oblast školství, Okres Přerov | F31: Změna v sídle PO, dle Rejstříku škol Zastupitelstvo 14.2.2022 -původní adresa Svatopluka Čecha 683, 752 01 Kojetín- nové sídlo: 752 01 Kojetín, Kojetín I-Město, Svatopluka Čecha 683
A32: 1111 | B32: Gymnázium, Šumperk, Masarykovo náměstí 8 | C32: Masarykovo náměstí 1207/8, 787 01 Šumperk | D32: 49589792 | E32: Oblast školství, Okres Šumperk | F32: Změna v sídle PO, dle Rejstříku škol Zastupitelstvo 14.2.2022 -původní adresa Masarykovo náměstí 8, 787 58 Šumperk- nové sídlo: 787 01 Šumperk, Masarykovo náměstí 1207/8
A33: 1112 | B33: Gymnázium, Zábřeh, náměstí Osvobození 20 | C33: náměstí Osvobození 257/20, 789 01 Zábřeh | D33: 49589687 | E33: Oblast školství, Okres Šumperk | F33: Změna v sídle PO, dle Rejstříku škol Zastupitelstvo 14.2.2022 -původní adresa náměstí Osvobození 20, 789 01 Zábřeh- nové sídlo:789 01 Zábřeh, náměstí Osvobození 257/20
A34: 1113 | B34: Gymnázium, Jeseník, Komenského 281 | C34: Komenského 281/3, 790 01 Jeseník | D34: 60045141 | E34: Oblast školství, Okres Jeseník | F34: Změna v sídle PO, dle Rejstříku škol Zastupitelstvo 14.2.2022 -původní adresa Komenského 281, 790 01 Jeseník - nové sídlo:790 01 Jeseník, Komenského 281/3
A35: 1120 | B35: Vyšší odborná škola a Střední průmyslová škola elektrotechnická, Olomouc, Božetěchova 3 | C35: Božetěchova 755/3, Hodolany, 779 00 Olomouc | D35: 00844012 | E35: Oblast školství, Okres Olomouc | F35: Adresa - doplněna na základě kontroly na ZL.
A36: 1121 | B36: Střední průmyslová škola strojnická Olomouc | C36: 17. listopadu 995/49, 779 00 Olomouc | D36: 00601748 | E36: Oblast školství, Okres Olomouc
A37: 1122 | B37: Střední průmyslová škola a Střední odborné učiliště Uničov | C37: Školní 164, 783 91 Uničov | D37: 00601730 | E37: Oblast školství, Okres Olomouc
A38: 1123 | B38: Střední škola zemědělská a zahradnická, Olomouc, U Hradiska 4 | C38: U Hradiska 7/4, Klášterní Hradisko, 779 00 Olomouc | D38: 00602035 | E38: Oblast školství, Okres Olomouc | F38: Adresa - doplněna na základě kontroly na ZL.
A39: 1125 | B39: Střední škola designu a módy, Prostějov | C39: Vápenice 2986/1, 796 01 Prostějov | D39: 47922061 | E39: Oblast školství, Okres Prostějov | F39: Změna v sídle PO, dle Rejstříku škol Zastupitelstvo 14.2.2022 -původní adresa Vápenice 1, 796 62 Prostějov- nové sídlo: 796 01 Prostějov, Vápenice 2986/1
A40: 1126 | B40: Střední odborná škola průmyslová a Střední odborné učiliště strojírenské, Prostějov, Lidická 4 | C40: Lidická 1686/4, 796 01 Prostějov | D40: 69650721 | E40: Oblast školství, Okres Prostějov
A41: 1127 | B41: Švehlova střední škola polytechnická Prostějov | C41: nám. Spojenců 2555/17, 796 01 Prostějov | D41: 00566896 | E41: Oblast školství, Okres Prostějov | F41: Změna v sídle PO, dle Rejstříku škol Zastupitelstvo 14.2.2022 -původní adresa nám. Spojenců 17, 796 01 Prostějov- nové sídlo: 796 01 Prostějov, nám. Spojenců 2555/17
A42: 1128 | B42: Střední průmyslová škola Hranice | C42: Studentská 1384, Hranice I-Město, 753 01 Hranice | D42: 00842893 | E42: Oblast školství, Okres Přerov | F42: Adresa - doplněna na základě kontroly na ZL.
A43: 1129 | B43: Střední průmyslová škola stavební, Lipník nad Bečvou, Komenského sady 257 | C43: Komenského sady 257/26, Lipník nad Bečvou I-Město, 751 31 Lipník nad Bečvou | D43: 70259941 | E43: Oblast školství, Okres Přerov | F43: Adresa - doplněna na základě kontroly na ZL.
A44: 1130 | B44: Střední průmyslová škola, Přerov, Havlíčkova 2 | C44: Havlíčkova 377/2, 750 02 Přerov I - Město | D44: 70259925 | E44: Oblast školství, Okres Přerov
A45: 1131 | B45: Střední škola gastronomie a služeb, Přerov, Šířava 7 | C45: Šířava 670/7, 750 02 Přerov, Přerov I - Město | D45: 00577227 | E45: Oblast školství, Okres Přerov
A46: 1132 | B46: Střední lesnická škola, Hranice, Jurikova 588 | C46: Jurikova 588, Hranice I-Město, 753 01 Hranice | D46: 61986038 | E46: Oblast školství, Okres Přerov | F46: Adresa - doplněna na základě kontroly na ZL.
A47: 1133 | B47: Gymnázium Jana Blahoslava a Střední pedagogická škola, Přerov, Denisova 3 | C47: Denisova 2390/3, Přerov I-Město, 750 02 Přerov | D47: 61985759 | E47: Oblast školství, Okres Přerov | F47: Změna v sídle PO, dle Rejstříku škol Zastupitelstvo 14.2.2022 -původní název 750 02 Přerov, Denisova 3 - nový název 750 02 Přerov, Přerov I-Město, Denisova 2390/3
A48: 1134 | B48: Střední škola zemědělská, Přerov, Osmek 47 | C48: Osmek 367/47, Přerov I - Město,750 02 Přerov | D48: 63701171 | E48: Oblast školství, Okres Přerov
A49: 1135 | B49: Vyšší odborná škola a Střední průmyslová škola, Šumperk, Gen. Krátkého 1 | C49: Gen. Krátkého 950/1, 787 01 Šumperk | D49: 00843113 | E49: Oblast školství, Okres Šumperk | F49: Adresa - doplněna na základě kontroly na ZL.
A50: 1136 | B50: Vyšší odborná škola a Střední škola automobilní, Zábřeh, U Dráhy 6 | C50: U Dráhy 827/6, 789 01 Zábřeh | D50: 00577324 | E50: Oblast školství, Okres Šumperk
A51: 1137 | B51: Střední průmyslová škola elektrotechniky a informatiky Mohelnice | C51: Gen. Svobody 183/2, 789 85 Mohelnice | D51: 00843105 | E51: Oblast školství, Okres Šumperk | F51: Změna "Střední průmyslová škola elektrotechnická a Obchodní akademie Mohelnice" na "Střední průmyslovou školu elektrotechniky a informatiky Mohelnice",od 1.9.2023 -schváleno Zastupitelstvem Olomouckého kraje dne 24. 4. 2023 usnesením č. UZ/14/43/2023.
A52: 1138 | B52: Střední odborná škola, Šumperk, Zemědělská 3 | C52: Zemědělská 2115/3, 787 01 Šumperk | D52: 00852384 | E52: Oblast školství, Okres Šumperk | F52: Adresa - doplněna na základě kontroly na ZL.
A53: 1140 | B53: Střední škola řemesel, Šumperk | C53: Gen. Krátkého 1799/30, 787 01 Šumperk | D53: 00851167 | E53: Oblast školství, Okres Šumperk | F53: Kontrola provedena na ZL k 23.11.2021 (původní název Střední škola železniční, technická a služeb, Šumperk).Změna nabyla platnosti a účinnosti dnem jeho schválení Zastupitelstvem Olomouckého kraje tj. 21.6.2021.Změna v sídle PO, dle Rejstříku škol Zastupitelstvo 14.2.2022 -původní adresa Gen. Krátkého 30, 787 01 Šumperk nové sídlo: 787 01 Šumperk, Gen. Krátkého 1799/30
A54: 1142 | B54: Střední průmyslová škola Jeseník | C54: Dukelská 1240/27, 790 01 Jeseník | D54: 00176401 | E54: Oblast školství, Okres Jeseník | F54: Změna v adrese (doplnění pop. č.)nabyla platnosti a účinnosti dnem jeho schválení Zastupitelstvem Olomouckého kraje tj. 21.6.2021. Změna v sídle PO, dle Rejstříku škol Zastupitelstvo 14.2.2022 -původní adresa Dukelská 1240/27, 790 01 Jeseník nové sídlo: 790 01 Jeseník, Dukelská 1240/27
A55: 1150 | B55: Obchodní akademie, Olomouc, tř. Spojenců 11 | C55: tř. Spojenců 745/11, 779 00 Olomouc | D55: 00601721 | E55: Oblast školství, Okres Olomouc | F55: Změna v sídle PO, dle Rejstříku škol Zastupitelstvo 14.2.2022 -původní adresa tř. Spojenců 11, 779 00 Olomouc nové sídlo:779 00 Olomouc, tř. Spojenců 745/11
A56: 1151 | B56: Obchodní akademie, Prostějov, Palackého 18 | C56: Palackého 159/18, 796 01 Prostějov | D56: 47922117 | E56: Oblast školství, Okres Prostějov | F56: Změna v sídle PO, dle Rejstříku škol Zastupitelstvo 14.2.2022 -původní adresa Palackého 18, 796 01 Prostějov nové sídlo: 796 01 Prostějov, Palackého 159/18
A57: 1152 | B57: Obchodní akademie a Jazyková škola s právem státní jazykové zkoušky, Přerov, Bartošova 24 | C57: Bartošova 1940/24, Přerov I-Město, 750 02 Přerov | D57: 61985996 | E57: Oblast školství, Okres Přerov | F57: Změna v sídle PO, dle Rejstříku škol Zastupitelstvo 14.2.2022 -původní adresa Bartošova 24, 750 02 Přerov 2- nové sídlo: 750 02 Přerov, Přerov I-Město, Bartošova 1940/24
A58: 1154 | B58: Obchodní akademie a Jazyková škola s právem státní jazykové zkoušky, Šumperk, Hlavní třída 31 | C58: Hlavní třída 652/31, 787 01 Šumperk | D58: 49589679 | E58: Oblast školství, Okres Šumperk | F58: Změna v sídle PO, dle Rejstříku škol Zastupitelstvo 14.2.2022 -původní adresa Hlavní třída 31, 787 01 Šumperk- nové sídlo: 787 01 Šumperk, Hlavní třída 652/31
A59: 1160 | B59: Střední zdravotnická škola a Vyšší odborná škola zdravotnická Emanuela Pöttinga a Jazyková škola s právem státní jazykové zkoušky Olomouc | C59: Pöttingova 624/2, 779 00 Olomouc | D59: 00600938 | E59: Oblast školství, Okres Olomouc | F59: Změna v sídle PO, dle Rejstříku škol Zastupitelstvo 14.2.2022 -původní adresa Pöttingova 2, 771 00 Olomouc - nové sídlo: 779 00 Olomouc, Pöttingova 624/2. Na základě upozornění PO ze dne 14.10.2022 - opravena adresa, nebylo upraveno PSČ.
A60: 1161 | B60: Střední zdravotnická škola, Prostějov, Vápenice 3 | C60: Vápenice 2985/3, 796 01 Prostějov | D60: 00599212 | E60: Oblast školství, Okres Prostějov | F60: Změna v sídle PO, dle Rejstříku škol Zastupitelstvo 14.2.2022 -původní adresa Vápenice 3, 796 01 Prostějov - nové sídlo: 796 01 Prostějov, Vápenice 2985/ 3
A61: 1162 | B61: Střední zdravotnická škola, Hranice, Nová 1820 | C61: Nová 1820, Hranice I-Město, 753 01 Hranice | D61: 00600903 | E61: Oblast školství, Okres Přerov | F61: Změna v sídle PO, dle Rejstříku škol Zastupitelstvo 14.2.2022 -původní adresa Nová 1820, 753 01 Hranice - nové sídlo: 753 01 Hranice, Hranice I-Město, Nová 1820
A62: 1163 | B62: Střední zdravotnická škola a Vyšší odborná škola zdravotnická, Šumperk, příspěvková organizace | C62: Kladská 234/ 2, 787 01 Šumperk | D62: 00851213 | E62: Oblast školství, Okres Šumperk | F62: Změna názvu ze Střední zdravotnická škola, Šumperk, Kladská 2 na Střední zdravotnická škola a Vyšší odborná škola zdravotnická, Šumperk, příspěvková organizace, a to od 1. 9. 2022. Změna v sídle PO, dle Rejstříku škol Zastupitelstvo 14.2.2022 -původní adresa Kladská 2, 787 01 Šumperk - nové sídlo: 7787 01 Šumperk, Kladská 234/2
A63: 1171 | B63: Střední škola elektrotechnická, Lipník nad Bečvou, Tyršova 781 | C63: Tyršova 781/11, Lipník nad Bečvou I-Město, 751 31 Lipník nad Bečvou | D63: 00845370 | E63: Oblast školství, Okres Přerov | F63: Adresa - doplněna na základě kontroly na ZL.
A64: 1173 | B64: Střední škola technická, Přerov, Kouřílkova 8 | C64: Kouřílkova 1028/8, 750 02 Přerov, Přerov I - Město | D64: 19013833 | E64: Oblast školství, Okres Přerov
A65: 1174 | B65: Střední škola technická Mohelnice, 1. máje 667/2, Mohelnice 78985 | C65: 1. máje 667/2, 789 85 Mohelnice | D65: 00851205 | E65: Oblast školství, Okres Šumperk | F65: Změna ZOK 27. 6. 2022 UZ/10/46/2022. (původní název Střední škola technická a zemědělská Mohelnice)
A66: 1175 | B66: Hotelová škola Vincenze Priessnitze a Obchodní akademie Jeseník | C66: Dukelská 680/7, 790 01 Jeseník | D66: 00577391 | E66: Oblast školství, Okres Jeseník | F66: Adresa - doplněna na základě kontroly na ZL.
A67: 1200 | B67: Střední odborná škola Litovel, Komenského 677 | C67: Komenského 677/1, 784 01 Litovel | D67: 00848875 | E67: Oblast školství, Okres Olomouc | F67: Změna v sídle PO, dle Rejstříku škol Zastupitelstvo 14.2.2022 -původní adresa Komenského 677, 784 01 Litovel - nové sídlo:784 01 Litovel, Komenského 677/1
A68: 1201 | B68: Sigmundova střední škola strojírenská, Lutín | C68: Jana Sigmunda 242, 783 49 Lutín | D68: 66935733 | E68: Oblast školství, Okres Olomouc
A69: 1202 | B69: Střední škola logistiky a chemie, Olomouc, U Hradiska 29 | C69: U Hradiska 157/29, Klášterní Hradisko, 779 00 Olomouc | D69: 00845337 | E69: Oblast školství, Okres Olomouc | F69: Změna v sídle PO, dle Rejstříku škol Zastupitelstvo 14.2.2022 -původní adresa ulice U Hradiska 29, 779 00 Olomouc - nové sídlo:779 00 Olomouc, Klášterní Hradisko, U Hradiska 157/29
A70: 1204 | B70: Střední škola polytechnická, Olomouc, Rooseveltova 79 | C70: Rooseveltova 472/79, 779 00 Olomouc | D70: 13643606 | E70: Oblast školství, Okres Olomouc | F70: Změna v sídle PO, dle Rejstříku škol Zastupitelstvo 14.2.2022 -původní adresa Rooseveltova 79, 779 00 Olomouc - nové sídlo:779 00 Olomouc, Nové Sady, Rooseveltova 472/79
A71: 1205 | B71: Střední škola polygrafická, Olomouc, Střední novosadská 87/53 (od 1.9.2024 změna názvu Střední škola grafiky a médií Olomouc, Střední novosadská 87/53) | C71: Střední novosadská 87/53, Nové Sady, 779 00 Olomouc | D71: 00848778 | E71: Oblast školství, Okres Olomouc | F71: Změna v sídle PO, dle Rejstříku škol Zastupitelstvo 14.2.2022 -původní adresa Střední novosadská 87/53, 779 00 Olomouc - nové sídlo:779 00 Olomouc, Nové Sady, Střední novosadská 87/53. Změna názvu PO od 1.9.2024 Střední škola grafiky a médií Olomouc, Střední novosadská 87/53 (UZ /19/49/2024 ze dne 29.4.2024)-původní název Střední škola polygrafická, Olomouc, Střední novosadská 87/53
A72: 1206 | B72: Střední odborná škola obchodu a služeb, Olomouc, Štursova 14 | C72: Štursova 904/14, Hodolany, 779 00 Olomouc | D72: 00577448 | E72: Oblast školství, Okres Olomouc | F72: Změna v sídle PO, dle Rejstříku škol Zastupitelstvo 14.2.2022 -původní adresa Štursova 14, 779 00 Olomouc - nové sídlo: 779 00 Olomouc, Hodolany, Štursova 904/14
A73: 1207 | B73: Střední škola technická a obchodní, Olomouc, Kosinova 4 (od 1.9.2024 změna názvu Střední škola technických profesí Olomouc, Kosinova 4) | C73: Kosinova 872/4, 779 00 Olomouc | D73: 14451085 | E73: Oblast školství, Okres Olomouc | F73: Změna v sídle PO, dle Rejstříku škol Zastupitelstvo 14.2.2022 -původní adresa Kosinova 4, 752 01 Olomouc- nové sídlo:779 00 Olomouc, Kosinova 872/4. Změna názvu PO od 1.9.2024 Střední škola technických profesí Olomouc, Kosinova 4 (UZ /19/49/2024 ze dne 29.4.2024) - původní název Střední škola technická a obchodní, Olomouc, Kosinova 4
A74: 1208 | B74: Střední odborná škola lesnická a strojírenská Šternberk | C74: Opavská 55/8, 785 01 Šternberk | D74: 00848794 | E74: Oblast školství, Okres Olomouc | F74: Změna v sídle PO, dle Rejstříku škol Zastupitelstvo 14.2.2022 -původní adresa Opavská 8, 785 01 Šternberk- nové sídlo:785 01 Šternberk, Opavská 55/8
A75: 1212 | B75: Střední odborná škola Prostějov | C75: nám. Edmunda Husserla 30/1, 796 01 Prostějov | D75: 00544612 | E75: Oblast školství, Okres Prostějov
A76: 1216 | B76: Střední škola řezbářská, Tovačov, Nádražní 146 | C76: Nádražní 146, Tovačov I-Město, 751 01 Tovačov | D76: 14616831 | E76: Oblast školství, Okres Přerov | F76: Změna v sídle PO, dle Rejstříku škol Zastupitelstvo 14.2.2022 -původní adresa Nádražní 146, 751 01 Tovačov - nové sídlo: 751 01 Tovačov, Tovačov I-Město, Nádražní 146
A77: 1218 | B77: Odborné učiliště a Základní škola, Křenovice | C77: 752 01 Křenovice, č. p. 8 | D77: 00842800 | E77: Oblast školství, Okres Přerov
A78: 1222 | B78: Odborné učiliště a Praktická škola, Mohelnice, Vodní 27 | C78: Vodní 248/27, 789 85 Mohelnice | D78: 62353179 | E78: Oblast školství, Okres Šumperk | F78: Změna v sídle PO, dle Rejstříku škol Zastupitelstvo 14.2.2022 -původní adresa nám. Vodní 27, 789 85 Mohelnice - nové sídlo: 789 85 Mohelnice, Vodní 248/27
A79: 1223 | B79: Střední škola sociální péče a služeb, Zábřeh, nám. 8. května 2 | C79: náměstí 8. května 253/2, 789 01 Zábřeh | D79: 00409014 | E79: Oblast školství, Okres Šumperk | F79: Změna v sídle PO, dle Rejstříku škol Zastupitelstvo 14.2.2022 -původní adresa nám. 8. května 2, 789 22 Zábřeh - nové sídlo: 789 01 Zábřeh, náměstí 8. května 253/2
A80: 1225 | B80: Střední škola řemesel a Odborné učiliště Lipová - lázně | C80: 790 61 Lipová - lázně č.p. 458 | D80: 00843032 | E80: Oblast školství, Okres Jeseník | F80: Kontrola provedena na ZL k 23.11.2021 (původní název Odborné učiliště a Praktická škola, Lipová - lázně 458).Změna v sídle PO, dle Rejstříku škol Zastupitelstvo 14.2.2022 -původní adresa nám. 790 61 Lipová - lázně 458 - nové sídlo: 790 61 Lipová – lázně, č. p. 458
A81: 1226 | B81: Střední škola gastronomie, farmářství a služeb Jeseník | C81: U Jatek 916/8, 790 01 Jeseník | D81: 00495433 | E81: Oblast školství, Okres Jeseník
A82: 1300 | B82: Základní umělecká škola Iši Krejčího Olomouc, Na Vozovce 32 | C82: Na Vozovce 246/32, Nová Ulice, 779 00 Olomouc | D82: 47654236 | E82: Oblast školství, Okres Olomouc | F82: Změna v sídle PO, dle Rejstříku škol Zastupitelstvo 14.2.2022 -původní adresa Na Vozovce 32/246, 779 00 Olomouc - nové sídlo: 779 00 Olomouc, Nová Ulice, Na Vozovce 246/32
A83: 1301 | B83: Základní umělecká škola „Žerotín“ Olomouc, Kavaleristů 6 | C83: Kavaleristů 880/6, Hodolany, 779 00 Olomouc | D83: 00096725 | E83: Oblast školství, Okres Olomouc | F83: Změna v sídle PO, dle Rejstříku škol Zastupitelstvo 14.2.2022 -původní adresa Kavaleristů 6, 779 00 Olomouc - nové sídlo: 779 00 Olomouc, Hodolany, Kavaleristů 880/6
A84: 1302 | B84: Základní umělecká škola Miloslava Stibora - výtvarný obor, Olomouc, Pionýrská 4 | C84: Pionýrská 508/4, Nová Ulice, 779 00 Olomouc | D84: 47654279 | E84: Oblast školství, Okres Olomouc | F84: Změna v sídle PO, dle Rejstříku škol Zastupitelstvo 14.2.2022 -původní adresa Pionýrská 4, 779 00 Olomouc - nové sídlo:779 00 Olomouc, Nová Ulice, Pionýrská 508/4
A85: 1303 | B85: Základní umělecká škola Litovel, Jungmannova 740 | C85: Jungmannova 740/11, 784 01 Litovel | D85: 47654325 | E85: Oblast školství, Okres Olomouc | F85: Změna v sídle PO, dle Rejstříku škol Zastupitelstvo 14.2.2022 -původní adresa Jungmannova 740, 784 01 Litovel - nové sídlo:784 01 Litovel, Jungmannova 740/11
A86: 1304 | B86: Základní umělecká škola, Uničov, Litovelská 190 | C86: Litovelská 190, 783 91 Uničov | D86: 47654244 | E86: Oblast školství, Okres Olomouc
A87: 1305 | B87: Základní umělecká škola Konice, Na Příhonech 425 | C87: Na Příhonech 425, 798 52 Konice | D87: 00402320 | E87: Oblast školství, Okres Prostějov
A88: 1306 | B88: Základní umělecká škola, Potštát 36 | C88: Zámecké 36, 753 62 Potštát | D88: 47184434 | E88: Oblast školství, Okres Přerov | F88: Změna v sídle PO, dle Rejstříku škol Zastupitelstvo 14.2.2022 -původní adresa 753 62 Potštát 36 - nové sídlo: 753 62 Potštát, Zámecká 36
A89: 1307 | B89: Základní umělecká škola, Hranice, Školní náměstí 35 | C89: Školní náměstí 35, Hranice I-Město, 753 01 Hranice | D89: 47184477 | E89: Oblast školství, Okres Přerov | F89: Změna v sídle PO, dle Rejstříku škol Zastupitelstvo 14.2.2022 -původní adresa Školní náměstí 35, 753 01 Hranice - nové sídlo: 753 01 Hranice, Hranice I-Město, Školní náměstí 35
A90: 1308 | B90: Základní umělecká škola, Kojetín, Hanusíkova 197 | C90: Hanusíkova 197, Kojetín I-Město, 752 01 Kojetín | D90: 60782170 | E90: Oblast školství, Okres Přerov | F90: Změna v sídle PO, dle Rejstříku škol Zastupitelstvo 14.2.2022 -původní adresa Hanusíkova 197, 752 01 Kojetín - nové sídlo: 752 01 Kojetín, Kojetín I-Město, Hanusíkova 197
A91: 1309 | B91: Základní umělecká škola Bedřicha Kozánka, Přerov | C91: tř. 17. listopadu 3443/2, Přerov I-Město, 750 02 Přerov | D91: 47184442 | E91: Oblast školství, Okres Přerov | F91: Změna v sídle PO, dle Rejstříku škol Zastupitelstvo 14.2.2022 -původní adresa tř. 17. listopadu 2, 750 00 Přerov - nové sídlo: 750 02 Přerov, Přerov I-Město, tř. 17. listopadu 3443/2
A92: 1310 | B92: Základní umělecká škola Antonína Dvořáka, Lipník nad Bečvou, Havlíčkova 643 | C92: Havlíčkova 643/10, Lipník nad Bečvou I-Město, 751 31 Lipník nad Bečvou | D92: 61985228 | E92: Oblast školství, Okres Přerov | F92: Změna v sídle PO, dle Rejstříku škol Zastupitelstvo 14.2.2022 -původní adresa Havlíčkova 643, 751 31 Lipník nad Bečvou - nové sídlo: 751 31 Lipník nad Bečvou, Lipník nad Bečvou I-Město, Havlíčkova 643/10
A93: 1311 | B93: Základní umělecká škola, Mohelnice, Náměstí Svobody 15 | C93: nám. Svobody 971/15, 789 85 Mohelnice | D93: 00851451 | E93: Oblast školství, Okres Šumperk | F93: Změna v sídle PO, dle Rejstříku škol Zastupitelstvo 14.2.2022 -původní adresa Náměstí Svobody 15, 789 85 Mohelnice- nové sídlo: 789 85 Mohelnice, nám. Svobody 971/15
A94: 1312 | B94: Základní umělecká škola, Šumperk, Žerotínova 11 | C94: Žerotínova 267/11, 787 01 Šumperk | D94: 00852333 | E94: Oblast školství, Okres Šumperk | F94: Změna v sídle PO, dle Rejstříku škol Zastupitelstvo 14.2.2022 -původní adresa Žerotínova 11, 787 01 Šumperk- nové sídlo: 787 01 Šumperk, Žerotínova 267/11
A95: 1313 | B95: Základní umělecká škola Zábřeh | C95: Školská 349/9, 789 01 Zábřeh | D95: 64095151 | E95: Oblast školství, Okres Šumperk
A96: 1314 | B96: Základní umělecká škola Karla Ditterse Vidnava | C96: Kostelní 1, 790 55 Vidnava | D96: 00852058 | E96: Oblast školství, Okres Jeseník
A97: 1315 | B97: Základní umělecká škola Franze Schuberta Zlaté Hory | C97: Nádražní 280, 793 76 Zlaté Hory | D97: 60780495 | E97: Oblast školství, Okres Jeseník
A98: 1350 | B98: Dům dětí a mládeže Olomouc | C98: tř. 17. listopadu 1034/47, 779 00 Olomouc | D98: 00096792 | E98: Oblast školství, Okres Olomouc
A99: 1351 | B99: Dům dětí a mládeže Litovel | C99: Komenského 719/6, 784 01 Litovel | D99: 61989738 | E99: Oblast školství, Okres Olomouc
A100: 1352 | B100: Dům dětí a mládeže Vila Tereza, Uničov | C100: Nádražní 530, 783 91 Uničov | D100: 47654392 | E100: Oblast školství, Okres Olomouc
A101: 1353 | B101: Středisko volného času ATLAS a BIOS, Přerov | C101: Žižkova 2621/12, Přerov I-Město, 750 02 Přerov | D101: 47184469 | E101: Oblast školství, Okres Přerov | F101: Změna v sídle PO, dle Rejstříku škol Zastupitelstvo 14.2.2022 -původní adresa Žižkova 12, 750 02 Přerov- nové sídlo: 750 02 Přerov, Přerov I-Město, Žižkova 2621/12
...
