Workbook

Sheet Úvodní list
A1: Po vybrání příslušného ORG (čtyřmístné číslo) ze seznamu budou údaje "Oblast poskytování služeb", "Název příspěvkové organizace", "Sídlo - adresa" a "IČ" automaticky vygenerovány. V případě, že došlo ke změně názvu PO, adresy a tato skutečnost nebyla promítnuta do databáze PO je možno tuto skutečnost uvést pod hlavičkou PO (viz Pozn.).Tyto údaje budou dále přeneseny do následujících tabulek v rámci poznámky.
B5: Oblast | D5: =IF(D9="", "BUDE VYGENEROVÁNO",VLOOKUP(D9,Základ!A4:E148,5)) -> Oblast školství, Okres Olomouc
B6: Název organizace | D6: =IF(D9="","BUDE VYGENEROVÁNO",VLOOKUP(D9,Základ!A4:E148,2)) -> Dům dětí a mládeže Vila Tereza, Uničov
B7: Adresa | D7: =IF(D9="","BUDE VYGENEROVÁNO",VLOOKUP(D9,Základ!A4:E148,3)) -> Nádražní 530, 783 91 Uničov
B8: IČ | D8: =IF(D9="","BUDE VYGENEROVÁNO",VLOOKUP(D9,Základ!A4:E148,4)) -> 47654392
B9: ORG | D9: 1352
B10: Součásti organizace
B11: Pozn. :
B14: Návrh rozpočtu 2025 a Střednědobého výhledu rozpočtu 2026 a 2027
B19: Náklady a výnosy příspěvkové organizace
B21: Tabulka č.1 - Hlavní činnost
B22: Tabulka č.2 - Doplňková činnost
B23: Tabulka č.3 - Rekapitulace
B28: Vypracoval:
B29: Jméno | D29: Telefon | F29: Podpis
B30: Gabriela Konečná | D30: 585051156
B32: Schválil:
B33: Jméno | D33: Telefon | F33: Podpis
B34: Mgr.Dagmar Smitalová | D34: 585051156
B38: Datum: | C38: 45477
B39: ……………………………………………….

Sheet Hlavní činnost
B1: Skrýt sloupce
B2: Návrh rozpočtu 2025 a Střednědobého výhledu rozpočtu 2026 a 2027 | U2: Tabulka č.1-Hlavní činnost
B3: Příloha č. 1 Náklady a výnosy příspěvkové organizace | U3: ORG: | V3: =IF('Úvodní list'!D9=0," ",'Úvodní list'!D9) -> 1352
B4: Název příspěvkové organizace: | E4: =IF('Úvodní list'!D6="BUDE VYGENEROVÁNO","",'Úvodní list'!D6) -> Dům dětí a mládeže Vila Tereza, Uničov
B5: ='Úvodní list'!B11 -> Pozn. :
B6: Náklady a výnosy | O6: hlavní činnost / v Kč / | Q6: =IF(O247=(ROUND(O247,-3)),"","POZOR ÚDAJE NÁVRHU ROZPOČTU 2025 je třeba zaokrouh. na tis. Kč") | Y6: Návrh střednědobého výhledu rozpočtu
G7: 2024 | H7: název činnosti / ORJ | O7: 2025 | P7: název činnosti / ORJ | X7: meziroční srovnání + nárůst - pokles (Návrh 2025 a rozpis 2024 | Y7: 2026 | Z7: 2027
G8: Rozpis schváleného rozpočtu 2024 /v Kč zaokrouhl. na tis. Kč/ | H8: využití volného času - domy dětí a mládeže | O8: Návrh rozpočtu na rok 2025 (v Kč zaokrouhl. na tis. Kč) | P8: využití volného času - domy dětí a mládeže | W8: Nevyplňovat | Y8: Výhled na rok 2026 | Z8: Výhled na rok 2027
B9: Název účetní položky | D9: UZ | E9: SÚ | F9: AÚ | G9: celkem | H9: 111 | O9: celkem | P9: 111 | Y9: =IF((Y247+Z247)=(ROUND((Y247+Z247),-3)),"(v Kč zaokrouhl. na tis. Kč)","POZOR ÚDAJE NÁVRHU SV je třeba zaokrouh. na tis. Kč") -> (v Kč zaokrouhl. na tis. Kč)
B10: A.Náklady celkem - účtová tř. 5 | G10: =G11+G147+G151+G153 -> 10456000 | H10: =SUM(H11,H147,H151,H153) -> 10456000 | I10: =SUM(I11,I147,I151,I153) -> 0 | J10: =SUM(J11,J147,J151,J153) -> 0 | K10: =SUM(K11,K147,K151,K153) -> 0 | L10: =SUM(L11,L147,L151,L153) -> 0 | M10: =SUM(M11,M147,M151,M153) -> 0 | N10: =SUM(N11,N147,N151,N153) -> 0 | O10: =O11+O147+O151+O153 -> 9769000 | P10: =P11+P147+P151+P153 -> 9769000 | Q10: =Q11+Q147+Q151+Q153 -> 0 | R10: =R11+R147+R151+R153 -> 0 | S10: =S11+S147+S151+S153 -> 0 | T10: =T11+T147+T151+T153 -> 0 | U10: =U11+U147+U151+U153 -> 0 | V10: =V11+V147+V151+V153 -> 0 | X10: =O10-G10 -> -687000 | Y10: =Y11+Y147+Y151+Y153 -> 9571000 | Z10: =Z11+Z147+Z151+Z153 -> 9951000
B11: I. Náklady z činnosti | G11: =G12+G34+G40+G41+G42+G46+G47+G53+G61+G65+G66+G67+G99+G105+G109+G112+G119+G122+G123+G128+G129+G130+G133+G138+G139+G140+G141 -> 10456000 | H11: =SUM(H12,H34,H40,H41,H42,H46,H47,H53,H61,H65,H66,H67,H99,H105,H109,H112,H119,H122,H123,H128,H129,H130,H133,H138,H139,H140,H141) -> 10456000 | I11: =SUM(I12,I34,I40,I41,I42,I46,I47,I53,I61,I65,I66,I67,I99,I105,I109,I112,I119,I122,I123,I128,I129,I130,I133,I138,I139,I140,I141) -> 0 | J11: =SUM(J12,J34,J40,J41,J42,J46,J47,J53,J61,J65,J66,J67,J99,J105,J109,J112,J119,J122,J123,J128,J129,J130,J133,J138,J139,J140,J141) -> 0 | K11: =SUM(K12,K34,K40,K41,K42,K46,K47,K53,K61,K65,K66,K67,K99,K105,K109,K112,K119,K122,K123,K128,K129,K130,K133,K138,K139,K140,K141) -> 0 | L11: =SUM(L12,L34,L40,L41,L42,L46,L47,L53,L61,L65,L66,L67,L99,L105,L109,L112,L119,L122,L123,L128,L129,L130,L133,L138,L139,L140,L141) -> 0 | M11: =SUM(M12,M34,M40,M41,M42,M46,M47,M53,M61,M65,M66,M67,M99,M105,M109,M112,M119,M122,M123,M128,M129,M130,M133,M138,M139,M140,M141) -> 0 | N11: =SUM(N12,N34,N40,N41,N42,N46,N47,N53,N61,N65,N66,N67,N99,N105,N109,N112,N119,N122,N123,N128,N129,N130,N133,N138,N139,N140,N141) -> 0 | O11: =O12+O34+O40+O41+O42+O46+O47+O53+O61+O65+O66+O67+O99+O105+O109+O112+O119+O122+O123+O128+O129+O130+O133+O138+O139+O140+O141 -> 9769000 | P11: =P12+P34+P40+P41+P42+P46+P47+P53+P61+P65+P66+P67+P99+P105+P109+P112+P119+P122+P123+P128+P129+P130+P133+P138+P139+P140+P141 -> 9769000 | Q11: =Q12+Q34+Q40+Q41+Q42+Q46+Q47+Q53+Q61+Q65+Q66+Q67+Q99+Q105+Q109+Q112+Q119+Q122+Q123+Q128+Q129+Q130+Q133+Q138+Q139+Q140+Q141 -> 0 | R11: =R12+R34+R40+R41+R42+R46+R47+R53+R61+R65+R66+R67+R99+R105+R109+R112+R119+R122+R123+R128+R129+R130+R133+R138+R139+R140+R141 -> 0 | S11: =S12+S34+S40+S41+S42+S46+S47+S53+S61+S65+S66+S67+S99+S105+S109+S112+S119+S122+S123+S128+S129+S130+S133+S138+S139+S140+S141 -> 0 | T11: =T12+T34+T40+T41+T42+T46+T47+T53+T61+T65+T66+T67+T99+T105+T109+T112+T119+T122+T123+T128+T129+T130+T133+T138+T139+T140+T141 -> 0 | U11: =U12+U34+U40+U41+U42+U46+U47+U53+U61+U65+U66+U67+U99+U105+U109+U112+U119+U122+U123+U128+U129+U130+U133+U138+U139+U140+U141 -> 0 | V11: =V12+V34+V40+V41+V42+V46+V47+V53+V61+V65+V66+V67+V99+V105+V109+V112+V119+V122+V123+V128+V129+V130+V133+V138+V139+V140+V141 -> 0 | X11: =O11-G11 -> -687000 | Y11: =Y12+Y34+Y40+Y41+Y42+Y46+Y47+Y53+Y61+Y65+Y66+Y67+Y99+Y105+Y109+Y112+Y119+Y122+Y123+Y128+Y129+Y130+Y133+Y138+Y139+Y140+Y141 -> 9571000 | Z11: =Z12+Z34+Z40+Z41+Z42+Z46+Z47+Z53+Z61+Z65+Z66+Z67+Z99+Z105+Z109+Z112+Z119+Z122+Z123+Z128+Z129+Z130+Z133+Z138+Z139+Z140+Z141 -> 9951000
B12: Spotřeba materiálu | E12: 501 | G12: =SUM(G13:G33) -> 503000 | H12: =SUM(H13:H33) -> 503000 | I12: =SUM(I13:I33) -> 0 | J12: =SUM(J13:J33) -> 0 | K12: =SUM(K13:K33) -> 0 | L12: =SUM(L13:L33) -> 0 | M12: =SUM(M13:M33) -> 0 | N12: =SUM(N13:N33) -> 0 | ... V12: =SUM(V13:V33) -> 0 | X12: =O12-G12 -> 32000 | Y12: =SUM(Y13:Y33) -> 560000 | Z12: =SUM(Z13:Z33) -> 585000
B13: z toho: | C13: potraviny pro klienty, žáky | E13: 501 | F13: 030X | G13: =SUM(H13:N13) -> 120000 | H13: 120000 | O13: =SUM(P13:V13) -> 125000 | P13: 125000 | X13: =O13-G13 -> 5000 | Y13: 135000 | Z13: 145000
C14: potraviny pro zaměstnance | F14: 036X | G14: =SUM(H14:N14) -> 0 | H14: 0 | O14: =SUM(P14:V14) -> 0 | P14: 0 | X14: =O14-G14 -> 0 | Y14: 0 | Z14: 0
C15: potravimy pro ostatní | F15: 037X | G15: =SUM(H15:N15) -> 0 | H15: 0 | O15: =SUM(P15:V15) -> 0 | P15: 0 | X15: =O15-G15 -> 0 | Y15: 0 | Z15: 0
C16: ochranné pomůcky ( pro žáky a nad rámec zákona o dani z příjmů), prádlo, oděv, obuv pod hranicí (není zařazeno na účet 028) | F16: 031X | G16: =SUM(H16:N16) -> 0 | H16: 0 | O16: =SUM(P16:V16) -> 0 | P16: 0 | X16: =O16-G16 -> 0 | Y16: 0 | Z16: 0
C17: léky a zdravotnický materiál | F17: 040X | G17: =SUM(H17:N17) -> 3000 | H17: 3000 | O17: =SUM(P17:V17) -> 3000 | P17: 3000 | X17: =O17-G17 -> 0 | Y17: 3000 | Z17: 3000
C18: učebnice a bezplatně poskytované školní potřeby | F18: 032X | G18: =SUM(H18:N18) -> 0 | H18: 0 | O18: =SUM(P18:V18) -> 0 | P18: 0 | X18: =O18-G18 -> 0 | Y18: 0 | Z18: 0
C19: knihy, učební pomůcky, tisk (není zařazeno na účtu 028) - pořizované v souladu s právními předpisy) | F19: 033X | G19: =SUM(H19:N19) -> 0 | H19: 0 | O19: =SUM(P19:V19) -> 0 | P19: 0 | X19: =O19-G19 -> 0 | Y19: 0 | Z19: 0
C20: knihy, učební pomůcky, tisk (není zařazeno na účtu 028) - ostatní | F20: 034X | G20: =SUM(H20:N20) -> 30000 | H20: 30000 | O20: =SUM(P20:V20) -> 30000 | P20: 30000 | X20: =O20-G20 -> 0 | Y20: 30000 | Z20: 30000
C21: DDHM pod hranicí (není zařazeno na účet 028) | F21: 035X | G21: =SUM(H21:N21) -> 50000 | H21: 50000 | O21: =SUM(P21:V21) -> 50000 | P21: 50000 | X21: =O21-G21 -> 0 | Y21: 50000 | Z21: 50000
C22: materiál pro pracovní terapii | F22: 050X | G22: =SUM(H22:N22) -> 0 | H22: 0 | O22: =SUM(P22:V22) -> 0 | P22: 0 | X22: =O22-G22 -> 0 | Y22: 0 | Z22: 0
C23: technické a mediciální plyny | F23: 051X | G23: =SUM(H23:N23) -> 0 | H23: 0 | O23: =SUM(P23:V23) -> 0 | P23: 0 | X23: =O23-G23 -> 0 | Y23: 0 | Z23: 0
C24: pevná paliva a kapalná paliva (agregáty…) | F24: 060X | G24: =SUM(H24:N24) -> 0 | H24: 0 | O24: =SUM(P24:V24) -> 0 | P24: 0 | X24: =O24-G24 -> 0 | Y24: 0 | Z24: 0
C25: pohonné hmoty a maziva (dopravní prostředky) | F25: 061X | G25: =SUM(H25:N25) -> 15000 | H25: 15000 | O25: =SUM(P25:V25) -> 16000 | P25: 16000 | X25: =O25-G25 -> 1000 | Y25: 18000 | Z25: 20000
... C32: dopravní značení SSOK | F32: 047X | G32: =SUM(H32:N32) -> 0 | H32: 0 | O32: =SUM(P32:V32) -> 0 | P32: 0 | X32: =O32-G32 -> 0 | Y32: 0 | Z32: 0
C33: ostatní | G33: =SUM(H33:N33) -> 0 | H33: 0 | O33: =SUM(P33:V33) -> 0 | P33: 0 | X33: =O33-G33 -> 0 | Y33: 0 | Z33: 0
B34: Spotřeba energie | E34: 502 | G34: =SUM(G35:G39) -> 700000 | H34: =SUM(H35:H39) -> 700000 | I34: =SUM(I35:I39) -> 0 | J34: =SUM(J35:J39) -> 0 | K34: =SUM(K35:K39) -> 0 | L34: =SUM(L35:L39) -> 0 | M34: =SUM(M35:M39) -> 0 | N34: =SUM(N35:N39) -> 0 | ... V34: =SUM(V35:V39) -> 0 | X34: =O34-G34 -> -153000 | Y34: =SUM(Y35:Y39) -> 578000 | Z34: =SUM(Z35:Z39) -> 609000
B35: z toho: | C35: vodné a stočné, včetně srážkové vody | E35: 502 | F35: 030X | G35: =SUM(H35:N35) -> 50000 | H35: 50000 | O35: =SUM(P35:V35) -> 52000 | P35: 52000 | X35: =O35-G35 -> 2000 | Y35: 54000 | Z35: 56000
C36: teplo a pára | F36: 031X | G36: =SUM(H36:N36) -> 500000 | H36: 500000 | O36: =SUM(P36:V36) -> 360000 | P36: 360000 | X36: =O36-G36 -> -140000 | Y36: 384000 | Z36: 408000
C37: plyn (ne mediciální) | F37: 032X | G37: =SUM(H37:N37) -> 0 | H37: 0 | O37: =SUM(P37:V37) -> 0 | P37: 0 | X37: =O37-G37 -> 0 | Y37: 0 | Z37: 0
C38: elektrická energie | F38: 033X | G38: =SUM(H38:N38) -> 150000 | H38: 150000 | O38: =SUM(P38:V38) -> 135000 | P38: 135000 | X38: =O38-G38 -> -15000 | Y38: 140000 | Z38: 145000
C39: ostatní | G39: =SUM(H39:N39) -> 0 | H39: 0 | O39: =SUM(P39:V39) -> 0 | P39: 0 | X39: =O39-G39 -> 0 | Y39: 0 | Z39: 0
B40: Spotřeba jiných neskladovaných dodávek | E40: 503 | G40: =SUM(H40:N40) -> 0 | H40: 0 | O40: =SUM(P40:V40) -> 0 | P40: 0 | X40: =O40-G40 -> 0 | Y40: 0 | Z40: 0
B41: Prodané zboží | E41: 504 | G41: =SUM(H41:N41) -> 0 | H41: 0 | O41: =SUM(P41:V41) -> 0 | P41: 0 | X41: =O41-G41 -> 0 | Y41: 0 | Z41: 0
B42: Aktivace dlouhodobého majetku | E42: 506 | G42: =SUM(G43:G45) -> 0 | H42: =SUM(H43:H45) -> 0 | I42: =SUM(I43:I45) -> 0 | J42: =SUM(J43:J45) -> 0 | K42: =SUM(K43:K45) -> 0 | L42: =SUM(L43:L45) -> 0 | M42: =SUM(M43:M45) -> 0 | N42: =SUM(N43:N45) -> 0 | ... V42: =SUM(V43:V45) -> 0 | X42: =O42-G42 -> 0 | Y42: 0 | Z42: 0
B43: z toho: | C43: aktivace dlouhodobého hmotného majetku | E43: 506 | F43: 030X | G43: =SUM(H43:N43) -> 0 | H43: 0 | O43: =SUM(P43:V43) -> 0 | P43: 0 | X43: =O43-G43 -> 0 | Y43: x | Z43: x
C44: aktivace dlouhodobého nehmotného majetku | F44: 031X | G44: =SUM(H44:N44) -> 0 | H44: 0 | O44: =SUM(P44:V44) -> 0 | P44: 0 | X44: =O44-G44 -> 0 | Y44: x | Z44: x
C45: ostatní | G45: =SUM(H45:N45) -> 0 | H45: 0 | O45: =SUM(P45:V45) -> 0 | P45: 0 | X45: =O45-G45 -> 0 | Y45: x | Z45: x
B46: Aktivace oběžného majetku | E46: 507 | G46: =SUM(H46:N46) -> 0 | H46: 0 | O46: =SUM(P46:V46) -> 0 | P46: 0 | X46: =O46-G46 -> 0 | Y46: 0 | Z46: 0
...

Sheet Doplňková činnost
B1: Skrýt sloupce
B2: Návrh rozpočtu 2025 a Střednědobého výhledu rozpočtu 2026 a 2027 | AK2: Tabulka č.2-Doplňková činnost
B3: ='Hlavní činnost'!B3:F3 -> Příloha č. 1 Náklady a výnosy příspěvkové organizace | AK3: ORG: | AL3: =IF('Hlavní činnost'!V3=0,"",'Hlavní činnost'!V3) -> 1352
B4: Název příspěvkové organizace: | E4: =IF('Hlavní činnost'!E4=0,"",'Hlavní činnost'!E4) -> Dům dětí a mládeže Vila Tereza, Uničov
B5: ='Úvodní list'!B11 -> Pozn. :
B6: Náklady a výnosy | W6: doplňková činnost / v Kč / | AA6: =IF(W247=(ROUND(W247,-3)),"","POZOR ÚDAJE NÁVRHU ROZPOČTU 2025 je třeba zaokrouh. na tis. Kč") | AO6: Návrh střednědobého výhledu rozpočtu
G7: 2024 | H7: název činnosti | W7: 2025 | X7: název činnosti | AN7: meziroční srovnání + nárůst - pokles (Návrh 2025 a rozpis 2024 | AO7: 2026 | AP7: 2027
G8: Rozpis schváleného rozpočtu 2024 /v Kč zaokrouhl. na tis. Kč/ | H8: pronájem nemovitého majetku | W8: Návrh rozpočtu na rok 2025 (v Kč zaokrouhl. na tis. Kč) | X8: pronájem nemovitého majetku | AM8: Nevyplňovat | AO8: Výhled na rok 2026 | AP8: Výhled na rok 2027
B9: Název účetní položky | D9: UZ | E9: SÚ | F9: AÚ | G9: celkem | H9: 131 | W9: celkem | X9: 131 | AO9: =IF((AO247+AP247)=(ROUND((AO247+AP247),-3)),"(v Kč zaokrouhl. na tis. Kč)","POZOR ÚDAJE NÁVRHU SV je třeba zaokrouh. na tis. Kč") -> (v Kč zaokrouhl. na tis. Kč)
B10: A.Náklady celkem - účtová tř. 5 | G10: =G11+G147+G151+G153 -> 48000 | H10: =SUM(H11,H147,H151,H153) -> 48000 | I10: =SUM(I11,I147,I151,I153) -> 0 | J10: =SUM(J11,J147,J151,J153) -> 0 | K10: =SUM(K11,K147,K151,K153) -> 0 | L10: =SUM(L11,L147,L151,L153) -> 0 | M10: =SUM(M11,M147,M151,M153) -> 0 | N10: =SUM(N11,N147,N151,N153) -> 0 | O10: =SUM(O11,O147,O151,O153) -> 0 | ... V10: =SUM(V11,V147,V151,V153) -> 0 | W10: =W11+W147+W151+W153 -> 51000 | X10: =X11+X147+X151+X153 -> 51000 | Y10: =Y11+Y147+Y151+Y153 -> 0 | Z10: =Z11+Z147+Z151+Z153 -> 0 | AA10: =AA11+AA147+AA151+AA153 -> 0 | AB10: =AB11+AB147+AB151+AB153 -> 0 | AC10: =AC11+AC147+AC151+AC153 -> 0 | AD10: =AD11+AD147+AD151+AD153 -> 0 | ... AL10: =AL11+AL147+AL151+AL153 -> 0 | AN10: =W10-G10 -> 3000 | AO10: =AO11+AO147+AO151+AO153 -> 54000 | AP10: =AP11+AP147+AP151+AP153 -> 56000
B11: I. Náklady z činnosti | G11: =G12+G34+G40+G41+G42+G46+G47+G53+G61+G65+G66+G67+G99+G105+G109+G112+G119+G122+G123+G128+G129+G130+G133+G138+G139+G140+G141 -> 48000 | H11: =SUM(H12,H34,H40,H41,H42,H46,H47,H53,H61,H65,H66,H67,H99,H105,H109,H112,H119,H122,H123,H128,H129,H130,H133,H138,H139,H140,H141) -> 48000 | I11: =SUM(I12,I34,I40,I41,I42,I46,I47,I53,I61,I65,I66,I67,I99,I105,I109,I112,I119,I122,I123,I128,I129,I130,I133,I138,I139,I140,I141) -> 0 | J11: =SUM(J12,J34,J40,J41,J42,J46,J47,J53,J61,J65,J66,J67,J99,J105,J109,J112,J119,J122,J123,J128,J129,J130,J133,J138,J139,J140,J141) -> 0 | K11: =SUM(K12,K34,K40,K41,K42,K46,K47,K53,K61,K65,K66,K67,K99,K105,K109,K112,K119,K122,K123,K128,K129,K130,K133,K138,K139,K140,K141) -> 0 | L11: =SUM(L12,L34,L40,L41,L42,L46,L47,L53,L61,L65,L66,L67,L99,L105,L109,L112,L119,L122,L123,L128,L129,L130,L133,L138,L139,L140,L141) -> 0 | M11: =SUM(M12,M34,M40,M41,M42,M46,M47,M53,M61,M65,M66,M67,M99,M105,M109,M112,M119,M122,M123,M128,M129,M130,M133,M138,M139,M140,M141) -> 0 | N11: =SUM(N12,N34,N40,N41,N42,N46,N47,N53,N61,N65,N66,N67,N99,N105,N109,N112,N119,N122,N123,N128,N129,N130,N133,N138,N139,N140,N141) -> 0 | O11: =SUM(O12,O34,O40,O41,O42,O46,O47,O53,O61,O65,O66,O67,O99,O105,O109,O112,O119,O122,O123,O128,O129,O130,O133,O138,O139,O140,O141) -> 0 | ... V11: =SUM(V12,V34,V40,V41,V42,V46,V47,V53,V61,V65,V66,V67,V99,V105,V109,V112,V119,V122,V123,V128,V129,V130,V133,V138,V139,V140,V141) -> 0 | W11: =W12+W34+W40+W41+W42+W46+W47+W53+W61+W65+W66+W67+W99+W105+W109+W112+W119+W122+W123+W128+W129+W130+W133+W138+W139+W140+W141 -> 51000 | X11: =X12+X34+X40+X41+X42+X46+X47+X53+X61+X65+X66+X67+X99+X105+X109+X112+X119+X122+X123+X128+X129+X130+X133+X138+X139+X140+X141 -> 51000 | Y11: =Y12+Y34+Y40+Y41+Y42+Y46+Y47+Y53+Y61+Y65+Y66+Y67+Y99+Y105+Y109+Y112+Y119+Y122+Y123+Y128+Y129+Y130+Y133+Y138+Y139+Y140+Y141 -> 0 | Z11: =Z12+Z34+Z40+Z41+Z42+Z46+Z47+Z53+Z61+Z65+Z66+Z67+Z99+Z105+Z109+Z112+Z119+Z122+Z123+Z128+Z129+Z130+Z133+Z138+Z139+Z140+Z141 -> 0 | AA11: =AA12+AA34+AA40+AA41+AA42+AA46+AA47+AA53+AA61+AA65+AA66+AA67+AA99+AA105+AA109+AA112+AA119+AA122+AA123+AA128+AA129+AA130+AA133+AA138+AA139+AA140+AA141 -> 0 | AB11: =AB12+AB34+AB40+AB41+AB42+AB46+AB47+AB53+AB61+AB65+AB66+AB67+AB99+AB105+AB109+AB112+AB119+AB122+AB123+AB128+AB129+AB130+AB133+AB138+AB139+AB140+AB141 -> 0 | AC11: =AC12+AC34+AC40+AC41+AC42+AC46+AC47+AC53+AC61+AC65+AC66+AC67+AC99+AC105+AC109+AC112+AC119+AC122+AC123+AC128+AC129+AC130+AC133+AC138+AC139+AC140+AC141 -> 0 | AD11: =AD12+AD34+AD40+AD41+AD42+AD46+AD47+AD53+AD61+AD65+AD66+AD67+AD99+AD105+AD109+AD112+AD119+AD122+AD123+AD128+AD129+AD130+AD133+AD138+AD139+AD140+AD141 -> 0 | ... AL11: =AL12+AL34+AL40+AL41+AL42+AL46+AL47+AL53+AL61+AL65+AL66+AL67+AL99+AL105+AL109+AL112+AL119+AL122+AL123+AL128+AL129+AL130+AL133+AL138+AL139+AL140+AL141 -> 0 | AN11: =W11-G11 -> 3000 | AO11: =AO12+AO34+AO40+AO41+AO42+AO46+AO47+AO53+AO61+AO65+AO66+AO67+AO99+AO105+AO109+AO112+AO119+AO122+AO123+AO128+AO129+AO130+AO133+AO138+AO139+AO140+AO141 -> 54000 | AP11: =AP12+AP34+AP40+AP41+AP42+AP46+AP47+AP53+AP61+AP65+AP66+AP67+AP99+AP105+AP109+AP112+AP119+AP122+AP123+AP128+AP129+AP130+AP133+AP138+AP139+AP140+AP141 -> 56000
B12: Spotřeba materiálu | E12: 501 | G12: =SUM(G13:G33) -> 1000 | H12: =SUM(H13:H33) -> 1000 | I12: =SUM(I13:I33) -> 0 | J12: =SUM(J13:J33) -> 0 | K12: =SUM(K13:K33) -> 0 | L12: =SUM(L13:L33) -> 0 | M12: =SUM(M13:M33) -> 0 | N12: =SUM(N13:N33) -> 0 | ... AL12: =SUM(AL13:AL33) -> 0 | AN12: =W12-G12 -> 0 | AO12: =SUM(AO13:AO33) -> 1000 | AP12: =SUM(AP13:AP33) -> 1000
B13: z toho: | C13: potraviny pro klienty, žáky | E13: 501 | F13: 000X | G13: =SUM(H13:V13) -> 0 | H13: 0 | W13: =SUM(X13:AL13) -> 0 | X13: 0 | AN13: =W13-G13 -> 0 | AO13: 0 | AP13: 0
C14: potraviny pro zaměstnance | F14: 009X | G14: =SUM(H14:V14) -> 0 | H14: 0 | W14: =SUM(X14:AL14) -> 0 | X14: 0 | AN14: =W14-G14 -> 0 | AO14: 0 | AP14: 0
C15: potravimy pro ostatní | F15: 010X | G15: =SUM(H15:V15) -> 0 | H15: 0 | W15: =SUM(X15:AL15) -> 0 | X15: 0 | AN15: =W15-G15 -> 0 | AO15: 0 | AP15: 0
C16: ochranné pomůcky ( pro žáky a nad rámec zákona o dani z příjmů), prádlo, oděv, obuv pod hranicí (není zařazeno na účet 028) | F16: 001X | G16: =SUM(H16:V16) -> 0 | H16: 0 | W16: =SUM(X16:AL16) -> 0 | X16: 0 | AN16: =W16-G16 -> 0 | AO16: 0 | AP16: 0
C17: léky a zdravotnický materiál | F17: 002X | G17: =SUM(H17:V17) -> 0 | H17: 0 | W17: =SUM(X17:AL17) -> 0 | X17: 0 | AN17: =W17-G17 -> 0 | AO17: 0 | AP17: 0
C18: učebnice a bezplatně poskytované školní potřeby | F18: 003X | G18: =SUM(H18:V18) -> 0 | H18: 0 | W18: =SUM(X18:AL18) -> 0 | X18: 0 | AN18: =W18-G18 -> 0 | AO18: 0 | AP18: 0
C19: knihy, učební pomůcky, tisk (není zařazeno na účtu 028) - pořizované v souladu s právními předpisy) | F19: 004X | G19: =SUM(H19:V19) -> 0 | H19: 0 | W19: =SUM(X19:AL19) -> 0 | X19: 0 | AN19: =W19-G19 -> 0 | AO19: 0 | AP19: 0
C20: knihy, učební pomůcky, tisk (není zařazeno na účtu 028) - ostatní | F20: 005X | G20: =SUM(H20:V20) -> 0 | H20: 0 | W20: =SUM(X20:AL20) -> 0 | X20: 0 | AN20: =W20-G20 -> 0 | AO20: 0 | AP20: 0
C21: DDHM pod hranicí (není zařazeno na účet 028) | F21: 006X | G21: =SUM(H21:V21) -> 0 | H21: 0 | W21: =SUM(X21:AL21) -> 0 | X21: 0 | AN21: =W21-G21 -> 0 | AO21: 0 | AP21: 0
C22: materiál pro pracovní terapii | F22: 007X | G22: =SUM(H22:V22) -> 0 | H22: 0 | W22: =SUM(X22:AL22) -> 0 | X22: 0 | AN22: =W22-G22 -> 0 | AO22: 0 | AP22: 0
C23: technické a mediciální plyny | F23: 008X | G23: =SUM(H23:V23) -> 0 | H23: 0 | W23: =SUM(X23:AL23) -> 0 | X23: 0 | AN23: =W23-G23 -> 0 | AO23: 0 | AP23: 0
C24: pevná paliva a kapalná paliva (agregáty…) | F24: 011X | G24: =SUM(H24:V24) -> 0 | H24: 0 | W24: =SUM(X24:AL24) -> 0 | X24: 0 | AN24: =W24-G24 -> 0 | AO24: 0 | AP24: 0
C25: pohonné hmoty a maziva (dopravní prostředky) | F25: 012X | G25: =SUM(H25:V25) -> 0 | H25: 0 | W25: =SUM(X25:AL25) -> 0 | X25: 0 | AN25: =W25-G25 -> 0 | AO25: 0 | AP25: 0
... C32: dopravní značení SSOK | F32: 019X | G32: =SUM(H32:V32) -> 0 | H32: 0 | W32: =SUM(X32:AL32) -> 0 | X32: 0 | AN32: =W32-G32 -> 0 | AO32: 0 | AP32: 0
C33: ostatní | G33: =SUM(H33:V33) -> 0 | H33: 0 | W33: =SUM(X33:AL33) -> 0 | X33: 0 | AN33: =W33-G33 -> 0 | AO33: 0 | AP33: 0
B34: Spotřeba energie | E34: 502 | G34: =SUM(G35:G39) -> 4000 | H34: =SUM(H35:H39) -> 4000 | I34: =SUM(I35:I39) -> 0 | J34: =SUM(J35:J39) -> 0 | K34: =SUM(K35:K39) -> 0 | L34: =SUM(L35:L39) -> 0 | M34: =SUM(M35:M39) -> 0 | N34: =SUM(N35:N39) -> 0 | ... AL34: =SUM(AL35:AL39) -> 0 | AN34: =W34-G34 -> 0 | AO34: =SUM(AO35:AO39) -> 4000 | AP34: =SUM(AP35:AP39) -> 4000
B35: z toho: | C35: vodné a stočné, včetně srážkové vody | E35: 502 | F35: 000X | G35: =SUM(H35:V35) -> 1000 | H35: 1000 | W35: =SUM(X35:AL35) -> 1000 | X35: 1000 | AN35: =W35-G35 -> 0 | AO35: 1000 | AP35: 1000
C36: teplo a pára | F36: 001X | G36: =SUM(H36:V36) -> 2000 | H36: 2000 | W36: =SUM(X36:AL36) -> 2000 | X36: 2000 | AN36: =W36-G36 -> 0 | AO36: 2000 | AP36: 2000
C37: plyn (ne mediciální) | F37: 002X | G37: =SUM(H37:V37) -> 0 | H37: 0 | W37: =SUM(X37:AL37) -> 0 | X37: 0 | AN37: =W37-G37 -> 0 | AO37: 0 | AP37: 0
C38: elektrická energie | F38: 003X | G38: =SUM(H38:V38) -> 1000 | H38: 1000 | W38: =SUM(X38:AL38) -> 1000 | X38: 1000 | AN38: =W38-G38 -> 0 | AO38: 1000 | AP38: 1000
C39: ostatní | G39: =SUM(H39:V39) -> 0 | H39: 0 | W39: =SUM(X39:AL39) -> 0 | X39: 0 | AN39: =W39-G39 -> 0 | AO39: 0 | AP39: 0
B40: Spotřeba jiných neskladovaných dodávek | E40: 503 | G40: =SUM(H40:V40) -> 0 | H40: 0 | W40: =SUM(X40:AL40) -> 0 | X40: 0 | AN40: =W40-G40 -> 0 | AO40: 0 | AP40: 0
B41: Prodané zboží | E41: 504 | G41: =SUM(H41:V41) -> 0 | H41: 0 | W41: =SUM(X41:AL41) -> 0 | X41: 0 | AN41: =W41-G41 -> 0 | AO41: 0 | AP41: 0
B42: Aktivace dlouhodobého majetku | E42: 506 | G42: =SUM(G43:G45) -> 0 | H42: =SUM(H43:H45) -> 0 | I42: =SUM(I43:I45) -> 0 | J42: =SUM(J43:J45) -> 0 | K42: =SUM(K43:K45) -> 0 | L42: =SUM(L43:L45) -> 0 | M42: =SUM(M43:M45) -> 0 | N42: =SUM(N43:N45) -> 0 | ... AL42: =SUM(AL43:AL45) -> 0 | AN42: =W42-G42 -> 0 | AO42: 0 | AP42: 0
B43: z toho: | C43: aktivace dlouhodobého hmotného majetku | E43: 506 | F43: 000X | G43: =SUM(H43:V43) -> 0 | H43: 0 | W43: =SUM(X43:AL43) -> 0 | X43: 0 | AN43: =W43-G43 -> 0 | AO43: x | AP43: x
C44: aktivace dlouhodobého nehmotného majetku | F44: 001X | G44: =SUM(H44:V44) -> 0 | H44: 0 | W44: =SUM(X44:AL44) -> 0 | X44: 0 | AN44: =W44-G44 -> 0 | AO44: x | AP44: x
C45: ostatní | G45: =SUM(H45:V45) -> 0 | H45: 0 | W45: =SUM(X45:AL45) -> 0 | X45: 0 | AN45: =W45-G45 -> 0 | AO45: x | AP45: x
B46: Aktivace oběžného majetku | E46: 507 | G46: =SUM(H46:V46) -> 0 | H46: 0 | W46: =SUM(X46:AL46) -> 0 | X46: 0 | AN46: =W46-G46 -> 0 | AO46: 0 | AP46: 0
...

Sheet Rekapitulace
B2: Návrh rozpočtu 2025 a Střednědobého výhledu rozpočtu 2026 a 2027
B3: Příloha č. 1 Náklady a výnosy příspěvkové organizace | L3: ORG | M3: =IF('Hlavní činnost'!V3=0,"",'Hlavní činnost'!V3) -> 1352
B4: Název příspěvkové organizace: | E4: =IF('Hlavní činnost'!E4=0,"",'Hlavní činnost'!E4) -> Dům dětí a mládeže Vila Tereza, Uničov
B5: ='Úvodní list'!B11 -> Pozn. :
B6: Náklady a výnosy | L6: meziroční srovnání + nárůst - pokles (Návrh 2025 a rozpis SR 2024( | M6: meziroční srovnání + nárůst - pokles (Návrh 2025 a rozpis SR 2024)
H7: / Kč- bez deset- míst / | J7: / Kč- bez deset- míst / | N7: / Kč- bez deset- míst / | P7: / Kč- bez deset- míst /
H8: Hlavní činnost | I8: Doplňková činnost | J8: Hlavní činnost | K8: Doplňková činnost | N8: Hlavní činnost | O8: Doplňková činnost | P8: Hlavní činnost | Q8: Doplňková činnost
B9: Název účetní položky | D9: UZ | E9: SÚ | F9: AÚ | G9: AÚ | H9: ='Doplňková činnost'!G8 -> Rozpis schváleného rozpočtu 2024 /v Kč zaokrouhl. na tis. Kč/ | J9: Návrh 2025 | L9: hlavní činnost | M9: doplňková činnost | N9: Návrh střednědobého výhledu na rok 2026 | P9: Návrh střednědobého výhledu na rok 2027
B10: A.Náklady celkem - účtová tř. 5 | H10: ='Hlavní činnost'!G10 -> 10456000 | I10: ='Doplňková činnost'!G10 -> 48000 | J10: ='Hlavní činnost'!O10 -> 9769000 | K10: ='Doplňková činnost'!W10 -> 51000 | L10: ='Hlavní činnost'!X10 -> -687000 | M10: ='Doplňková činnost'!AN10 -> 3000 | N10: ='Hlavní činnost'!Y10 -> 9571000 | O10: ='Doplňková činnost'!AO10 -> 54000 | P10: ='Hlavní činnost'!Z10 -> 9951000 | Q10: ='Doplňková činnost'!AP10 -> 56000
B11: I. Náklady z činnosti | H11: ='Hlavní činnost'!G11 -> 10456000 | I11: ='Doplňková činnost'!G11 -> 48000 | J11: ='Hlavní činnost'!O11 -> 9769000 | K11: ='Doplňková činnost'!W11 -> 51000 | L11: ='Hlavní činnost'!X11 -> -687000 | M11: ='Doplňková činnost'!AN11 -> 3000 | N11: ='Hlavní činnost'!Y11 -> 9571000 | O11: ='Doplňková činnost'!AO11 -> 54000 | P11: ='Hlavní činnost'!Z11 -> 9951000 | Q11: ='Doplňková činnost'!AP11 -> 56000
B12: Spotřeba materiálu | E12: 501 | H12: ='Hlavní činnost'!G12 -> 503000 | I12: ='Doplňková činnost'!G12 -> 1000 | J12: ='Hlavní činnost'!O12 -> 535000 | K12: ='Doplňková činnost'!W12 -> 1000 | L12: ='Hlavní činnost'!X12 -> 32000 | M12: ='Doplňková činnost'!AN12 -> 0 | N12: ='Hlavní činnost'!Y12 -> 560000 | O12: ='Doplňková činnost'!AO12 -> 1000 | P12: ='Hlavní činnost'!Z12 -> 585000 | Q12: ='Doplňková činnost'!AP12 -> 1000
B13: z toho: | C13: potraviny pro klienty, žáky | E13: 501 | F13: 030X | G13: 000X | H13: ='Hlavní činnost'!G13 -> 120000 | I13: ='Doplňková činnost'!G13 -> 0 | J13: ='Hlavní činnost'!O13 -> 125000 | K13: ='Doplňková činnost'!W13 -> 0 | L13: ='Hlavní činnost'!X13 -> 5000 | M13: ='Doplňková činnost'!AN13 -> 0 | N13: ='Hlavní činnost'!Y13 -> 135000 | O13: ='Doplňková činnost'!AO13 -> 0 | P13: ='Hlavní činnost'!Z13 -> 145000 | Q13: ='Doplňková činnost'!AP13 -> 0
C14: potraviny pro zaměstnance | F14: 036X | G14: 009X | H14: ='Hlavní činnost'!G14 -> 0 | I14: ='Doplňková činnost'!G14 -> 0 | J14: ='Hlavní činnost'!O14 -> 0 | K14: ='Doplňková činnost'!W14 -> 0 | L14: ='Hlavní činnost'!X14 -> 0 | M14: ='Doplňková činnost'!AN14 -> 0 | N14: ='Hlavní činnost'!Y14 -> 0 | O14: ='Doplňková činnost'!AO14 -> 0 | P14: ='Hlavní činnost'!Z14 -> 0 | Q14: ='Doplňková činnost'!AP14 -> 0
C15: potravimy pro ostatní | F15: 037X | G15: 010X | H15: ='Hlavní činnost'!G15 -> 0 | I15: ='Doplňková činnost'!G15 -> 0 | J15: ='Hlavní činnost'!O15 -> 0 | K15: ='Doplňková činnost'!W15 -> 0 | L15: ='Hlavní činnost'!X15 -> 0 | M15: ='Doplňková činnost'!AN15 -> 0 | N15: ='Hlavní činnost'!Y15 -> 0 | O15: ='Doplňková činnost'!AO15 -> 0 | P15: ='Hlavní činnost'!Z15 -> 0 | Q15: ='Doplňková činnost'!AP15 -> 0
C16: ochranné pomůcky ( pro žáky a nad rámec zákona o dani z příjmů), prádlo, oděv, obuv pod hranicí (není zařazeno na účet 028) | F16: 031X | G16: 001X | H16: ='Hlavní činnost'!G16 -> 0 | I16: ='Doplňková činnost'!G16 -> 0 | J16: ='Hlavní činnost'!O16 -> 0 | K16: ='Doplňková činnost'!W16 -> 0 | L16: ='Hlavní činnost'!X16 -> 0 | M16: ='Doplňková činnost'!AN16 -> 0 | N16: ='Hlavní činnost'!Y16 -> 0 | O16: ='Doplňková činnost'!AO16 -> 0 | P16: ='Hlavní činnost'!Z16 -> 0 | Q16: ='Doplňková činnost'!AP16 -> 0
C17: léky a zdravotnický materiál | F17: 040X | G17: 002X | H17: ='Hlavní činnost'!G17 -> 3000 | I17: ='Doplňková činnost'!G17 -> 0 | J17: ='Hlavní činnost'!O17 -> 3000 | K17: ='Doplňková činnost'!W17 -> 0 | L17: ='Hlavní činnost'!X17 -> 0 | M17: ='Doplňková činnost'!AN17 -> 0 | N17: ='Hlavní činnost'!Y17 -> 3000 | O17: ='Doplňková činnost'!AO17 -> 0 | P17: ='Hlavní činnost'!Z17 -> 3000 | Q17: ='Doplňková činnost'!AP17 -> 0
C18: učebnice a bezplatně poskytované školní potřeby | F18: 032X | G18: 003X | H18: ='Hlavní činnost'!G18 -> 0 | I18: ='Doplňková činnost'!G18 -> 0 | J18: ='Hlavní činnost'!O18 -> 0 | K18: ='Doplňková činnost'!W18 -> 0 | L18: ='Hlavní činnost'!X18 -> 0 | M18: ='Doplňková činnost'!AN18 -> 0 | N18: ='Hlavní činnost'!Y18 -> 0 | O18: ='Doplňková činnost'!AO18 -> 0 | P18: ='Hlavní činnost'!Z18 -> 0 | Q18: ='Doplňková činnost'!AP18 -> 0
C19: knihy, učební pomůcky, tisk (není zařazeno na účtu 028) - pořizované v souladu s právními předpisy) | F19: 033X | G19: 004X | H19: ='Hlavní činnost'!G19 -> 0 | I19: ='Doplňková činnost'!G19 -> 0 | J19: ='Hlavní činnost'!O19 -> 0 | K19: ='Doplňková činnost'!W19 -> 0 | L19: ='Hlavní činnost'!X19 -> 0 | M19: ='Doplňková činnost'!AN19 -> 0 | N19: ='Hlavní činnost'!Y19 -> 0 | O19: ='Doplňková činnost'!AO19 -> 0 | P19: ='Hlavní činnost'!Z19 -> 0 | Q19: ='Doplňková činnost'!AP19 -> 0
C20: knihy, učební pomůcky, tisk (není zařazeno na účtu 028) - ostatní | F20: 034X | G20: 005X | H20: ='Hlavní činnost'!G20 -> 30000 | I20: ='Doplňková činnost'!G20 -> 0 | J20: ='Hlavní činnost'!O20 -> 30000 | K20: ='Doplňková činnost'!W20 -> 0 | L20: ='Hlavní činnost'!X20 -> 0 | M20: ='Doplňková činnost'!AN20 -> 0 | N20: ='Hlavní činnost'!Y20 -> 30000 | O20: ='Doplňková činnost'!AO20 -> 0 | P20: ='Hlavní činnost'!Z20 -> 30000 | Q20: ='Doplňková činnost'!AP20 -> 0
C21: DDHM pod hranicí (není zařazeno na účet 028) | F21: 035X | G21: 006X | H21: ='Hlavní činnost'!G21 -> 50000 | I21: ='Doplňková činnost'!G21 -> 0 | J21: ='Hlavní činnost'!O21 -> 50000 | K21: ='Doplňková činnost'!W21 -> 0 | L21: ='Hlavní činnost'!X21 -> 0 | M21: ='Doplňková činnost'!AN21 -> 0 | N21: ='Hlavní činnost'!Y21 -> 50000 | O21: ='Doplňková činnost'!AO21 -> 0 | P21: ='Hlavní činnost'!Z21 -> 50000 | Q21: ='Doplňková činnost'!AP21 -> 0
C22: materiál pro pracovní terapii | F22: 050X | G22: 007X | H22: ='Hlavní činnost'!G22 -> 0 | I22: ='Doplňková činnost'!G22 -> 0 | J22: ='Hlavní činnost'!O22 -> 0 | K22: ='Doplňková činnost'!W22 -> 0 | L22: ='Hlavní činnost'!X22 -> 0 | M22: ='Doplňková činnost'!AN22 -> 0 | N22: ='Hlavní činnost'!Y22 -> 0 | O22: ='Doplňková činnost'!AO22 -> 0 | P22: ='Hlavní činnost'!Z22 -> 0 | Q22: ='Doplňková činnost'!AP22 -> 0
C23: technické a mediciální plyny | F23: 051X | G23: 008X | H23: ='Hlavní činnost'!G23 -> 0 | I23: ='Doplňková činnost'!G23 -> 0 | J23: ='Hlavní činnost'!O23 -> 0 | K23: ='Doplňková činnost'!W23 -> 0 | L23: ='Hlavní činnost'!X23 -> 0 | M23: ='Doplňková činnost'!AN23 -> 0 | N23: ='Hlavní činnost'!Y23 -> 0 | O23: ='Doplňková činnost'!AO23 -> 0 | P23: ='Hlavní činnost'!Z23 -> 0 | Q23: ='Doplňková činnost'!AP23 -> 0
C24: pevná paliva a kapalná paliva (agregáty…) | F24: 060X | G24: 011X | H24: ='Hlavní činnost'!G24 -> 0 | I24: ='Doplňková činnost'!G24 -> 0 | J24: ='Hlavní činnost'!O24 -> 0 | K24: ='Doplňková činnost'!W24 -> 0 | L24: ='Hlavní činnost'!X24 -> 0 | M24: ='Doplňková činnost'!AN24 -> 0 | N24: ='Hlavní činnost'!Y24 -> 0 | O24: ='Doplňková činnost'!AO24 -> 0 | P24: ='Hlavní činnost'!Z24 -> 0 | Q24: ='Doplňková činnost'!AP24 -> 0
C25: pohonné hmoty a maziva (dopravní prostředky) | F25: 061X | G25: 012X | H25: ='Hlavní činnost'!G25 -> 15000 | I25: ='Doplňková činnost'!G25 -> 0 | J25: ='Hlavní činnost'!O25 -> 16000 | K25: ='Doplňková činnost'!W25 -> 0 | L25: ='Hlavní činnost'!X25 -> 1000 | M25: ='Doplňková činnost'!AN25 -> 0 | N25: ='Hlavní činnost'!Y25 -> 18000 | O25: ='Doplňková činnost'!AO25 -> 0 | P25: ='Hlavní činnost'!Z25 -> 20000 | Q25: ='Doplňková činnost'!AP25 -> 0
... C32: dopravní značení SSOK | F32: 047X | G32: 019X | H32: ='Hlavní činnost'!G32 -> 0 | I32: ='Doplňková činnost'!G32 -> 0 | J32: ='Hlavní činnost'!O32 -> 0 | K32: ='Doplňková činnost'!W32 -> 0 | L32: ='Hlavní činnost'!X32 -> 0 | M32: ='Doplňková činnost'!AN32 -> 0 | N32: ='Hlavní činnost'!Y32 -> 0 | O32: ='Doplňková činnost'!AO32 -> 0 | P32: ='Hlavní činnost'!Z32 -> 0 | Q32: ='Doplňková činnost'!AP32 -> 0
C33: ostatní | H33: ='Hlavní činnost'!G33 -> 0 | I33: ='Doplňková činnost'!G33 -> 0 | J33: ='Hlavní činnost'!O33 -> 0 | K33: ='Doplňková činnost'!W33 -> 0 | L33: ='Hlavní činnost'!X33 -> 0 | M33: ='Doplňková činnost'!AN33 -> 0 | N33: ='Hlavní činnost'!Y33 -> 0 | O33: ='Doplňková činnost'!AO33 -> 0 | P33: ='Hlavní činnost'!Z33 -> 0 | Q33: ='Doplňková činnost'!AP33 -> 0
B34: Spotřeba energie | E34: 502 | H34: ='Hlavní činnost'!G34 -> 700000 | I34: ='Doplňková činnost'!G34 -> 4000 | J34: ='Hlavní činnost'!O34 -> 547000 | K34: ='Doplňková činnost'!W34 -> 4000 | L34: ='Hlavní činnost'!X34 -> -153000 | M34: ='Doplňková činnost'!AN34 -> 0 | N34: ='Hlavní činnost'!Y34 -> 578000 | O34: ='Doplňková činnost'!AO34 -> 4000 | P34: ='Hlavní činnost'!Z34 -> 609000 | Q34: ='Doplňková činnost'!AP34 -> 4000
B35: z toho: | C35: vodné a stočné, včetně srážkové vody | E35: 502 | F35: 030X | G35: 000X | H35: ='Hlavní činnost'!G35 -> 50000 | I35: ='Doplňková činnost'!G35 -> 1000 | J35: ='Hlavní činnost'!O35 -> 52000 | K35: ='Doplňková činnost'!W35 -> 1000 | L35: ='Hlavní činnost'!X35 -> 2000 | M35: ='Doplňková činnost'!AN35 -> 0 | N35: ='Hlavní činnost'!Y35 -> 54000 | O35: ='Doplňková činnost'!AO35 -> 1000 | P35: ='Hlavní činnost'!Z35 -> 56000 | Q35: ='Doplňková činnost'!AP35 -> 1000
C36: teplo a pára | F36: 031X | G36: 001X | H36: ='Hlavní činnost'!G36 -> 500000 | I36: ='Doplňková činnost'!G36 -> 2000 | J36: ='Hlavní činnost'!O36 -> 360000 | K36: ='Doplňková činnost'!W36 -> 2000 | L36: ='Hlavní činnost'!X36 -> -140000 | M36: ='Doplňková činnost'!AN36 -> 0 | N36: ='Hlavní činnost'!Y36 -> 384000 | O36: ='Doplňková činnost'!AO36 -> 2000 | P36: ='Hlavní činnost'!Z36 -> 408000 | Q36: ='Doplňková činnost'!AP36 -> 2000
C37: plyn (ne mediciální) | F37: 032X | G37: 002X | H37: ='Hlavní činnost'!G37 -> 0 | I37: ='Doplňková činnost'!G37 -> 0 | J37: ='Hlavní činnost'!O37 -> 0 | K37: ='Doplňková činnost'!W37 -> 0 | L37: ='Hlavní činnost'!X37 -> 0 | M37: ='Doplňková činnost'!AN37 -> 0 | N37: ='Hlavní činnost'!Y37 -> 0 | O37: ='Doplňková činnost'!AO37 -> 0 | P37: ='Hlavní činnost'!Z37 -> 0 | Q37: ='Doplňková činnost'!AP37 -> 0
C38: elektrická energie | F38: 033X | G38: 003X | H38: ='Hlavní činnost'!G38 -> 150000 | I38: ='Doplňková činnost'!G38 -> 1000 | J38: ='Hlavní činnost'!O38 -> 135000 | K38: ='Doplňková činnost'!W38 -> 1000 | L38: ='Hlavní činnost'!X38 -> -15000 | M38: ='Doplňková činnost'!AN38 -> 0 | N38: ='Hlavní činnost'!Y38 -> 140000 | O38: ='Doplňková činnost'!AO38 -> 1000 | P38: ='Hlavní činnost'!Z38 -> 145000 | Q38: ='Doplňková činnost'!AP38 -> 1000
C39: ostatní | H39: ='Hlavní činnost'!G39 -> 0 | I39: ='Doplňková činnost'!G39 -> 0 | J39: ='Hlavní činnost'!O39 -> 0 | K39: ='Doplňková činnost'!W39 -> 0 | L39: ='Hlavní činnost'!X39 -> 0 | M39: ='Doplňková činnost'!AN39 -> 0 | N39: ='Hlavní činnost'!Y39 -> 0 | O39: ='Doplňková činnost'!AO39 -> 0 | P39: ='Hlavní činnost'!Z39 -> 0 | Q39: ='Doplňková činnost'!AP39 -> 0
B40: Spotřeba jiných neskladovaných dodávek | E40: 503 | H40: ='Hlavní činnost'!G40 -> 0 | I40: ='Doplňková činnost'!G40 -> 0 | J40: ='Hlavní činnost'!O40 -> 0 | K40: ='Doplňková činnost'!W40 -> 0 | L40: ='Hlavní činnost'!X40 -> 0 | M40: ='Doplňková činnost'!AN40 -> 0 | N40: ='Hlavní činnost'!Y40 -> 0 | O40: ='Doplňková činnost'!AO40 -> 0 | P40: ='Hlavní činnost'!Z40 -> 0 | Q40: ='Doplňková činnost'!AP40 -> 0
B41: Prodané zboží | E41: 504 | H41: ='Hlavní činnost'!G41 -> 0 | I41: ='Doplňková činnost'!G41 -> 0 | J41: ='Hlavní činnost'!O41 -> 0 | K41: ='Doplňková činnost'!W41 -> 0 | L41: ='Hlavní činnost'!X41 -> 0 | M41: ='Doplňková činnost'!AN41 -> 0 | N41: ='Hlavní činnost'!Y41 -> 0 | O41: ='Doplňková činnost'!AO41 -> 0 | P41: ='Hlavní činnost'!Z41 -> 0 | Q41: ='Doplňková činnost'!AP41 -> 0
B42: Aktivace dlouhodobého majetku | E42: 506 | H42: ='Hlavní činnost'!G42 -> 0 | I42: ='Doplňková činnost'!G42 -> 0 | J42: ='Hlavní činnost'!O42 -> 0 | K42: ='Doplňková činnost'!W42 -> 0 | L42: ='Hlavní činnost'!X42 -> 0 | M42: ='Doplňková činnost'!AN42 -> 0 | N42: ='Hlavní činnost'!Y42 -> 0 | O42: ='Doplňková činnost'!AO42 -> 0 | P42: ='Hlavní činnost'!Z42 -> 0 | Q42: ='Doplňková činnost'!AP42 -> 0
B43: z toho: | C43: aktivace dlouhodobého hmotného majetku | E43: 506 | F43: 030X | G43: 000X | H43: ='Hlavní činnost'!G43 -> 0 | I43: ='Doplňková činnost'!G43 -> 0 | J43: ='Hlavní činnost'!O43 -> 0 | K43: ='Doplňková činnost'!W43 -> 0 | L43: ='Hlavní činnost'!X43 -> 0 | M43: ='Doplňková činnost'!AN43 -> 0 | N43: ='Hlavní činnost'!Y43 -> x | O43: ='Doplňková činnost'!AO43 -> x | P43: ='Hlavní činnost'!Z43 -> x | Q43: ='Doplňková činnost'!AP43 -> x
C44: aktivace dlouhodobého nehmotného majetku | F44: 031X | G44: 001X | H44: ='Hlavní činnost'!G44 -> 0 | I44: ='Doplňková činnost'!G44 -> 0 | J44: ='Hlavní činnost'!O44 -> 0 | K44: ='Doplňková činnost'!W44 -> 0 | L44: ='Hlavní činnost'!X44 -> 0 | M44: ='Doplňková činnost'!AN44 -> 0 | N44: ='Hlavní činnost'!Y44 -> x | O44: ='Doplňková činnost'!AO44 -> x | P44: ='Hlavní činnost'!Z44 -> x | Q44: ='Doplňková činnost'!AP44 -> x
C45: ostatní | H45: ='Hlavní činnost'!G45 -> 0 | I45: ='Doplňková činnost'!G45 -> 0 | J45: ='Hlavní činnost'!O45 -> 0 | K45: ='Doplňková činnost'!W45 -> 0 | L45: ='Hlavní činnost'!X45 -> 0 | M45: ='Doplňková činnost'!AN45 -> 0 | N45: ='Hlavní činnost'!Y45 -> x | O45: ='Doplňková činnost'!AO45 -> x | P45: ='Hlavní činnost'!Z45 -> x | Q45: ='Doplňková činnost'!AP45 -> x
B46: Aktivace oběžného majetku | E46: 507 | H46: ='Hlavní činnost'!G46 -> 0 | I46: ='Doplňková činnost'!G46 -> 0 | J46: ='Hlavní činnost'!O46 -> 0 | K46: ='Doplňková činnost'!W46 -> 0 | L46: ='Hlavní činnost'!X46 -> 0 | M46: ='Doplňková činnost'!AN46 -> 0 | N46: ='Hlavní činnost'!Y46 -> 0 | O46: ='Doplňková činnost'!AO46 -> 0 | P46: ='Hlavní činnost'!Z46 -> 0 | Q46: ='Doplňková činnost'!AP46 -> 0
B47: Změna stavu zásob vlastní výroby | E47: 508 | H47: ='Hlavní činnost'!G47 -> 0 | I47: ='Doplňková činnost'!G47 -> 0 | J47: ='Hlavní činnost'!O47 -> 0 | K47: ='Doplňková činnost'!W47 -> 0 | L47: ='Hlavní činnost'!X47 -> 0 | M47: ='Doplňková činnost'!AN47 -> 0 | N47: ='Hlavní činnost'!Y47 -> 0 | O47: ='Doplňková činnost'!AO47 -> 0 | P47: ='Hlavní činnost'!Z47 -> 0 | Q47: ='Doplňková činnost'!AP47 -> 0
...

Sheet Pokyny
A2: Pokyny pro vyplňování tabulek :
B4: 1. | C4: V jednotlivých listech formuláře vyplňujeme pouze bílá políčka !
C5: PO doplní Návrh rozpočtu na rok 2025 a Návrh střednědobého výhledu na rok 2026 a 2027. V případě sestavování střednědobého výhledu na rok 2026 a 2027 ze strany PO jsou vyplňovány pouze vybrané položky.
B6: 2. | C6: VPO předem doplní název PO, ORG PO, skutečnost 2019 (hlavní, doplňková činnost), skutečnost 2020 (hlavní, doplňková činnost), rozpis schváleného příspěvku 2023, dříve rozpis SR 2023 (hlavní, doplňková činnost).
B7: 2. | C7: Návrh rozpočtu na rok 2025 a Návrh střednědobého výhledu na rok 2026 a 2027 je třeba uvést v Kč zaokrouhlených na tis. Kč (tj. 25 325 Kč bude v návrhu rozpočtu uvedeno jako 25 000 Kč). V případě, že vyplňované údaje nebudou uvedeny v požadovaném zaokrouhlení, bude PO upozorněna hlášením "POZOR ÚDAJE NÁVRHU ROZPOČTU 2025 je třeba zaokrouh. na tis. Kč".
C13: V případě účtu 551 Odpisy dlouhodobého majetku je třeba částku zaokrouhlit na tis. Kč nahoru (např. výše odpisů 124 178 Kč bude v návrhu rozpočtu zaokrouhlena na 125 000,- Kč).
C14: U závazného ukazatele Závazky vůči zřizovateli / odvod z FI - odpisy / je třeba částku zaokrouhlit, a to matematicky. Při výpočtu odvodů je třeba vycházet z částky uvedené v návrhu rozpočtu a střednědobého výhledu zaokrouhlené na tis. Kč.
C15: Údaje neuvádět na desetinná místa! Výjimkou je průměrný přepočtený počet pracovníků, který je třeba uvést na 2 deset. místa.
B16: 3. | C16: PO ze sociální oblasti sestavují svůj rozpočet dle jednotlivých poskytovaných služeb (např. pro domovy se zvláštním režimem, domovy pro seniory, atd.). Při sestavování Návrhu rozpočtu 2025, střednědobého výhledu uvádějte dotaci z MPSV ve výši roku 2024, a to ve výnosech i nákladech. V případě, že je již známa skutečnost, která ovlivní výši příspěvku, je třeba ji zapracovat do návrhu rozpočtu, popř. střednědobého výhledu na rok 2026 a 2027 (např. ukončení sociální služby, snížení kapacity atd. ...)..
C17: Příspěvková organizace SSOK sestaví svůj rozpočet dle jednotlivých středisek.
C18: PO z kulturní oblasti sestavují svůj rozpočet dle jednotlivých objektů (např. pro Vlastivědné muzeum v Olomouci bude text k objektu - nám. Republiky, Olomouc , atd.).
C19: Příspěvkové organizace ze zdravotní oblasti sestavují svůj rozpočet dle jednotlivých poskytovaných služeb (např. Následná lůžková péče, Rehabilitační léčebna, atd..).
C20: PO za oblast školství sestavují svůj rozpočet dle ORJ (např. ORJ 0103 Gymnázium). Prostředky z MŠMT je třeba uvést i do návrhu rozpočtu na rok 2025 i střednědobého výhledu. Při plánování rozpočtu 2025, střednědobého výhledu uvádějte dotaci z MŠMT, a to ve výnosech i nákladech. V případě, že je již známa skutečnost, která ovlivní výši příspěvku, je třeba ji zapracovat do návrhu rozpočtu, popř. střednědobého výhledu na rok 2026 a 2027 (např. zrušení části PO atd. ...)..Do roku 2025, popř. střednědobého výhledu uvádějte pouze pravidelně se opakující účelové dotace z MŠMT (např. asistenti pro žáky ze sociálně znevýhodněného prostředí, atd.).
B21: 4. | C21: Doplňkovou činnost je třeba rozpočtovat na jednotlivé druhy doplňkové činnosti, tak jak jsou uvedeny ve zřizovací listině příspěvkové organizace, a to pouze v případě kdy PO uvedenou doplňkovou činnost provozuje, popř. plánuje provozovat v roce 2025. Pokud schválená DČ nebude v následujících letech provozována, do dokumentů ji nevyplňujte.
B22: 5. | C22: Tabulka - list "rekapitulace" je pouze součtová, není třeba nic doplňovat a z tohoto důvodu je uzamčená. Do uvedené tabulky se přenáší automaticky data z předchozích listů.
A24: Stručný přehled změn :
C25: - od 1. 1. 2018 u účtu 511 Opravy a udržování došlo ke změně dolní hranice, a to z 40 tis. Kč na 100 tis. Kč (viz. Zásady řízení PO zřizovaných Olomouckým krajem),
C26: - od 1. 1. 2019 změna u účtu - předměty nakoupené do sbírky muzejní povahy oceněné 1,- Kč (SÚ 558, AU 033X) ( účet již není rozpočtován).
C27: - od 1. 1. 2019 změna v obsahovém vymezení účtů:
C28: - SÚ 672 (UZ 00 300)
C29: příspěvek na provoz – "očištěný" od nákladů, které souvisí se mzdovými náklady včetně zákonných odvodů a účelových příspěvků, jako jsou odpisy a další účelové příspěvky.
C30: - SÚ 672 (UZ 00 301)
C31: příspěvek na provoz – mzdové náklady. Příspěvek určený na krytí mzdových nákladů (tarifní platy, osobní příplatky, příplatky za vedení, odměny apod., včetně zákonných odvodů sociálního a zdravotního pojištění a dalších nákladů souvisejících se mzdovými prostředky, příspěvek do FKSP).
C32: Závazný ukazatel limit mzdových prostředků zůstává beze změn.
C33: - změna kategorií v oblasti položky 511 (viz směrnice OK č.8/2021 upravující vztahy Olomouckého kraje a zřizovaných příspěvkových organizací a vybrané povinnosti ředitelů příspěvkových organizací). Účinnost směrnice od 1.3.2022.
C35: Původní kategorie účtu 511 - opravy a udržování nemovitého majetku do 100 tis. Kč; nemovitého majetku od 100 tis. do 500 tis. Kč; nemovitého majteku nad 500 tis.Kč nahrazeny ketogoriemi - opravy a udržování nemovitého majetku do 200 tis. Kč; nemovitého majetku nad 200 tis. Kč. Ostatní kategorie účtu 511 jsou ponechány beze změny.
C37: Účet 511 - opravy a udržování nemovitého majetku do 100 tis. Kč (AU 034X, 004X) nahrazen účtem 511 - opravy a udržování nemovitého majetku do 200 tis. Kč (AU 034X, 004X) (viz ř.č.54 Tabulka Hlavní činnost, ř.č. 54 -Tabulka Doplňková činnost, ř.č. 54 Tabulka Rekapitulace)
C39: Účet 511 - opravy a udržování nemovitého majetku od 100 tis. Kč do 500 tis. Kč (AU 030X, 000X) ř.č.55 a nemovitého majetku nad 500 tis. Kč (AU 031X,001X) ř.č. 56 nahrazen účtem 511 - opravy a udržování nemovitého majetku nad 200 tis. Kč (AU 030X, 031X, 000X, 001X) ř.č.56 (viz Tabulka Hlavní činnost, Tabulka Doplňková činnost, Tabulka Rekapitulace).
... C45: - v roce 2023 v návaznosti na rozhodnutí vedení OK použit, v rámci energeticky úsporných opatření příspěvkovým organizacím, nový účelový příspěvek, a to UZ 315 Příspěvek na energeticky úsporná opatření.

Sheet Technické pokyny
A1: Technické údaje:
B3: Úvodní list
B5: Po vybrání příslušného ORG (čtyřmístné číslo) ze seznamu budou údaje "Oblast poskytování služeb", "Název příspěvkové organizace", "Sídlo - adresa" a "IČ" automaticky vygenerovány. Identifikačních údaje /název zařízení, adresa, IČ atd. / budou automaticky přeneseny do navazujících tabulek. Tyto údaje jsou doplněny ekonomickým odborem.
B32: V případě, že došlo ke změně názvu PO, adresy a tato skutečnost nebyla promítnuta do databáze PO je možno tuto skutečnost uvést pod hlavičkou PO (viz Pozn.). Tento údaj bude následně přenesen i do navazujících tabulek v rámci poznámky.
B36: Ostatní tabulky - Hlavní činnost, Doplňková činnost
B37: Příspěvkové organizaci jsou přebytečné sloupce skryty. V případě, že PO si bude chtít vytisknout pouze vybrané sloupce je možno "přebytečné" sloupce skrýt, popř. znovu zobrazit.
B40: - funkce skrýt přebytečné sloupce
C41: v případě, že tabulka obsahuje větší počet sloupců, než příspěvková organizace potřebuje, je možno tyto skrýt (myší si ve sl. skrýt sloupce označím počet sloupců (změní barvu), pravým tlačítkem myši kliknu na "žlutě" zvýrazněnou lištu ( a použiji funkci skrýt (pravá strana myši). V případě že potřebuji tyto sloupce opět rozbalit postupuji stejně pouze použiji funkci zobrazit.
A43: Příklad:
A44: 1. Označím sloupce ( např. sl. G až sl.M)
A64: 2. Pravým tlačítkem myši kliknout na zvýrazněné sloupce a použít funkci skrýt, popř. zobrazit (pravá strana myši)

Sheet Základ
A1: ORG | B1: Název příspěvkové organizace | C1: Údaje opraveny k 10.10.2022 (poslední změna Zastup. 27.6.2022), změna na základě upozornění PO 14.10.22, změna SPŠE a OA Mohelnice na Střední průmyslovou školu elektrotechniky a informatiky Mohelnice,od 1.9.2023, změna Ostrůvek od 1.1,2024 (oblast sociální).Změna názvu PO od 1.9.2024 Střední škola grafiky a médií Olomouc, Střední novosadská 87/53 (UZ /19/49/2024 ze dne 29.4.2024)-původní název Střední škola polygrafická, Olomouc, Střední novosadská 87/53. Změna názvu PO od 1.9.2024 Střední škola technických profesí Olomouc, Kosinova 4 (UZ /19/49/2024 ze dne 29.4.2024) - původní název Střední škola technická a obchodní, Olomouc, Kosinova 4
C2: Adresa | D2: IČ | E2: Oblast
A4: 1001 | B4: Mateřská škola Olomouc, Blanická 16 | C4: Blanická 471/16, Hodolany, 779 00 Olomouc | D4: 66181500 | E4: Oblast školství, Okres Olomouc | F4: Změna v sídle PO, dle Rejstříku škol Zastupitelstvo 14.2.2022 -původní adresa Blanická 16, 772 00 Olomouc- nové sídlo: 779 00 Olomouc, Hodolany, Blanická 471/16
A5: 1012 | B5: Základní škola a Mateřská škola logopedická Olomouc | C5: tř. Svornosti 900/37, Nová Ulice, 779 00 Olomouc | D5: 00601683 | E5: Oblast školství, Okres Olomouc | F5: Změna v sídle PO, dle Rejstříku škol Zastupitelstvo 14.2.2022 -původní adresa třída Svornosti 37/900, 779 00 Olomouc- nové sídlo: 779 00 Olomouc, Nová Ulice, tř. Svornosti 900/37
A6: 1015 | B6: Střední škola, Základní škola a Mateřská škola prof. V. Vejdovského Olomouc - Hejčín | C6: Tomkova 411/42, Hejčín, 779 00 Olomouc | D6: 00601691 | E6: Oblast školství, Okres Olomouc | F6: Změna v sídle PO, dle Rejstříku škol Zastupitelstvo 14.2.2022 -původní adresa Tomkova 42, 779 00 Olomouc - nové sídlo: 779 00 Olomouc, Hejčín, Tomkova 411/42
A7: 1016 | B7: Střední škola, Základní škola a Mateřská škola Prostějov, Komenského 10 | C7: Komenského 80/10, 796 01 Prostějov | D7: 47921374 | E7: Oblast školství, Okres Prostějov | F7: Adresa - doplněna na základě kontroly na ZL.
A8: 1017 | B8: Dětský domov a Školní jídelna Prostějov | C8: Lidická 3313/86, 796 01 Prostějov | D8: 47922265 | E8: Oblast školství, Okres Prostějov | F8: Změna v sídle PO, dle Rejstříku škol Zastupitelstvo 14.2.2022 -původní adresa Lidická 86, 796 01 Prostějov - nové sídlo: 796 01 Prostějov, Lidická 3313/86
A9: 1022 | B9: Základní škola a Mateřská škola při lázních, Velké Losiny | C9: Lázeňská 240, 788 15 Velké Losiny | D9: 70626561 | E9: Oblast školství, Okres Šumperk
A10: 1024 | B10: Střední škola, Základní škola a Mateřská škola Mohelnice, Masarykova 4 | C10: Masarykova 434/4, 789 85 Mohelnice | D10: 60341777 | E10: Oblast školství, Okres Šumperk | F10: Změna v sídle PO, dle Rejstříku škol Zastupitelstvo 14.2.2022 -původní adresa Masarykova 4, 789 85 Mohelnice - nové sídlo: 789 85 Mohelnice, Masarykova 434/4
A11: 1025 | B11: Základní škola a Mateřská škola při Priessnitzových léčebných lázních a.s., Jeseník | C11: Kalvodova 360/66, 790 01 Jeseník | D11: 68911921 | E11: Oblast školství, Okres Jeseník | F11: Změna v sídle PO, dle Rejstříku škol Zastupitelstvo 14.2.2022 -původní adresa Kalvodova 360, 790 03 Jeseník - nové sídlo: 790 01 Jeseník, Kalvodova 360/66
A12: 1026 | B12: Základní škola a Mateřská škola při Sanatoriu Edel Zlaté Hory | C12: Lázeňská 491, 793 76 Zlaté Hory | D12: 68911947 | E12: Oblast školství, Okres Jeseník
A13: 1032 | B13: Základní škola Šternberk, Olomoucká 76 | C13: Olomoucká 2098/76, 785 01 Šternberk | D13: 61989789 | E13: Oblast školství, Okres Olomouc | F13: Změna v sídle PO, dle Rejstříku škol Zastupitelstvo 14.2.2022 -původní adresa Olomoucká 76/2098, 785 01 Šternberk - nové sídlo: 785 01 Šternberk, Olomoucká 2098/76
A14: 1033 | B14: Základní škola Uničov, Šternberská 456 | C14: Šternberská 456, 783 91 Uničov | D14: 61989762 | E14: Oblast školství, Okres Olomouc
A15: 1034 | B15: Základní škola, Dětský domov a Školní jídelna Litovel | C15: Palackého 938/30a, 784 01 Litovel | D15: 61989771 | E15: Oblast školství, Okres Olomouc | F15: Změna v sídle PO, dle Rejstříku škol Zastupitelstvo 14.2.2022 -původní adresa Palackého 938, 784 01 Litovel - nové sídlo:784 01 Litovel, Palackého 938/30a
A16: 1036 | B16: Základní škola a Mateřská škola Hranice, Studentská 1095 | C16: Studentská 1095, Hranice I-Město, 753 01 Hranice | D16: 61985988 | E16: Oblast školství, Okres Přerov | F16: Změna v sídle PO, dle Rejstříku škol Zastupitelstvo 14.2.2022 -původní adresa Studentská 1095, 753 01 Hranice - nové sídlo: 7753 01 Hranice, Hranice I-Město, Studentská 1095
A17: 1037 | B17: Střední škola, Základní škola a Mateřská škola Přerov, Malá Dlážka 4 | C17: Malá Dlážka 589/4, Přerov I-Město, 750 05 Přerov | D17: 49558978 | E17: Oblast školství, Okres Přerov | F17: Změna v sídle PO, dle Rejstříku škol Zastupitelstvo 14.2.2022 -původní adresa Malá Dlážka 4, 750 05 Přerov - nové sídlo: 750 02 Přerov, Přerov I-Město, Malá Dlážka 589/4
A18: 1038 | B18: Střední škola, Základní škola a Mateřská škola Lipník nad Bečvou, Osecká 301 | C18: Osecká 301/2, Lipník nad Bečvou I-Město, 751 31 Lipník nad Bečvou | D18: 61985953 | E18: Oblast školství, Okres Přerov | F18: Změna v sídle PO, dle Rejstříku škol Zastupitelstvo 14.2.2022 -původní adresa Osecká 301, 751 31 Lipník nad Bečvou - nové sídlo: 751 31 Lipník nad Bečvou, Lipník nad Bečvou I-Město, Osecká 301/2
A19: 1040 | B19: Střední škola, Základní škola a Mateřská škola Šumperk, Hanácká 3 | C19: Hanácká 145/3, 787 01 Šumperk | D19: 49589768 | E19: Oblast školství, Okres Šumperk | F19: Změna v sídle PO, dle Rejstříku škol Zastupitelstvo 14.2.2022 -původní adresa Hanácká 3, 787 01 Šumperk - nové sídlo: 787 01 Šumperk, Hanácká 145/3
A20: 1041 | B20: Střední škola, Základní škola, Mateřská škola a Dětský domov Zábřeh | C20: Sušilova 1912/40, 789 01 Zábřeh | D20: 49589725 | E20: Oblast školství, Okres Šumperk | F20: Změna v sídle PO, dle Rejstříku škol Zastupitelstvo 14.2.2022 -původní adresa Sušilova 40, 789 01 Zábřeh - nové sídlo: 789 01 Zábřeh, Sušilova 1912/40
A21: 1043 | B21: Základní škola a Mateřská škola Jeseník, Fučíkova 312 | C21: Fučíkova 312/10, 790 01 Jeseník | D21: 68911513 | E21: Oblast školství, Okres Jeseník | F21: Změna v sídle PO, dle Rejstříku škol Zastupitelstvo 14.2.2022 -původní adresa Fučíkova 312, 790 01 Jeseník- nové sídlo: 790 01 Jeseník, Fučíkova 312/10
A22: 1100 | B22: Gymnázium Jana Opletala, Litovel, Opletalova 189 | C22: Opletalova 189/4, 784 01 Litovel | D22: 00601772 | E22: Oblast školství, Okres Olomouc | F22: Změna v sídle PO, dle Rejstříku škol Zastupitelstvo 14.2.2022 -původní adresa Opletalova 189, 784 01 Litovel- nové sídlo: 784 01 Litovel, Opletalova 189/4
A23: 1101 | B23: Gymnázium, Olomouc, Čajkovského 9 | C23: Čajkovského 68/9, Nová Ulice, 779 00 Olomouc | D23: 00848956 | E23: Oblast školství, Okres Olomouc | F23: Změna v sídle PO, dle Rejstříku škol Zastupitelstvo 14.2.2022 -původní adresa Čajkovského 9, 779 00 Olomouc- nové sídlo: 7779 00 Olomouc, Nová Ulice, Čajkovského 68/9
A24: 1102 | B24: Slovanské gymnázium, Olomouc, tř. Jiřího z Poděbrad 13 | C24: Jiřího z Poděbrad 936/13, 779 00 Olomouc | D24: 00601781 | E24: Oblast školství, Okres Olomouc | F24: Změna v sídle PO, dle Rejstříku škol Zastupitelstvo 14.2.2022 -původní tř. Jiřího z Poděbrad 13,779 00 Olomouc- nové sídlo: 779 00 Olomouc, Jiřího z Poděbrad 936/13
A25: 1103 | B25: Gymnázium, Olomouc - Hejčín, Tomkova 45 | C25: Tomkova 314/45, Hejčín, 779 00 Olomouc | D25: 00601799 | E25: Oblast školství, Okres Olomouc | F25: Změna v sídle PO, dle Rejstříku škol Zastupitelstvo 14.2.2022 -původní adresa Tomkova 45, 779 00 Olomouc- nové sídlo: 779 00 Olomouc, Hejčín, Tomkova 314/45
A26: 1104 | B26: Gymnázium, Šternberk, Horní náměstí 5 | C26: Horní náměstí 167/5, 785 01 Šternberk | D26: 00601764 | E26: Oblast školství, Okres Olomouc | F26: Změna v sídle PO, dle Rejstříku škol Zastupitelstvo 14.2.2022 -původní adresa Horní náměstí 5, 785 01 Šternberk- nové sídlo: 785 01 Šternberk, Horní náměstí 167/5
A27: 1105 | B27: Gymnázium, Uničov, Gymnazijní 257 | C27: Gymnazijní 257, 783 91 Uničov | D27: 00601756 | E27: Oblast školství, Okres Olomouc
A28: 1106 | B28: Gymnázium Jiřího Wolkera, Prostějov, Kollárova 3 | C28: Kollárova 2602/3, 796 01 Prostějov | D28: 47922206 | E28: Oblast školství, Okres Prostějov | F28: Změna v sídle PO, dle Rejstříku škol Zastupitelstvo 14.2.2022 -původní adresa Kollárova 3, 796 01 Prostějov nové sídlo 796 01 Prostějov, Kollárova 2602/3
A29: 1108 | B29: Gymnázium Jakuba Škody, Přerov, Komenského 29 | C29: Komenského 800/29, Přerov I-Město, 750 02 Přerov | D29: 00842966 | E29: Oblast školství, Okres Přerov | F29: Změna v sídle PO, dle Rejstříku škol Zastupitelstvo 14.2.2022 -původní adresa Komenského 29, 750 11 Přerov- nový název 750 02 Přerov, Přerov I-Město, Komenského 800/29
A30: 1109 | B30: Gymnázium, Hranice, Zborovská 293 | C30: Zborovská 293, Hranice I-Město, 753 01 Hranice | D30: 70259909 | E30: Oblast školství, Okres Přerov | F30: Změna v sídle PO, dle Rejstříku škol Zastupitelstvo 14.2.2022 -původní adresa Zborovská 293, 753 11 Hranice- nové sídlo: 753 01 Hranice, Hranice I-Město, Zborovská 293
A31: 1110 | B31: Gymnázium, Kojetín, Svatopluka Čecha 683 | C31: Svatopluka Čecha 683, Kojetín I-Město, 752 01 Kojetín | D31: 70259861 | E31: Oblast školství, Okres Přerov | F31: Změna v sídle PO, dle Rejstříku škol Zastupitelstvo 14.2.2022 -původní adresa Svatopluka Čecha 683, 752 01 Kojetín- nové sídlo: 752 01 Kojetín, Kojetín I-Město, Svatopluka Čecha 683
A32: 1111 | B32: Gymnázium, Šumperk, Masarykovo náměstí 8 | C32: Masarykovo náměstí 1207/8, 787 01 Šumperk | D32: 49589792 | E32: Oblast školství, Okres Šumperk | F32: Změna v sídle PO, dle Rejstříku škol Zastupitelstvo 14.2.2022 -původní adresa Masarykovo náměstí 8, 787 58 Šumperk- nové sídlo: 787 01 Šumperk, Masarykovo náměstí 1207/8
A33: 1112 | B33: Gymnázium, Zábřeh, náměstí Osvobození 20 | C33: náměstí Osvobození 257/20, 789 01 Zábřeh | D33: 49589687 | E33: Oblast školství, Okres Šumperk | F33: Změna v sídle PO, dle Rejstříku škol Zastupitelstvo 14.2.2022 -původní adresa náměstí Osvobození 20, 789 01 Zábřeh- nové sídlo:789 01 Zábřeh, náměstí Osvobození 257/20
A34: 1113 | B34: Gymnázium, Jeseník, Komenského 281 | C34: Komenského 281/3, 790 01 Jeseník | D34: 60045141 | E34: Oblast školství, Okres Jeseník | F34: Změna v sídle PO, dle Rejstříku škol Zastupitelstvo 14.2.2022 -původní adresa Komenského 281, 790 01 Jeseník - nové sídlo:790 01 Jeseník, Komenského 281/3
A35: 1120 | B35: Vyšší odborná škola a Střední průmyslová škola elektrotechnická, Olomouc, Božetěchova 3 | C35: Božetěchova 755/3, Hodolany, 779 00 Olomouc | D35: 00844012 | E35: Oblast školství, Okres Olomouc | F35: Adresa - doplněna na základě kontroly na ZL.
A36: 1121 | B36: Střední průmyslová škola strojnická Olomouc | C36: 17. listopadu 995/49, 779 00 Olomouc | D36: 00601748 | E36: Oblast školství, Okres Olomouc
A37: 1122 | B37: Střední průmyslová škola a Střední odborné učiliště Uničov | C37: Školní 164, 783 91 Uničov | D37: 00601730 | E37: Oblast školství, Okres Olomouc
A38: 1123 | B38: Střední škola zemědělská a zahradnická, Olomouc, U Hradiska 4 | C38: U Hradiska 7/4, Klášterní Hradisko, 779 00 Olomouc | D38: 00602035 | E38: Oblast školství, Okres Olomouc | F38: Adresa - doplněna na základě kontroly na ZL.
A39: 1125 | B39: Střední škola designu a módy, Prostějov | C39: Vápenice 2986/1, 796 01 Prostějov | D39: 47922061 | E39: Oblast školství, Okres Prostějov | F39: Změna v sídle PO, dle Rejstříku škol Zastupitelstvo 14.2.2022 -původní adresa Vápenice 1, 796 62 Prostějov- nové sídlo: 796 01 Prostějov, Vápenice 2986/1
A40: 1126 | B40: Střední odborná škola průmyslová a Střední odborné učiliště strojírenské, Prostějov, Lidická 4 | C40: Lidická 1686/4, 796 01 Prostějov | D40: 69650721 | E40: Oblast školství, Okres Prostějov
A41: 1127 | B41: Švehlova střední škola polytechnická Prostějov | C41: nám. Spojenců 2555/17, 796 01 Prostějov | D41: 00566896 | E41: Oblast školství, Okres Prostějov | F41: Změna v sídle PO, dle Rejstříku škol Zastupitelstvo 14.2.2022 -původní adresa nám. Spojenců 17, 796 01 Prostějov- nové sídlo: 796 01 Prostějov, nám. Spojenců 2555/17
...
